BEGIN:VCALENDAR
VERSION:2.0
PRODID:-//Magyar Logisztikai, Beszerzési és Készletezési Társaság - ECPv6.15.16//NONSGML v1.0//EN
CALSCALE:GREGORIAN
METHOD:PUBLISH
X-ORIGINAL-URL:https://logisztika.hu
X-WR-CALDESC:Események Magyar Logisztikai, Beszerzési és Készletezési Társaság
REFRESH-INTERVAL;VALUE=DURATION:PT1H
X-Robots-Tag:noindex
X-PUBLISHED-TTL:PT1H
BEGIN:VTIMEZONE
TZID:Europe/Helsinki
BEGIN:DAYLIGHT
TZOFFSETFROM:+0200
TZOFFSETTO:+0300
TZNAME:EEST
DTSTART:20220327T010000
END:DAYLIGHT
BEGIN:STANDARD
TZOFFSETFROM:+0300
TZOFFSETTO:+0200
TZNAME:EET
DTSTART:20221030T010000
END:STANDARD
BEGIN:DAYLIGHT
TZOFFSETFROM:+0200
TZOFFSETTO:+0300
TZNAME:EEST
DTSTART:20230326T010000
END:DAYLIGHT
BEGIN:STANDARD
TZOFFSETFROM:+0300
TZOFFSETTO:+0200
TZNAME:EET
DTSTART:20231029T010000
END:STANDARD
BEGIN:DAYLIGHT
TZOFFSETFROM:+0200
TZOFFSETTO:+0300
TZNAME:EEST
DTSTART:20240331T010000
END:DAYLIGHT
BEGIN:STANDARD
TZOFFSETFROM:+0300
TZOFFSETTO:+0200
TZNAME:EET
DTSTART:20241027T010000
END:STANDARD
END:VTIMEZONE
BEGIN:VEVENT
DTSTART;TZID=Europe/Helsinki:20230927T000000
DTEND;TZID=Europe/Helsinki:20230928T235959
DTSTAMP:20260421T124849
CREATED:20230815T121408Z
LAST-MODIFIED:20230817T085911Z
UID:86743-1695772800-1695945599@logisztika.hu
SUMMARY:Meghívó a WOF & BUD Cargo Forumra
DESCRIPTION:Az idei WOF & BUD Cargo Forumon páratlan élményt szerezhet a logisztikai és ellátási lánc területeiről.\n   \n\n\n\nA Budapest Airport ikonikus 1. Terminálján 2023. szeptember 27-28. között megrendezésre kerülő esemény az inspirációt\, tudást és növekedést kereső logisztikai és ellátási lánc szakemberek számára nyújt tökéletes platformot\, tapasztalati szinttől függetlenül. \n   \n\n\n\nAz egyik fő fókuszpont a KIÁLLÍTÁSI TERÜLET\, ahol a piacvezetők legújabb megoldásait\, technológiáit és szolgáltatásait mutatja be. \n   \n\n\n\nA KONFERENCIA napirendje nyolc érdekfeszítő\, a digitalizációval\, a fenntarthatósággal\, az intermodalitással\, az e-kereskedelemmel és más témákkal foglalkozó panelt tartalmaz\, amelyeken iparági szakértők osztják meg értékes meglátásaikat. \n   \n\n\n\nAz Európa Hajó fedélzetén megrendezett DÍJÁTADÓ & JÓTÉKONYSÁGI gálaest pedig a fenntarthatóság és a társadalmi felelősségvállalás iránti elkötelezett közösséget erősíti. Az eseményen nagy hangsúlyt kap a kapcsolatépítés\, és páratlan lehetőséget biztosít az iparági szakemberek számára\, hogy találkozzanak és bővítsék kapcsolatrendszerüket. \n   \n\n\n\nCsatlakozzon hozzánk ezen a kétnapos rendezvényen\, amelyen a Cainaio\, a DHL\, az IKEA\, a Qatar Airways\, a Maersk\, a Bosch\, a Huawei\, a DSV\, stb. képviselői is részt vesznek. \n   \n\n\n\nFuvarozók számára a belépés INGYENES! \n  \nSzervezők: Budapest Airport és WOF Group  \n\n\n\nTovábbi információ:  https://wofexpo.com/
URL:https://logisztika.hu/rendezveny/meghivo-a-wof-bud-cargo-forumra/
ATTACH;FMTTYPE=image/png:https://logisztika.hu/wp-content/uploads/2023/08/WOF-BUD-banner-660-×-330-px.png
END:VEVENT
END:VCALENDAR