BEGIN:VCALENDAR
VERSION:2.0
PRODID:-//Magyar Logisztikai, Beszerzési és Készletezési Társaság - ECPv6.15.16//NONSGML v1.0//EN
CALSCALE:GREGORIAN
METHOD:PUBLISH
X-ORIGINAL-URL:https://logisztika.hu
X-WR-CALDESC:Események Magyar Logisztikai, Beszerzési és Készletezési Társaság
REFRESH-INTERVAL;VALUE=DURATION:PT1H
X-Robots-Tag:noindex
X-PUBLISHED-TTL:PT1H
BEGIN:VTIMEZONE
TZID:Europe/Helsinki
BEGIN:DAYLIGHT
TZOFFSETFROM:+0200
TZOFFSETTO:+0300
TZNAME:EEST
DTSTART:20220327T010000
END:DAYLIGHT
BEGIN:STANDARD
TZOFFSETFROM:+0300
TZOFFSETTO:+0200
TZNAME:EET
DTSTART:20221030T010000
END:STANDARD
BEGIN:DAYLIGHT
TZOFFSETFROM:+0200
TZOFFSETTO:+0300
TZNAME:EEST
DTSTART:20230326T010000
END:DAYLIGHT
BEGIN:STANDARD
TZOFFSETFROM:+0300
TZOFFSETTO:+0200
TZNAME:EET
DTSTART:20231029T010000
END:STANDARD
BEGIN:DAYLIGHT
TZOFFSETFROM:+0200
TZOFFSETTO:+0300
TZNAME:EEST
DTSTART:20240331T010000
END:DAYLIGHT
BEGIN:STANDARD
TZOFFSETFROM:+0300
TZOFFSETTO:+0200
TZNAME:EET
DTSTART:20241027T010000
END:STANDARD
END:VTIMEZONE
BEGIN:VEVENT
DTSTART;TZID=Europe/Helsinki:20231017T090000
DTEND;TZID=Europe/Helsinki:20231017T170000
DTSTAMP:20260421T142107
CREATED:20230928T120748Z
LAST-MODIFIED:20231002T065844Z
UID:87609-1697533200-1697562000@logisztika.hu
SUMMARY:TECHTOGETHER+
DESCRIPTION:Októberben második alkalommal szervezi meg a hazai járműipar kiemelkedő eseményét\, a TECHTOGETHER+-t az autopro.hu csapata\, ahol jelen és jövő találkozik. Az innovatív ipari trendekre fókuszáló kiállításon a robotika\, automatizálás\, elektronika\, rendszerintegráció\, szoftverfejlesztés kiváló hazai képviselőivel találkozhatnak az érdeklődők. A szakmai találkozók mellett hazánk legtehetségesebb egyetemistái mérik össze tudásukat a mérnökhallgatói verseny keretében és mutatják be újfejlesztésű járműveiket\, legyen az hajó\, versenyautó vagy rakéta. A rendezvény keretében zajló járműipari konferencián hazánk meghatározó iparvállalatainak top menedzserei adnak elő. Találkozzon a jövő iparának főszereplőivel október 17-én az Eiffel Műhelyházban! \n \n  \n \nTechnológiai\, fejlesztési kihívásai vannak? Kérdezze a szakértőt! \n \n  \n \nA TECHTOGETHER+ rendezvényen személyesen találkozhat a robotika\, automatizálás\, elektronika\, rendszerintegráció\, szoftverfejlesztés kiváló hazai képviselőivel\, akik segíthetnek a probléma hatékony és gazdaságos megoldásában. Amennyiben a műszaki kihívások mellett a kapcsolódó HR kérdésekben is segítségre van szüksége\, erre is talál választ a helyszíni kiállításon. \n \n  \n \nA TECHTOGETHER + rendezvényen szakmai találkozókra\, személyes egyeztetésekre nyílik lehetősége az Eiffel Műhelyház mozdonytermében. A rendezvény ezen részének látogatása díjmentes\, mindössze előzetes regisztrációhoz kötött\, amit az alábbi linkre kattintva tehet meg! \n \n  \n \n  \n \nValódi újdonságot szeretne látni vízen\, földön\, levegőben? \n \n  \n \nAz innovatív ipari kiállítás mellett a résztvevők megcsodálhatják a magyar egyetemi hallgatók elmúlt 12 hónapban épített járműveit\, legyen szó hajóról\, elektromos vagy belső égésű motorral hajtott versenyautóról\, esetleg saját fejlesztésű rakétáról. \n \n  \n \nA Techtogether mérnökhallgatói versenyre a Budapesti Műszaki és Gazdaságtudományi Egyetemről\, a Debreceni Egyetem Műszaki Karáról\, az Eötvös Loránd Tudományegyetemről\, a Neumann János Egyetemről\, az Óbudai Egyetemről\, a Pannon Egyetemről\, a Széchenyi István Egyetemről és a Szegedi Tudományegyetem Mérnöki Karáról érkeznek csapatok. A járműipari trendekhez igazodva\, a több mint kétszáz hallgató 34%-a informatikai képzésről (mérnökinformatikus\, mechatronikai mérnök\, villamosmérnök)\, 32%-uk járműmérnökként\, és 29%-uk gépészmérnökként kezdi hamarosan pályafutását a hazai vállalatok valamelyikénél. \n \n  \n \nMi lesz a munkaerővel\, mi lesz a vállalattal? \n \n  \n \nA rendezvény részeként sor kerül az autopro.hu és a Magyar Gépjárműipari Egyesület (MAGE) közös járműipari konferenciájára\, melynek témája A fenntarthatóság útján az autóipar – Versenyképes megoldások a mesterséges intelligenciától az elektrifikációig. A konferencián a legaktuálisabb kérdések kerülnek fókuszba\, mint hol kezdjük a mesterséges intelligencia alkalmazását? Kit keressünk kérdéseinkkel a témában? \n  \n \nMiért nem lehet tovább várni az informatikai fejlesztésekkel és mit kockáztatunk a halogatással? Hol van az ember helye ezen az elképesztően gyors informatikai versenyfutásban? \n  \n \nMiként változtatja meg az életet egy új hárombetűs mozaikszó és ki az ördögnek kell egyáltalán? És ha már ESG\, akkor mi köze van a termék tervezéshez\, a csomagolás fejlesztéshez vagy akár a tűzvédelemhez? \n \n  \nA konferencia konferencia részletes programja: https://techtogether.hu/#program \n \n  \nA konferencián való részvétel díjköteles. További részletekért látogasson el a TECHTOGETHER+ hivatalos oldalára: https://techtogether.hu/ \n \n 
URL:https://logisztika.hu/rendezveny/techtogether/
CATEGORIES:Rendezvény
ATTACH;FMTTYPE=image/jpeg:https://logisztika.hu/wp-content/uploads/2023/09/shutterstock_2152859635-scaled.jpg
END:VEVENT
END:VCALENDAR