BEGIN:VCALENDAR
VERSION:2.0
PRODID:-//Magyar Logisztikai, Beszerzési és Készletezési Társaság - ECPv6.15.16//NONSGML v1.0//EN
CALSCALE:GREGORIAN
METHOD:PUBLISH
X-ORIGINAL-URL:https://logisztika.hu
X-WR-CALDESC:Események Magyar Logisztikai, Beszerzési és Készletezési Társaság
REFRESH-INTERVAL;VALUE=DURATION:PT1H
X-Robots-Tag:noindex
X-PUBLISHED-TTL:PT1H
BEGIN:VTIMEZONE
TZID:Europe/Helsinki
BEGIN:DAYLIGHT
TZOFFSETFROM:+0200
TZOFFSETTO:+0300
TZNAME:EEST
DTSTART:20230326T010000
END:DAYLIGHT
BEGIN:STANDARD
TZOFFSETFROM:+0300
TZOFFSETTO:+0200
TZNAME:EET
DTSTART:20231029T010000
END:STANDARD
BEGIN:DAYLIGHT
TZOFFSETFROM:+0200
TZOFFSETTO:+0300
TZNAME:EEST
DTSTART:20240331T010000
END:DAYLIGHT
BEGIN:STANDARD
TZOFFSETFROM:+0300
TZOFFSETTO:+0200
TZNAME:EET
DTSTART:20241027T010000
END:STANDARD
BEGIN:DAYLIGHT
TZOFFSETFROM:+0200
TZOFFSETTO:+0300
TZNAME:EEST
DTSTART:20250330T010000
END:DAYLIGHT
BEGIN:STANDARD
TZOFFSETFROM:+0300
TZOFFSETTO:+0200
TZNAME:EET
DTSTART:20251026T010000
END:STANDARD
END:VTIMEZONE
BEGIN:VEVENT
DTSTART;TZID=Europe/Helsinki:20240129T110000
DTEND;TZID=Europe/Helsinki:20240129T123000
DTSTAMP:20260420T145807
CREATED:20240118T095821Z
LAST-MODIFIED:20240207T091616Z
UID:90131-1706526000-1706531400@logisztika.hu
SUMMARY:EU KARBONVÁM A GYAKORLATBAN
DESCRIPTION:KARBONVÁM – KÖZELEDIK A JELENTÉSI HATÁRIDŐ? SEGÍTÜNK! \n\n\n\n\n\n\n\n\n\nA karbonvám jelentéstételi kötelezettség vészesen közeleg\, az érintett cégeknek január 31-ig van erre határidejük. Információra van szükséged? Jól jönne segítség a regisztrációhoz és a kitöltéshez? Az MLBKT-ra ismét számíthatsz! Közkedvelt szakértőnket\, Tüske Zsuzsát újra elhozzuk Neked\, hogy végig vezessen a folyamatokon.  \n\n\n\nCsatlakozz webináriumunkhoz\, és könnyítsd meg a karbonvámmal kapcsolatos adminisztrációs terheidet!  \n\n\n\n \n\n\n\nTémák:   \n\n\n\n\nÁtbeszéljük\, hogy hol és hogyan kell a jelentést megtenni.  \n\n\n\nSzó lesz arról is\, hogy hogyan kell beregisztrálni és belépni a felületre. \n\n\n\nGyakorlati szempontok szerint végig nézzük az adatlapot\, és megbeszéljük\, hogy hogyan kell azt helyesen kitölteni- \n\n\n\nA végén lehetőség lesz feltenni a kérdéseidet a szakértőnknek. \n\n\n\n\nTeljesítsd velünk sikeresen a karbonvám jelentéstételi kötelezettséget!  \n\n\n\n \n\n\n\nTovábbi információ és jelentkezés: https://logisztika.hu/2023/12/14/eu-karbonvam-webinarium/
URL:https://logisztika.hu/rendezveny/eu-karbonvam-a-gyakorlatban/
ATTACH;FMTTYPE=image/png:https://logisztika.hu/wp-content/uploads/2024/01/karbonvam2.png
END:VEVENT
END:VCALENDAR