BEGIN:VCALENDAR
VERSION:2.0
PRODID:-//Magyar Logisztikai, Beszerzési és Készletezési Társaság - ECPv6.15.16//NONSGML v1.0//EN
CALSCALE:GREGORIAN
METHOD:PUBLISH
X-ORIGINAL-URL:https://logisztika.hu
X-WR-CALDESC:Események Magyar Logisztikai, Beszerzési és Készletezési Társaság
REFRESH-INTERVAL;VALUE=DURATION:PT1H
X-Robots-Tag:noindex
X-PUBLISHED-TTL:PT1H
BEGIN:VTIMEZONE
TZID:Europe/Helsinki
BEGIN:DAYLIGHT
TZOFFSETFROM:+0200
TZOFFSETTO:+0300
TZNAME:EEST
DTSTART:20230326T010000
END:DAYLIGHT
BEGIN:STANDARD
TZOFFSETFROM:+0300
TZOFFSETTO:+0200
TZNAME:EET
DTSTART:20231029T010000
END:STANDARD
BEGIN:DAYLIGHT
TZOFFSETFROM:+0200
TZOFFSETTO:+0300
TZNAME:EEST
DTSTART:20240331T010000
END:DAYLIGHT
BEGIN:STANDARD
TZOFFSETFROM:+0300
TZOFFSETTO:+0200
TZNAME:EET
DTSTART:20241027T010000
END:STANDARD
BEGIN:DAYLIGHT
TZOFFSETFROM:+0200
TZOFFSETTO:+0300
TZNAME:EEST
DTSTART:20250330T010000
END:DAYLIGHT
BEGIN:STANDARD
TZOFFSETFROM:+0300
TZOFFSETTO:+0200
TZNAME:EET
DTSTART:20251026T010000
END:STANDARD
END:VTIMEZONE
BEGIN:VEVENT
DTSTART;TZID=Europe/Helsinki:20240228T150000
DTEND;TZID=Europe/Helsinki:20240228T160000
DTSTAMP:20260420T145819
CREATED:20240207T093704Z
LAST-MODIFIED:20240207T095919Z
UID:90728-1709132400-1709136000@logisztika.hu
SUMMARY:A GYÁRTÁSTERVEZÉS ÚJ DIMENZIÓJA
DESCRIPTION:Az MLBKT Tréning Központ büszkén mutatja be a forradalmian új gyártástervezési tréning előzetesét\, amelyet külföldön is elismert kiemelkedő szakértőink tartanak. Ez a tréning lehetőséget nyújt a vállalatoknak\, hogy a telephelyükön sajátítsák el a gyártástervezés legújabb módszereit\, megbirkózva a gyártástervezés kihívásaival.  \n \n \nA gyártás területén számos kihívás merülhet fel\, például az SAP modulok hiányosságai (hirtelen leállás) vagy a nem megfelelő gyártási tervek miatti túl- vagy alultermelés. A bizonytalan és turbulens gazdasági konjunktúrában elengedhetetlen\, hogy a vállalatok maximalizálják erőforrásaik hatékonyságát és csökkentsék pazarlásukat. Egy jól kidolgozott gyártási terv jelentős költségmegtakarítást eredményez\, csökkentve a plusz műszakok és szállítások szükségességét\, valamint megelőzve a felesleges készletek felhalmozódását.  \n  \n \n \n\n \n \n  \nMiért lesz különleges ez a tréning?  \n \n \n\n\n\n\n\n  \n\n\n\nIparág- és vállalatirányítási rendszertől független.\n\n\n\n \n \n\n\n\nBármilyen vállalatméretnél alkalmazható.\n\n\n\n \n \n\n\n\nTöbbnyelvű oktatás is elérhető: magyar\, angol\, francia\, szlovák és spanyol nyelven is.\n\n\n\n \n \n\n\n\nA képzést és a módszert Magyarországon kizárólag kiváló szakértőnk csapata oktatja. \n\n\n\n \n \n\n\n\nA módszertant világszerte már számos neves cég alkalmazza.\n\n\n\n \n \n \n\n \n \n  \nAmennyiben szeretné megismerné a módszert és trénereinket\, jelentkezzen be ingyenes bemutató werinárunkba. \n  \n \n \nKészüljön kérdésekkel! \n \n \n  \n \n \n \n \nCsatlakozzon webináriumunkhoz\, hogy megismerje a módszert és ne habozzon kérdezni! \n \n \n  \n \n \n \n \n \n \n 		\n			\n						További információ és jelentkezés
URL:https://logisztika.hu/rendezveny/a-gyartastervezes-uj-dimenzioi-2/
ATTACH;FMTTYPE=image/png:https://logisztika.hu/wp-content/uploads/2024/02/Gyartastervezes-uj-dimenzioban-kep-nelkul-1.png
END:VEVENT
END:VCALENDAR