BEGIN:VCALENDAR
VERSION:2.0
PRODID:-//Magyar Logisztikai, Beszerzési és Készletezési Társaság - ECPv6.15.16//NONSGML v1.0//EN
CALSCALE:GREGORIAN
METHOD:PUBLISH
X-WR-CALNAME:Magyar Logisztikai, Beszerzési és Készletezési Társaság
X-ORIGINAL-URL:https://logisztika.hu
X-WR-CALDESC:Események Magyar Logisztikai, Beszerzési és Készletezési Társaság
REFRESH-INTERVAL;VALUE=DURATION:PT1H
X-Robots-Tag:noindex
X-PUBLISHED-TTL:PT1H
BEGIN:VTIMEZONE
TZID:Europe/Helsinki
BEGIN:DAYLIGHT
TZOFFSETFROM:+0200
TZOFFSETTO:+0300
TZNAME:EEST
DTSTART:20230326T010000
END:DAYLIGHT
BEGIN:STANDARD
TZOFFSETFROM:+0300
TZOFFSETTO:+0200
TZNAME:EET
DTSTART:20231029T010000
END:STANDARD
BEGIN:DAYLIGHT
TZOFFSETFROM:+0200
TZOFFSETTO:+0300
TZNAME:EEST
DTSTART:20240331T010000
END:DAYLIGHT
BEGIN:STANDARD
TZOFFSETFROM:+0300
TZOFFSETTO:+0200
TZNAME:EET
DTSTART:20241027T010000
END:STANDARD
BEGIN:DAYLIGHT
TZOFFSETFROM:+0200
TZOFFSETTO:+0300
TZNAME:EEST
DTSTART:20250330T010000
END:DAYLIGHT
BEGIN:STANDARD
TZOFFSETFROM:+0300
TZOFFSETTO:+0200
TZNAME:EET
DTSTART:20251026T010000
END:STANDARD
END:VTIMEZONE
BEGIN:VEVENT
DTSTART;TZID=Europe/Helsinki:20240229T142000
DTEND;TZID=Europe/Helsinki:20240229T180000
DTSTAMP:20260420T145710
CREATED:20240205T120612Z
LAST-MODIFIED:20240205T120614Z
UID:90592-1709216400-1709229600@logisztika.hu
SUMMARY:Technológiai étlap a legújabb intralogisztikai AUTO ID megoldásokból workshop
DESCRIPTION:Az MLBKT LOGISZTIKA 4.0 TAGOZATA 2024. február 29-én workshopot szervez a Miskolci Egyetemen Technológiai étlap a legújabb intralogisztikai AUTO ID megoldásokból címmel. 
URL:https://logisztika.hu/rendezveny/technologiai-etlap-a-legujabb-intralogisztikai-auto-id-megoldasokbol-workshop/
CATEGORIES:Logisztika 4.0,Tagozati program,Worskhop
ATTACH;FMTTYPE=image/png:https://logisztika.hu/wp-content/uploads/2024/02/Tagozati-esemenyek.png
ORGANIZER;CN="MLBKT":MAILTO:logisztika@logisztika.hu
END:VEVENT
END:VCALENDAR