BEGIN:VCALENDAR
VERSION:2.0
PRODID:-//Magyar Logisztikai, Beszerzési és Készletezési Társaság - ECPv6.15.16//NONSGML v1.0//EN
CALSCALE:GREGORIAN
METHOD:PUBLISH
X-ORIGINAL-URL:https://logisztika.hu
X-WR-CALDESC:Események Magyar Logisztikai, Beszerzési és Készletezési Társaság
REFRESH-INTERVAL;VALUE=DURATION:PT1H
X-Robots-Tag:noindex
X-PUBLISHED-TTL:PT1H
BEGIN:VTIMEZONE
TZID:Europe/Helsinki
BEGIN:DAYLIGHT
TZOFFSETFROM:+0200
TZOFFSETTO:+0300
TZNAME:EEST
DTSTART:20230326T010000
END:DAYLIGHT
BEGIN:STANDARD
TZOFFSETFROM:+0300
TZOFFSETTO:+0200
TZNAME:EET
DTSTART:20231029T010000
END:STANDARD
BEGIN:DAYLIGHT
TZOFFSETFROM:+0200
TZOFFSETTO:+0300
TZNAME:EEST
DTSTART:20240331T010000
END:DAYLIGHT
BEGIN:STANDARD
TZOFFSETFROM:+0300
TZOFFSETTO:+0200
TZNAME:EET
DTSTART:20241027T010000
END:STANDARD
BEGIN:DAYLIGHT
TZOFFSETFROM:+0200
TZOFFSETTO:+0300
TZNAME:EEST
DTSTART:20250330T010000
END:DAYLIGHT
BEGIN:STANDARD
TZOFFSETFROM:+0300
TZOFFSETTO:+0200
TZNAME:EET
DTSTART:20251026T010000
END:STANDARD
END:VTIMEZONE
BEGIN:VEVENT
DTSTART;TZID=Europe/Helsinki:20240306T120000
DTEND;TZID=Europe/Helsinki:20240308T080000
DTSTAMP:20260420T151030
CREATED:20240115T125922Z
LAST-MODIFIED:20240207T152121Z
UID:89490-1709726400-1709884800@logisztika.hu
SUMMARY:STUDY TOUR ISZTAMBUL
DESCRIPTION:Egyedülálló programújdonságot kínálunk az MLBKT tagjainak és partnereinek ezzel a külföldi\, 2 napos látogatással\, ami a logisztikai szolgáltatások világába vezeti el a részvevőket\, kulturális kitekintéssel megfűszerezve Európa és Ázsia találkozásánál. \n\n\n\nSzakmai vendéglátónk és a program támogatója az EKOL. A program során ellátogatunk az Ekol Lotus elnevezésű logisztikai komplexumába\, megtekintjük a Yalova kikötői terminált és egy délutáni program keretében gyönyörködhetünk a történelmi városrész látnivalóiban.
URL:https://logisztika.hu/rendezveny/study-tour-isztambul/
CATEGORIES:Rendezvény,Vállalatlátogatás
ATTACH;FMTTYPE=image/jpeg:https://logisztika.hu/wp-content/uploads/2024/01/nyitokep.jpg
ORGANIZER;CN="MLBKT":MAILTO:logisztika@logisztika.hu
END:VEVENT
END:VCALENDAR