BEGIN:VCALENDAR
VERSION:2.0
PRODID:-//Magyar Logisztikai, Beszerzési és Készletezési Társaság - ECPv6.15.16//NONSGML v1.0//EN
CALSCALE:GREGORIAN
METHOD:PUBLISH
X-WR-CALNAME:Magyar Logisztikai, Beszerzési és Készletezési Társaság
X-ORIGINAL-URL:https://logisztika.hu
X-WR-CALDESC:Események Magyar Logisztikai, Beszerzési és Készletezési Társaság
REFRESH-INTERVAL;VALUE=DURATION:PT1H
X-Robots-Tag:noindex
X-PUBLISHED-TTL:PT1H
BEGIN:VTIMEZONE
TZID:Europe/Helsinki
BEGIN:DAYLIGHT
TZOFFSETFROM:+0200
TZOFFSETTO:+0300
TZNAME:EEST
DTSTART:20230326T010000
END:DAYLIGHT
BEGIN:STANDARD
TZOFFSETFROM:+0300
TZOFFSETTO:+0200
TZNAME:EET
DTSTART:20231029T010000
END:STANDARD
BEGIN:DAYLIGHT
TZOFFSETFROM:+0200
TZOFFSETTO:+0300
TZNAME:EEST
DTSTART:20240331T010000
END:DAYLIGHT
BEGIN:STANDARD
TZOFFSETFROM:+0300
TZOFFSETTO:+0200
TZNAME:EET
DTSTART:20241027T010000
END:STANDARD
BEGIN:DAYLIGHT
TZOFFSETFROM:+0200
TZOFFSETTO:+0300
TZNAME:EEST
DTSTART:20250330T010000
END:DAYLIGHT
BEGIN:STANDARD
TZOFFSETFROM:+0300
TZOFFSETTO:+0200
TZNAME:EET
DTSTART:20251026T010000
END:STANDARD
END:VTIMEZONE
BEGIN:VEVENT
DTSTART;TZID=Europe/Helsinki:20240312T093000
DTEND;TZID=Europe/Helsinki:20240312T120000
DTSTAMP:20260420T151038
CREATED:20240220T091310Z
LAST-MODIFIED:20240226T151134Z
UID:91201-1710235800-1710244800@logisztika.hu
SUMMARY:Vállalatlátogatás a Vodafone biatorbágyi raktárába - II. csoport
DESCRIPTION:A raktárlátogatás lehetőséget nyújt betekinteni a Vodafone 3400 m2-es Technológia raktárának napi működésébe. \n\n\n\nItt nincsenek mobiltelefonok\, csak hálózatépítéshez szükséges alkatrészek\, de abból rengeteg. Elmondjuk\, mik a sajátosságai egy tárgyieszköz raktárnak egy készletraktárhoz képest. \n\n\n\nMegbeszéljük\, hogyan épül fel a napi operáció\, és milyen napi szintű kihívásoknak és nehézségeknek kell megfelelnünk. Megmutatjuk\, milyen alkatrészekből épül fel egy bázisállomás\, ami a mobil lefedettséget biztosítja. \n\n\n\nMegválaszoljuk a kérdéseket\, amiket mindig fel akartál tenni a mobiltelefonokkal kapcsolatban\, de sosem merted.Szakmai napunkon megismerheted a raktár működését és az anyagáramlás adminisztrációját segítő modern\, digitalizációs megoldásokat.
URL:https://logisztika.hu/rendezveny/vallalatlatogatas-a-vodafone-biatorbagyi-raktaraba-ii-csoport/
LOCATION:Béres Gyógyszergyár Zrt Szolnok\, Nagysándor József u. 39.\, Haiti
CATEGORIES:Vállalatlátogatás
ATTACH;FMTTYPE=image/jpeg:https://logisztika.hu/wp-content/uploads/2024/02/Vallalatlatogatas-honlap_Voda2.jpg
ORGANIZER;CN="MLBKT":MAILTO:logisztika@logisztika.hu
END:VEVENT
BEGIN:VEVENT
DTSTART;TZID=Europe/Helsinki:20240312T150000
DTEND;TZID=Europe/Helsinki:20240312T160000
DTSTAMP:20260420T151038
CREATED:20240304T141033Z
LAST-MODIFIED:20240304T143025Z
UID:91806-1710255600-1710259200@logisztika.hu
SUMMARY:VILÁGSZÍNVONALÚ SUPPLY CHAIN KÉPZÉSEK
DESCRIPTION:Növeld ellátási lánccal kapcsolatos tudásod az ASCM/ APICS világvezető ellátási lánc programokkal és szerezz nemzetközi minősítést.  \n\n\n\nAz ASCM/APICS és az MLBKT közös együttműködéseként Magyarországon is elérhető képzéssorozatot hoztunk el nektek.  \n\n\n\n \n\n\n\n\n\n\n\n\n\n \n\n\n\nHa szeretnéd tudni\, hogy miért is különleges ez a program\, akkor gyere el ingyenes webináriumunkra\, ahol részletesen bemutatjuk a képzési programot\, találkozhatsz instruktorunkkal és felteheted kérdéseidet.  \n\n\n\n\n\n\n\nHelyszín: Online  \n\n\n\nRészvétel: ingyenes 
URL:https://logisztika.hu/rendezveny/vilagszinvonalu-supply-chain-kepzesek/
ATTACH;FMTTYPE=image/jpeg:https://logisztika.hu/wp-content/uploads/2024/03/APICSASCM-2.jpg
END:VEVENT
END:VCALENDAR