BEGIN:VCALENDAR
VERSION:2.0
PRODID:-//Magyar Logisztikai, Beszerzési és Készletezési Társaság - ECPv6.15.16//NONSGML v1.0//EN
CALSCALE:GREGORIAN
METHOD:PUBLISH
X-ORIGINAL-URL:https://logisztika.hu
X-WR-CALDESC:Események Magyar Logisztikai, Beszerzési és Készletezési Társaság
REFRESH-INTERVAL;VALUE=DURATION:PT1H
X-Robots-Tag:noindex
X-PUBLISHED-TTL:PT1H
BEGIN:VTIMEZONE
TZID:Europe/Helsinki
BEGIN:DAYLIGHT
TZOFFSETFROM:+0200
TZOFFSETTO:+0300
TZNAME:EEST
DTSTART:20230326T010000
END:DAYLIGHT
BEGIN:STANDARD
TZOFFSETFROM:+0300
TZOFFSETTO:+0200
TZNAME:EET
DTSTART:20231029T010000
END:STANDARD
BEGIN:DAYLIGHT
TZOFFSETFROM:+0200
TZOFFSETTO:+0300
TZNAME:EEST
DTSTART:20240331T010000
END:DAYLIGHT
BEGIN:STANDARD
TZOFFSETFROM:+0300
TZOFFSETTO:+0200
TZNAME:EET
DTSTART:20241027T010000
END:STANDARD
BEGIN:DAYLIGHT
TZOFFSETFROM:+0200
TZOFFSETTO:+0300
TZNAME:EEST
DTSTART:20250330T010000
END:DAYLIGHT
BEGIN:STANDARD
TZOFFSETFROM:+0300
TZOFFSETTO:+0200
TZNAME:EET
DTSTART:20251026T010000
END:STANDARD
END:VTIMEZONE
BEGIN:VEVENT
DTSTART;TZID=Europe/Helsinki:20240926T100000
DTEND;TZID=Europe/Helsinki:20240926T120000
DTSTAMP:20260420T134149
CREATED:20240902T102534Z
LAST-MODIFIED:20240902T103043Z
UID:97384-1727344800-1727352000@logisztika.hu
SUMMARY:Automatizáció\, digitalizáció\, elektromos járművek - Vállalatlátogatás a Gebrüder Weiss Kft. raktárába
DESCRIPTION:Első őszi vállaltlátogatásunk alkalmával\, megismerhetjük a Gebrüder Weiss logisztika világát\, bemutatják  a sikeres működésükhöz vezető utat\, kitekintést kapunk a szektor résztvevőire és azok működésére\, valamint arra hogy a külső\, negatív világgazdasági tényezők hogyan és miként hatnak rájuk. Házigazdáink törekednek arra\, hogy jó gyakorlatokkal szolgáljanak a változásokhoz való alkalmazkodáshoz\, illetve a megoldásközpontú szemlélethez.
URL:https://logisztika.hu/rendezveny/automatizacio-digitalizacio-elektromos-jarmuvek-vallalatlatogatas-a-gebruder-weiss-kft-raktaraba/
CATEGORIES:Rendezvény,Vállalatlátogatás
ATTACH;FMTTYPE=image/png:https://logisztika.hu/wp-content/uploads/2024/08/Vallalatlatogatas-honlap3.png
END:VEVENT
END:VCALENDAR