BEGIN:VCALENDAR
VERSION:2.0
PRODID:-//Magyar Logisztikai, Beszerzési és Készletezési Társaság - ECPv6.15.16//NONSGML v1.0//EN
CALSCALE:GREGORIAN
METHOD:PUBLISH
X-WR-CALNAME:Magyar Logisztikai, Beszerzési és Készletezési Társaság
X-ORIGINAL-URL:https://logisztika.hu
X-WR-CALDESC:Események Magyar Logisztikai, Beszerzési és Készletezési Társaság
REFRESH-INTERVAL;VALUE=DURATION:PT1H
X-Robots-Tag:noindex
X-PUBLISHED-TTL:PT1H
BEGIN:VTIMEZONE
TZID:Europe/Helsinki
BEGIN:DAYLIGHT
TZOFFSETFROM:+0200
TZOFFSETTO:+0300
TZNAME:EEST
DTSTART:20240331T010000
END:DAYLIGHT
BEGIN:STANDARD
TZOFFSETFROM:+0300
TZOFFSETTO:+0200
TZNAME:EET
DTSTART:20241027T010000
END:STANDARD
BEGIN:DAYLIGHT
TZOFFSETFROM:+0200
TZOFFSETTO:+0300
TZNAME:EEST
DTSTART:20250330T010000
END:DAYLIGHT
BEGIN:STANDARD
TZOFFSETFROM:+0300
TZOFFSETTO:+0200
TZNAME:EET
DTSTART:20251026T010000
END:STANDARD
BEGIN:DAYLIGHT
TZOFFSETFROM:+0200
TZOFFSETTO:+0300
TZNAME:EEST
DTSTART:20260329T010000
END:DAYLIGHT
BEGIN:STANDARD
TZOFFSETFROM:+0300
TZOFFSETTO:+0200
TZNAME:EET
DTSTART:20261025T010000
END:STANDARD
END:VTIMEZONE
BEGIN:VEVENT
DTSTART;TZID=Europe/Helsinki:20250123T140000
DTEND;TZID=Europe/Helsinki:20250123T153000
DTSTAMP:20260421T022351
CREATED:20241203T120654Z
LAST-MODIFIED:20241209T103902Z
UID:100632-1737640800-1737646200@logisztika.hu
SUMMARY:LEAN ALAPISMERETEK és VESZTESÉGVADÁSZAT – Értékteremtés veszteségmentes folyamatokkal
DESCRIPTION:A mai gyorsan változó gazdasági környezetben a vállalatok számára kulcsfontosságúvá vált az értékteremtési célok elérése úgy\, hogy közben a működésük hatékonyságát folyamatosan fejlesztik. Hogyan lehet mindezt megvalósítani a veszteségek minimalizálása és a folyamatok optimalizálása mellett? A válasz a Lean szemléletben rejlik\, amely nemcsak hatékony módszertan\, hanem olyan stratégiai gondolkodásmód is\, amely a versenyképesség és a hosszú távú siker alapja. \n\n\n\nA Lean elvek alkalmazása lehetővé teszi a vállalatok számára\, hogy folyamatos fejlesztési kultúrát alakítsanak ki a szervezetben\, amely támogatja a vevői értékteremtést\, csökkenti a nem értékteremtő tevékenységeket\, és biztosítja a magas minőség fenntartását. Ráadásul a Lean alkalmazhatósága túlmutat a gyártási és szolgáltatási szektoron\, hiszen a hétköznapjaink során is hatékony eszköz a tevékenységeink veszteségmentesítésére. \n\n\n\nAz előadás célja\, hogy a résztvevők ne csak megismerjék a Lean alapelveit és veszteségszemléletét\, hanem konkrét\, gyakorlati példákon keresztül megtapasztalják a veszteségek beazonosításának és megszüntetésének eszközeit. Ez a tapasztalat azonnal beépíthető a napi munkafolyamatokba\, segítve ezzel a vállalati célok megvalósítását és a szervezet folyamatos fejlődését.
URL:https://logisztika.hu/rendezveny/lean-alapismeretek-es-vesztesegvadaszat-ertekteremtes-vesztesegmentes-folyamatokkal/
CATEGORIES:Oktatói tagozat,Rendezvény,Tagozati program
ATTACH;FMTTYPE=image/png:https://logisztika.hu/wp-content/uploads/2024/12/Tagozati-esemenyek-9.png
ORGANIZER;CN="MLBKT":MAILTO:logisztika@logisztika.hu
END:VEVENT
END:VCALENDAR