BEGIN:VCALENDAR
VERSION:2.0
PRODID:-//Magyar Logisztikai, Beszerzési és Készletezési Társaság - ECPv6.15.16//NONSGML v1.0//EN
CALSCALE:GREGORIAN
METHOD:PUBLISH
X-ORIGINAL-URL:https://logisztika.hu
X-WR-CALDESC:Események Magyar Logisztikai, Beszerzési és Készletezési Társaság
REFRESH-INTERVAL;VALUE=DURATION:PT1H
X-Robots-Tag:noindex
X-PUBLISHED-TTL:PT1H
BEGIN:VTIMEZONE
TZID:Europe/Helsinki
BEGIN:DAYLIGHT
TZOFFSETFROM:+0200
TZOFFSETTO:+0300
TZNAME:EEST
DTSTART:20240331T010000
END:DAYLIGHT
BEGIN:STANDARD
TZOFFSETFROM:+0300
TZOFFSETTO:+0200
TZNAME:EET
DTSTART:20241027T010000
END:STANDARD
BEGIN:DAYLIGHT
TZOFFSETFROM:+0200
TZOFFSETTO:+0300
TZNAME:EEST
DTSTART:20250330T010000
END:DAYLIGHT
BEGIN:STANDARD
TZOFFSETFROM:+0300
TZOFFSETTO:+0200
TZNAME:EET
DTSTART:20251026T010000
END:STANDARD
BEGIN:DAYLIGHT
TZOFFSETFROM:+0200
TZOFFSETTO:+0300
TZNAME:EEST
DTSTART:20260329T010000
END:DAYLIGHT
BEGIN:STANDARD
TZOFFSETFROM:+0300
TZOFFSETTO:+0200
TZNAME:EET
DTSTART:20261025T010000
END:STANDARD
END:VTIMEZONE
BEGIN:VEVENT
DTSTART;TZID=Europe/Helsinki:20250124T090000
DTEND;TZID=Europe/Helsinki:20250124T170000
DTSTAMP:20260421T041021
CREATED:20250124T091800Z
LAST-MODIFIED:20250124T091930Z
UID:102474-1737709200-1737738000@logisztika.hu
SUMMARY:LOGISZTIKAI NAPJA 2025 - SZERVEZZ TE IS PROGRAMOT!
DESCRIPTION:Idén 2025. április 10-én szervezük meg újra a Logisztika Napját Magyarországon a Nemzetközi Logisztika Napjával egyidőben.  \n\n\n\nA Magyar Logisztikai\, Beszerzési és Készletezési Társaság immár 13. éve fogja össze ennek a napnak a hazai eseményeit és segít a szervezőknek\, hogy ingyenes programjaik híre eljusson a logisztika iránt érdeklődőkhöz.  \n\n\n\nEzen a napon számos logisztikával foglalkozó cég\, de akár oktatási intézmény is\, aktivizálja és megmutatja magát\, egy-egy tevékenységét a szakma iránt érdeklődők számára.  \n\n\n\nA program lehet akár raktár- vagy kikötőbejárás\, szakmai workshop a szakma jövőjéről\, esetleg valamilyen szimulációs\, tervező eszköz bemutatása. A lényeg\, hogy a program során kiderüljön mennyire színes\, sokszínű és izgalmas a logisztika. 
URL:https://logisztika.hu/rendezveny/logisztikai-napja-2025-szervezz-te-is-programot/
CATEGORIES:Logisztikai Szolgáltatói tagozat,Rendezvény,Tagozati program
ATTACH;FMTTYPE=image/png:https://logisztika.hu/wp-content/uploads/2025/01/logisztika_napja_2025_2.png
ORGANIZER;CN="MLBKT":MAILTO:logisztika@logisztika.hu
END:VEVENT
END:VCALENDAR