BEGIN:VCALENDAR
VERSION:2.0
PRODID:-//Magyar Logisztikai, Beszerzési és Készletezési Társaság - ECPv6.15.16//NONSGML v1.0//EN
CALSCALE:GREGORIAN
METHOD:PUBLISH
X-ORIGINAL-URL:https://logisztika.hu
X-WR-CALDESC:Események Magyar Logisztikai, Beszerzési és Készletezési Társaság
REFRESH-INTERVAL;VALUE=DURATION:PT1H
X-Robots-Tag:noindex
X-PUBLISHED-TTL:PT1H
BEGIN:VTIMEZONE
TZID:Europe/Helsinki
BEGIN:DAYLIGHT
TZOFFSETFROM:+0200
TZOFFSETTO:+0300
TZNAME:EEST
DTSTART:20240331T010000
END:DAYLIGHT
BEGIN:STANDARD
TZOFFSETFROM:+0300
TZOFFSETTO:+0200
TZNAME:EET
DTSTART:20241027T010000
END:STANDARD
BEGIN:DAYLIGHT
TZOFFSETFROM:+0200
TZOFFSETTO:+0300
TZNAME:EEST
DTSTART:20250330T010000
END:DAYLIGHT
BEGIN:STANDARD
TZOFFSETFROM:+0300
TZOFFSETTO:+0200
TZNAME:EET
DTSTART:20251026T010000
END:STANDARD
BEGIN:DAYLIGHT
TZOFFSETFROM:+0200
TZOFFSETTO:+0300
TZNAME:EEST
DTSTART:20260329T010000
END:DAYLIGHT
BEGIN:STANDARD
TZOFFSETFROM:+0300
TZOFFSETTO:+0200
TZNAME:EET
DTSTART:20261025T010000
END:STANDARD
END:VTIMEZONE
BEGIN:VEVENT
DTSTART;TZID=Europe/Helsinki:20250306T180000
DTEND;TZID=Europe/Helsinki:20250306T190000
DTSTAMP:20260420T225023
CREATED:20250213T114457Z
LAST-MODIFIED:20250213T114500Z
UID:102893-1741284000-1741287600@logisztika.hu
SUMMARY:Karrierépítés már az egyetem alatt?
DESCRIPTION:Hogyan építsd a karriered egyetemistaként? – Interaktív beszélgetés szakértőkkel \n\n\n\n \n\n\n\nLehet-e egyetem mellett dolgozni? Milyen lehetőségek várnak rád a munkaerőpiacon? Hogyan építhetsz karriert már hallgatóként? \n\n\n\nHa gyakornoki helyet keresel\, a mesterképzés előtt állsz\, két diploma között vacillálsz\, vagy egyszerűen nem tudod\, merre indulj\, csatlakozz hozzánk egy izgalmas beszélgetésre! \n\n\n\nHárom elismert szakember osztja meg tapasztalatait és ad választ a legfontosabb kérdésekre.
URL:https://logisztika.hu/rendezveny/karrierepites-mar-az-egyetem-alatt/
CATEGORIES:Ifjúsági tagozat,Rendezvény,Tagozati program
ATTACH;FMTTYPE=image/png:https://logisztika.hu/wp-content/uploads/2025/02/Tagozati-esemenyek-14.png
ORGANIZER;CN="MLBKT":MAILTO:logisztika@logisztika.hu
END:VEVENT
END:VCALENDAR