BEGIN:VCALENDAR
VERSION:2.0
PRODID:-//Magyar Logisztikai, Beszerzési és Készletezési Társaság - ECPv6.15.16//NONSGML v1.0//EN
CALSCALE:GREGORIAN
METHOD:PUBLISH
X-WR-CALNAME:Magyar Logisztikai, Beszerzési és Készletezési Társaság
X-ORIGINAL-URL:https://logisztika.hu
X-WR-CALDESC:Események Magyar Logisztikai, Beszerzési és Készletezési Társaság
REFRESH-INTERVAL;VALUE=DURATION:PT1H
X-Robots-Tag:noindex
X-PUBLISHED-TTL:PT1H
BEGIN:VTIMEZONE
TZID:Europe/Helsinki
BEGIN:DAYLIGHT
TZOFFSETFROM:+0200
TZOFFSETTO:+0300
TZNAME:EEST
DTSTART:20240331T010000
END:DAYLIGHT
BEGIN:STANDARD
TZOFFSETFROM:+0300
TZOFFSETTO:+0200
TZNAME:EET
DTSTART:20241027T010000
END:STANDARD
BEGIN:DAYLIGHT
TZOFFSETFROM:+0200
TZOFFSETTO:+0300
TZNAME:EEST
DTSTART:20250330T010000
END:DAYLIGHT
BEGIN:STANDARD
TZOFFSETFROM:+0300
TZOFFSETTO:+0200
TZNAME:EET
DTSTART:20251026T010000
END:STANDARD
BEGIN:DAYLIGHT
TZOFFSETFROM:+0200
TZOFFSETTO:+0300
TZNAME:EEST
DTSTART:20260329T010000
END:DAYLIGHT
BEGIN:STANDARD
TZOFFSETFROM:+0300
TZOFFSETTO:+0200
TZNAME:EET
DTSTART:20261025T010000
END:STANDARD
END:VTIMEZONE
BEGIN:VEVENT
DTSTART;TZID=Europe/Helsinki:20250403T180000
DTEND;TZID=Europe/Helsinki:20250403T190000
DTSTAMP:20260421T054607
CREATED:20250305T135300Z
LAST-MODIFIED:20250306T074909Z
UID:103221-1743703200-1743706800@logisztika.hu
SUMMARY:Menni vagy maradni?
DESCRIPTION:A „Merre induljak? Mi legyek?” égető kérdések\, amelyekről azt hittük\, hogy az iskola- és pályaválasztásnál már letudtuk és többet nem kell ezzel a kérdéskörrel foglalkozni. Azonban egy alapdiploma megszerzésekor újra előkerülnek ezek a kérdések. \n\n\n\nHa szeretnél segítséget kapni\, szívesen meghallgatnád ki miért döntött a mester diploma mellett vagy ellen\, tarts velünk!
URL:https://logisztika.hu/rendezveny/menni-vagy-maradni/
CATEGORIES:Ifjúsági tagozat,Rendezvény,Tagozati program,Vállalatlátogatás
ATTACH;FMTTYPE=image/jpeg:https://logisztika.hu/wp-content/uploads/2025/03/Tagozati-esemenyek-3.jpg
ORGANIZER;CN="MLBKT":MAILTO:logisztika@logisztika.hu
END:VEVENT
END:VCALENDAR