BEGIN:VCALENDAR
VERSION:2.0
PRODID:-//Magyar Logisztikai, Beszerzési és Készletezési Társaság - ECPv6.15.16//NONSGML v1.0//EN
CALSCALE:GREGORIAN
METHOD:PUBLISH
X-WR-CALNAME:Magyar Logisztikai, Beszerzési és Készletezési Társaság
X-ORIGINAL-URL:https://logisztika.hu
X-WR-CALDESC:Események Magyar Logisztikai, Beszerzési és Készletezési Társaság
REFRESH-INTERVAL;VALUE=DURATION:PT1H
X-Robots-Tag:noindex
X-PUBLISHED-TTL:PT1H
BEGIN:VTIMEZONE
TZID:Europe/Helsinki
BEGIN:DAYLIGHT
TZOFFSETFROM:+0200
TZOFFSETTO:+0300
TZNAME:EEST
DTSTART:20240331T010000
END:DAYLIGHT
BEGIN:STANDARD
TZOFFSETFROM:+0300
TZOFFSETTO:+0200
TZNAME:EET
DTSTART:20241027T010000
END:STANDARD
BEGIN:DAYLIGHT
TZOFFSETFROM:+0200
TZOFFSETTO:+0300
TZNAME:EEST
DTSTART:20250330T010000
END:DAYLIGHT
BEGIN:STANDARD
TZOFFSETFROM:+0300
TZOFFSETTO:+0200
TZNAME:EET
DTSTART:20251026T010000
END:STANDARD
BEGIN:DAYLIGHT
TZOFFSETFROM:+0200
TZOFFSETTO:+0300
TZNAME:EEST
DTSTART:20260329T010000
END:DAYLIGHT
BEGIN:STANDARD
TZOFFSETFROM:+0300
TZOFFSETTO:+0200
TZNAME:EET
DTSTART:20261025T010000
END:STANDARD
END:VTIMEZONE
BEGIN:VEVENT
DTSTART;TZID=Europe/Helsinki:20251002T100000
DTEND;TZID=Europe/Helsinki:20251002T120000
DTSTAMP:20260421T083605
CREATED:20250908T093151Z
LAST-MODIFIED:20251003T131119Z
UID:105702-1759399200-1759406400@logisztika.hu
SUMMARY:MAHART CONTAINER CENTER vállalatlátogatás
DESCRIPTION:Gyere velünk a MAHART CONTAINER CENTERHEZ! \n\n\n\nVállalatlátogatásra invitálunk Magyarország egyetlen működő trimodális konténertermináljához\, ahol a közúti\, vasúti és vízi átrakás egy helyen zajlik. \n\n\n\nTarts velünk egy fergeteges\, igazi kikötői hangulatot idéző programra\, ahol testközelből láthatod\, hogyan kezelnek évente több mint 250 000 TEU-t. A közelmúltban telepített\, 41 tonna teherbírású daru pedig garantálja\, hogy az élmény nemcsak látványos\, hanem szakmailag is rendkívül inspiráló lesz!
URL:https://logisztika.hu/rendezveny/mahart-container-center-vallalatlatogatas/
ATTACH;FMTTYPE=image/jpeg:https://logisztika.hu/wp-content/uploads/2025/09/Vallalatlatogatasok.jpg
END:VEVENT
END:VCALENDAR