BEGIN:VCALENDAR
VERSION:2.0
PRODID:-//Magyar Logisztikai, Beszerzési és Készletezési Társaság - ECPv6.15.16//NONSGML v1.0//EN
CALSCALE:GREGORIAN
METHOD:PUBLISH
X-ORIGINAL-URL:https://logisztika.hu
X-WR-CALDESC:Események Magyar Logisztikai, Beszerzési és Készletezési Társaság
REFRESH-INTERVAL;VALUE=DURATION:PT1H
X-Robots-Tag:noindex
X-PUBLISHED-TTL:PT1H
BEGIN:VTIMEZONE
TZID:Europe/Helsinki
BEGIN:DAYLIGHT
TZOFFSETFROM:+0200
TZOFFSETTO:+0300
TZNAME:EEST
DTSTART:20240331T010000
END:DAYLIGHT
BEGIN:STANDARD
TZOFFSETFROM:+0300
TZOFFSETTO:+0200
TZNAME:EET
DTSTART:20241027T010000
END:STANDARD
BEGIN:DAYLIGHT
TZOFFSETFROM:+0200
TZOFFSETTO:+0300
TZNAME:EEST
DTSTART:20250330T010000
END:DAYLIGHT
BEGIN:STANDARD
TZOFFSETFROM:+0300
TZOFFSETTO:+0200
TZNAME:EET
DTSTART:20251026T010000
END:STANDARD
BEGIN:DAYLIGHT
TZOFFSETFROM:+0200
TZOFFSETTO:+0300
TZNAME:EEST
DTSTART:20260329T010000
END:DAYLIGHT
BEGIN:STANDARD
TZOFFSETFROM:+0300
TZOFFSETTO:+0200
TZNAME:EET
DTSTART:20261025T010000
END:STANDARD
END:VTIMEZONE
BEGIN:VEVENT
DTSTART;TZID=Europe/Helsinki:20251111T090000
DTEND;TZID=Europe/Helsinki:20251113T130000
DTSTAMP:20260421T070422
CREATED:20250529T100734Z
LAST-MODIFIED:20250930T132302Z
UID:104118-1762851600-1763038800@logisztika.hu
SUMMARY:33. MLBKT Kongresszus
DESCRIPTION:TÖBB MINT KONFERENCIA! – Közösség\, inspiráció és szakmai lendület – egy helyen! \n\n\n\n\n\n\n\nSzellemi felfrissülés – Előadások\, workshopok\, szakmai beszélgetések\, folyosói eszmecserék 3 napon át. Minden\, ami az ellátási láncok hatékony működtetésében hasznos a napi munkavégzésben\, a távlatok feltérképezésében. \n\n\n\n\n\n\n\nKapcsolódások – Szervezetten és spontán\, játékosan és komolyan. Sokan már alig várják\, hogy találkozzanak a rég nem látott ismerősökkel\, akikhez nem üzleti kapcsolatok fűzik\, hanem a közös szakmaiság. Mások üzleti kapcsolatokat építenek\, amit különböző eszközökkel\, dedikált networking időkkel támogatunk. \n\n\n\n\n\n\n\nPezsgő sokszínűség – Az év supply chain eseményén egyedülállóan változatos a résztvevők összetétele. Különböző szintű vezetők (cégvezetők\, funkcionális vezetők\, csoportvezetők)\, beszerzők – logisztikai – ellátási lánc szakemberek\, megbízók és logisztikai szolgáltatók\, egyetemisták és senior munkatársak.
URL:https://logisztika.hu/rendezveny/33-mlbkt-kongresszus/
CATEGORIES:Konferencia,Rendezvény,Tagozati program
ATTACH;FMTTYPE=image/png:https://logisztika.hu/wp-content/uploads/2025/05/Kongresszus-key-visuals-2025.png
ORGANIZER;CN="MLBKT":MAILTO:logisztika@logisztika.hu
END:VEVENT
END:VCALENDAR