BEGIN:VCALENDAR
VERSION:2.0
PRODID:-//Magyar Logisztikai, Beszerzési és Készletezési Társaság - ECPv6.15.16//NONSGML v1.0//EN
CALSCALE:GREGORIAN
METHOD:PUBLISH
X-ORIGINAL-URL:https://logisztika.hu
X-WR-CALDESC:Események Magyar Logisztikai, Beszerzési és Készletezési Társaság
REFRESH-INTERVAL;VALUE=DURATION:PT1H
X-Robots-Tag:noindex
X-PUBLISHED-TTL:PT1H
BEGIN:VTIMEZONE
TZID:Europe/Helsinki
BEGIN:DAYLIGHT
TZOFFSETFROM:+0200
TZOFFSETTO:+0300
TZNAME:EEST
DTSTART:20250330T010000
END:DAYLIGHT
BEGIN:STANDARD
TZOFFSETFROM:+0300
TZOFFSETTO:+0200
TZNAME:EET
DTSTART:20251026T010000
END:STANDARD
BEGIN:DAYLIGHT
TZOFFSETFROM:+0200
TZOFFSETTO:+0300
TZNAME:EEST
DTSTART:20260329T010000
END:DAYLIGHT
BEGIN:STANDARD
TZOFFSETFROM:+0300
TZOFFSETTO:+0200
TZNAME:EET
DTSTART:20261025T010000
END:STANDARD
BEGIN:DAYLIGHT
TZOFFSETFROM:+0200
TZOFFSETTO:+0300
TZNAME:EEST
DTSTART:20270328T010000
END:DAYLIGHT
BEGIN:STANDARD
TZOFFSETFROM:+0300
TZOFFSETTO:+0200
TZNAME:EET
DTSTART:20271031T010000
END:STANDARD
END:VTIMEZONE
BEGIN:VEVENT
DTSTART;TZID=Europe/Helsinki:20260323T190000
DTEND;TZID=Europe/Helsinki:20260323T210000
DTSTAMP:20260421T124246
CREATED:20260227T093811Z
LAST-MODIFIED:20260227T094414Z
UID:108574-1774292400-1774299600@logisztika.hu
SUMMARY:Áll az alku? Egy este amikor kibeszéljük a beszerzőket
DESCRIPTION:A Connect Conflict Night egy különleges színházi produkció\, amely a Connect eseménysorozat része és amelyen tavaly már 10 előadáson 4000 néző tanult szórakozva. \n\n\n\nA szervezők összegyűjtik a vállalaton belüli stresszes és konfliktusos helyzeteket\, amelyeket az Itt és Most Társulat improvizációs színészei jelenetekké formálnak. \n\n\n\nA színpadon megjelenő szituációkat látva szakértő vendégeink segítségével kísérletet teszünk a helyzetek elemzésére\, feloldására és megoldására. \n\n\n\nA legjobb jelenetek\, a legnagyobb konfliktusok\, a közönségkedvencek! A legszórakoztatóbb és legelgondolkodtatóbb vállalati történetek! Ezzel a gyűjteménnyel készülünk most Nektek!
URL:https://logisztika.hu/rendezveny/all-az-alku-egy-este-amikor-kibeszeljuk-a-beszerzoket/
CATEGORIES:Beszerzők és Beszerzési Vezetők Klubja,Rendezvény,Tagozati program
ATTACH;FMTTYPE=image/jpeg:https://logisztika.hu/wp-content/uploads/2026/02/03.23.-borito-169-2.jpg
ORGANIZER;CN="MLBKT":MAILTO:logisztika@logisztika.hu
END:VEVENT
END:VCALENDAR