BEGIN:VCALENDAR
VERSION:2.0
PRODID:-//Magyar Logisztikai, Beszerzési és Készletezési Társaság - ECPv6.15.16//NONSGML v1.0//EN
CALSCALE:GREGORIAN
METHOD:PUBLISH
X-WR-CALNAME:Magyar Logisztikai, Beszerzési és Készletezési Társaság
X-ORIGINAL-URL:https://logisztika.hu
X-WR-CALDESC:Események Magyar Logisztikai, Beszerzési és Készletezési Társaság
REFRESH-INTERVAL;VALUE=DURATION:PT1H
X-Robots-Tag:noindex
X-PUBLISHED-TTL:PT1H
BEGIN:VTIMEZONE
TZID:Europe/Helsinki
BEGIN:DAYLIGHT
TZOFFSETFROM:+0200
TZOFFSETTO:+0300
TZNAME:EEST
DTSTART:20250330T010000
END:DAYLIGHT
BEGIN:STANDARD
TZOFFSETFROM:+0300
TZOFFSETTO:+0200
TZNAME:EET
DTSTART:20251026T010000
END:STANDARD
BEGIN:DAYLIGHT
TZOFFSETFROM:+0200
TZOFFSETTO:+0300
TZNAME:EEST
DTSTART:20260329T010000
END:DAYLIGHT
BEGIN:STANDARD
TZOFFSETFROM:+0300
TZOFFSETTO:+0200
TZNAME:EET
DTSTART:20261025T010000
END:STANDARD
BEGIN:DAYLIGHT
TZOFFSETFROM:+0200
TZOFFSETTO:+0300
TZNAME:EEST
DTSTART:20270328T010000
END:DAYLIGHT
BEGIN:STANDARD
TZOFFSETFROM:+0300
TZOFFSETTO:+0200
TZNAME:EET
DTSTART:20271031T010000
END:STANDARD
END:VTIMEZONE
BEGIN:VEVENT
DTSTART;TZID=Europe/Helsinki:20260416T090000
DTEND;TZID=Europe/Helsinki:20260416T170000
DTSTAMP:20260420T193828
CREATED:20260121T111321Z
LAST-MODIFIED:20260122T110454Z
UID:107561-1776330000-1776358800@logisztika.hu
SUMMARY:Logisztika Napja 2026
DESCRIPTION:2026. április 16-án újra megrendezésre kerül a Logisztika Napja. Immár 14 éve segítjük\, hogy megnyíljanak a magyarországi logisztikával foglalkozó helyszínek kapui és az ingyenes programjaik híre eljusson a logisztika iránt érdeklődőkhöz. \n\n\n\nNagy örömmel támogatjuk az események szervezését és hírt adunk róla minden csatornánkon. \n\n\n\nBiztatjuk eseményszervezőinket\, hogy szervezzenek fizikai\, esetleg online eseményeket\, gyárlátogatásokat\, workshopokat\, minikonferenciákat\, mutassák meg magukat az érdeklődő szakmai közönségnek.
URL:https://logisztika.hu/rendezveny/logisztika-napja-2026/
CATEGORIES:Rendezvény
ATTACH;FMTTYPE=image/png:https://logisztika.hu/wp-content/uploads/2026/01/Logisztika-Napja-2026-1-2.png
ORGANIZER;CN="MLBKT":MAILTO:logisztika@logisztika.hu
END:VEVENT
BEGIN:VEVENT
DTSTART;TZID=Europe/Helsinki:20260416T180000
DTEND;TZID=Europe/Helsinki:20260416T230000
DTSTAMP:20260420T193828
CREATED:20260130T074513Z
LAST-MODIFIED:20260210T075510Z
UID:107839-1776362400-1776380400@logisztika.hu
SUMMARY:MLBKT 35 GÁLA ÉS DÍJÁTADÓ EST
DESCRIPTION:35 ÉV SZAKMAISÁG. \n\n\n\nEmberek\, döntések\, közös utak. \n\n\n\nAz MLBKT 35 éve a szakmáról szól – de mindenekelőtt azokról az emberekről\, akik tudásukkal\, kíváncsiságukkal és együttműködésükkel formálták és formálják a magyar logisztika\, beszerzés és supply chain világát. \n\n\n\nEzen az ünnepi napon – a Logisztika Napján – megállunk egy pillanatra\, hogy elismerjük a kiemelkedő eredményeket\, átadjuk a kiválóság díjakat\, valamint találkozzunk\, együtt ünnepeljünk\, megéljük és megmutassuk\, mit jelent az MLBKT közösségéhez tartozni.
URL:https://logisztika.hu/rendezveny/mlbkt-35-gala-es-dijatado-est/
CATEGORIES:Konferencia,Rendezvény
ATTACH;FMTTYPE=image/png:https://logisztika.hu/wp-content/uploads/2025/02/Szakmai-dij-2026-Presentation.png
ORGANIZER;CN="MLBKT":MAILTO:logisztika@logisztika.hu
END:VEVENT
END:VCALENDAR