BEGIN:VCALENDAR
VERSION:2.0
PRODID:-//Magyar Logisztikai, Beszerzési és Készletezési Társaság - ECPv6.15.16//NONSGML v1.0//EN
CALSCALE:GREGORIAN
METHOD:PUBLISH
X-WR-CALNAME:Magyar Logisztikai, Beszerzési és Készletezési Társaság
X-ORIGINAL-URL:https://logisztika.hu
X-WR-CALDESC:Események Magyar Logisztikai, Beszerzési és Készletezési Társaság
REFRESH-INTERVAL;VALUE=DURATION:PT1H
X-Robots-Tag:noindex
X-PUBLISHED-TTL:PT1H
BEGIN:VTIMEZONE
TZID:UTC
BEGIN:STANDARD
TZOFFSETFROM:+0000
TZOFFSETTO:+0000
TZNAME:UTC
DTSTART:20190101T000000
END:STANDARD
END:VTIMEZONE
BEGIN:VEVENT
DTSTART;TZID=UTC:20200512T163000
DTEND;TZID=UTC:20200512T173000
DTSTAMP:20260424T013312
CREATED:20200506T055033Z
LAST-MODIFIED:20200506T055033Z
UID:72468-1589301000-1589304600@logisztika.hu
SUMMARY:LOGITALK.2 - Munkaerőpiaci változások - górcső alatt a jövő ellátásilánc-szakembere
DESCRIPTION:A COVID-19 hatására kezdődő válságot már minden szektorban\, országban érezni. Többen homeoffice-ban vagy mostani szóval élve „HO-ban” dolgozunk\, ám ennek jövőjéről és az újrakezdésről keveset tudunk. A válságban való helytállás\, illetve a jövőbeli átalakult világunk újjáépítése kihatással van az elvárt és elvárandó képességekre egyaránt. \nMindannyiunkat foglalkoztat a kérdés\, hogy mi változott eddig és mik lehetnek a további várakozások? Hogyan fog (át)alakulni a piac\, és miként reagálhatunk erre? Mi az\, amire fel kell készülnünk\, és mi az\, amire úgysem lehet? \nA munkaerőpiaci hatásokról a Decathlon Ausztria ügyvezetőjével\, Pósfai Gáborral\, és a Masped Logisztika ügyvezetőjével\, Kovács Marcellel beszélget a Y2Y Hungary ügyvezetője\, Nagy-Józsa Dorka. \n  \n[divider] \nKövetkező online \nLOGITALK eseményünkre \n2020. május 12-én kedden kerül sor 16.30-17.30 között. \nTémája: \nMunkaerőpiaci változások – górcső alatt a jövő ellátásilánc-szakembere \n[divider] \n  \nBeszélgetőtársak: \nNagy-Józsa Dorka\, Y2Y Hungary ügyvezetője \nPósfai Gábor\, Decathlon Ausztria ügyvezetője \nKovács Marcell\, MASPED Logisztika Kft. ügyvezetője \n  \nA helyzetre való tekintettel az egy órás beszélgetést továbbra is online tartjuk meg\, mely során a fenti témákat boncolgatjuk\, ám szívesen veszünk további kérdéseket a LOGITALK alatt\, illetve előtt is előzetesen megküldve a következő email címre: mlbkt1@gmail.com\n \n  \nJelentkezési határidő: 2020. május 12. 10.00 \n  \n  \nTovábbi információk és jelentkezés >>>\n 
URL:https://logisztika.hu/rendezveny/logitalk-2-munkaeropiaci-valtozasok-gorcso-alatt-a-jovo-ellatasilanc-szakembere/
CATEGORIES:Webinar
END:VEVENT
BEGIN:VEVENT
DTSTART;TZID=UTC:20200512T163000
DTEND;TZID=UTC:20200512T173000
DTSTAMP:20260424T013312
CREATED:20200506T055033Z
LAST-MODIFIED:20200506T055033Z
UID:83003-1589301000-1589304600@logisztika.hu
SUMMARY:LOGITALK.2 - Munkaerőpiaci változások - górcső alatt a jövő ellátásilánc-szakembere
DESCRIPTION:A COVID-19 hatására kezdődő válságot már minden szektorban\, országban érezni. Többen homeoffice-ban vagy mostani szóval élve „HO-ban” dolgozunk\, ám ennek jövőjéről és az újrakezdésről keveset tudunk. A válságban való helytállás\, illetve a jövőbeli átalakult világunk újjáépítése kihatással van az elvárt és elvárandó képességekre egyaránt. \nMindannyiunkat foglalkoztat a kérdés\, hogy mi változott eddig és mik lehetnek a további várakozások? Hogyan fog (át)alakulni a piac\, és miként reagálhatunk erre? Mi az\, amire fel kell készülnünk\, és mi az\, amire úgysem lehet? \nA munkaerőpiaci hatásokról a Decathlon Ausztria ügyvezetőjével\, Pósfai Gáborral\, és a Masped Logisztika ügyvezetőjével\, Kovács Marcellel beszélget a Y2Y Hungary ügyvezetője\, Nagy-Józsa Dorka. \n  \n[divider] \nKövetkező online \nLOGITALK eseményünkre \n2020. május 12-én kedden kerül sor 16.30-17.30 között. \nTémája: \nMunkaerőpiaci változások – górcső alatt a jövő ellátásilánc-szakembere \n[divider] \n  \nBeszélgetőtársak: \nNagy-Józsa Dorka\, Y2Y Hungary ügyvezetője \nPósfai Gábor\, Decathlon Ausztria ügyvezetője \nKovács Marcell\, MASPED Logisztika Kft. ügyvezetője \n  \nA helyzetre való tekintettel az egy órás beszélgetést továbbra is online tartjuk meg\, mely során a fenti témákat boncolgatjuk\, ám szívesen veszünk további kérdéseket a LOGITALK alatt\, illetve előtt is előzetesen megküldve a következő email címre: mlbkt1@gmail.com\n \n  \nJelentkezési határidő: 2020. május 12. 10.00 \n  \n  \nTovábbi információk és jelentkezés >>>\n 
URL:https://logisztika.hu/rendezveny/logitalk-2-munkaeropiaci-valtozasok-gorcso-alatt-a-jovo-ellatasilanc-szakembere-2/
CATEGORIES:Webinar
END:VEVENT
BEGIN:VEVENT
DTSTART;TZID=UTC:20200520T000000
DTEND;TZID=UTC:20200520T235959
DTSTAMP:20260424T013312
CREATED:20191218T060131Z
LAST-MODIFIED:20191218T060131Z
UID:71519-1589932800-1590019199@logisztika.hu
SUMMARY:Beszerzési konferencia
DESCRIPTION:Beszerzési konferencia\nBudapest\, Fundamenta konferencia központ \nTovábbi infok hamarosan……..
URL:https://logisztika.hu/rendezveny/beszerzesi-konferencia/
CATEGORIES:Konferencia
END:VEVENT
BEGIN:VEVENT
DTSTART;TZID=UTC:20200520T000000
DTEND;TZID=UTC:20200520T235959
DTSTAMP:20260424T013312
CREATED:20191218T060131Z
LAST-MODIFIED:20191218T060131Z
UID:82988-1589932800-1590019199@logisztika.hu
SUMMARY:Beszerzési konferencia
DESCRIPTION:Beszerzési konferencia\nBudapest\, Fundamenta konferencia központ \nTovábbi infok hamarosan……..
URL:https://logisztika.hu/rendezveny/beszerzesi-konferencia-3/
CATEGORIES:Konferencia
END:VEVENT
BEGIN:VEVENT
DTSTART;TZID=UTC:20200521T160000
DTEND;TZID=UTC:20200521T173000
DTSTAMP:20260424T013312
CREATED:20200515T084324Z
LAST-MODIFIED:20200515T084324Z
UID:72543-1590076800-1590082200@logisztika.hu
SUMMARY:A logisztikában nincs megállás - Szállítmányozás és fuvarozás veszélyhelyzetben és utána
DESCRIPTION:Következő\, harmadik LogiTalk beszélgetésünk a logisztikai szolgáltatások helyzetét veszi górcső alá. Az MLBKT Logisztikai Szolgáltatói Tagozata szervezésében\, az ágazat széles spektrumát reprezentáló cégek vezetői mesélnek arról\, hogyan teltek az elmúlt hónapjaik\, hol tartanak most és mire készülnek a bizonytalan jövőt illetően.\nTöbbek közt szó lesz arról\, hogyan változtak a megbízók igényei\, helyzetük; kell-e változtatni a stratégiájukon; mi várható a különböző fuvarozási módok eloszlásában\, fuvardíjakban;\nfenntarthatóbb lesz-e fuvarozás. \n  \n[divider] \nKövetkező online \nLOGITALK eseményünkre \n2020. május 21-én csütörtökön kerül sor 16.00-17.30 között. \nTémája: \nA logisztikában nincs megállás – Szállítmányozás és fuvarozás veszélyhelyzetben és utána \n[divider] \n\nModerátor: \nÓdor Gergely\, ügyvezető igazgató\, OGL Hungary Kft. \nBeszélgetőtársak: \nCsipes Péter\, ügyvezető igazgató\, STI Hungary Kft.\n\nKiss Nikoletta\, ügyvezető\, Palmsped Cargo\n\nKovács Ákos\, country manager\, EKOL\n\nSzász Tímea\, Key Account Manager\, Gebrüder Weiss Szállítmányozási és Logisztikai Kft.\n\nSzécsi Gabriella\, ügyvezető igazgató\, BI-KA Kft.\n\nViczián Ákos\, logisztikai igazgató\, GYSEG Cargo Zrt. \n  \nA helyzetre való tekintettel az egy órás beszélgetést továbbra is online tartjuk meg\, mely során a fenti témákat boncolgatjuk\, ám szívesen veszünk további kérdéseket a LOGITALK alatt\, illetve előtt is előzetesen megküldve a következő email címre: mlbkt1@gmail.com \nJelentkezési határidő: 2020. május 21. 10.00 \n  \nRészletek és jelentkezés >>>
URL:https://logisztika.hu/rendezveny/a-logisztikaban-nincs-megallas-szallitmanyozas-es-fuvarozas-veszelyhelyzetben-es-utana/
CATEGORIES:Webinar
END:VEVENT
BEGIN:VEVENT
DTSTART;TZID=UTC:20200521T160000
DTEND;TZID=UTC:20200521T173000
DTSTAMP:20260424T013312
CREATED:20200515T084324Z
LAST-MODIFIED:20200515T084324Z
UID:83004-1590076800-1590082200@logisztika.hu
SUMMARY:A logisztikában nincs megállás - Szállítmányozás és fuvarozás veszélyhelyzetben és utána
DESCRIPTION:Következő\, harmadik LogiTalk beszélgetésünk a logisztikai szolgáltatások helyzetét veszi górcső alá. Az MLBKT Logisztikai Szolgáltatói Tagozata szervezésében\, az ágazat széles spektrumát reprezentáló cégek vezetői mesélnek arról\, hogyan teltek az elmúlt hónapjaik\, hol tartanak most és mire készülnek a bizonytalan jövőt illetően.\nTöbbek közt szó lesz arról\, hogyan változtak a megbízók igényei\, helyzetük; kell-e változtatni a stratégiájukon; mi várható a különböző fuvarozási módok eloszlásában\, fuvardíjakban;\nfenntarthatóbb lesz-e fuvarozás. \n  \n[divider] \nKövetkező online \nLOGITALK eseményünkre \n2020. május 21-én csütörtökön kerül sor 16.00-17.30 között. \nTémája: \nA logisztikában nincs megállás – Szállítmányozás és fuvarozás veszélyhelyzetben és utána \n[divider] \n\nModerátor: \nÓdor Gergely\, ügyvezető igazgató\, OGL Hungary Kft. \nBeszélgetőtársak: \nCsipes Péter\, ügyvezető igazgató\, STI Hungary Kft.\n\nKiss Nikoletta\, ügyvezető\, Palmsped Cargo\n\nKovács Ákos\, country manager\, EKOL\n\nSzász Tímea\, Key Account Manager\, Gebrüder Weiss Szállítmányozási és Logisztikai Kft.\n\nSzécsi Gabriella\, ügyvezető igazgató\, BI-KA Kft.\n\nViczián Ákos\, logisztikai igazgató\, GYSEG Cargo Zrt. \n  \nA helyzetre való tekintettel az egy órás beszélgetést továbbra is online tartjuk meg\, mely során a fenti témákat boncolgatjuk\, ám szívesen veszünk további kérdéseket a LOGITALK alatt\, illetve előtt is előzetesen megküldve a következő email címre: mlbkt1@gmail.com \nJelentkezési határidő: 2020. május 21. 10.00 \n  \nRészletek és jelentkezés >>>
URL:https://logisztika.hu/rendezveny/a-logisztikaban-nincs-megallas-szallitmanyozas-es-fuvarozas-veszelyhelyzetben-es-utana-2/
CATEGORIES:Webinar
END:VEVENT
BEGIN:VEVENT
DTSTART;TZID=UTC:20200527T170000
DTEND;TZID=UTC:20200527T170000
DTSTAMP:20260424T013312
CREATED:20200515T130951Z
LAST-MODIFIED:20200515T130951Z
UID:72558-1590598800-1590598800@logisztika.hu
SUMMARY:MLBKT tisztújító közgyűlés
DESCRIPTION:Az MLBKT 2020. május 27-én 17 órai kezdettel rendezi meg éves rendes\, tisztújító közgyűlését\, melyre szerettel meghívjuk minden érvényes tagsággal rendelkező tagunkat!\n \n\nHelyszín: Az eseményt a ZOOM* alkalmazásban szervezzük a regisztráció után visszaigazolást küldünk és a közgyűlés előtt küldjük e-mailben a belépési linket.\n \n(*A ZOOM-mal kapcsolatban tájékoztatjuk\, hogy figyelemmel kísérjük a híreket és információkat. A rendszeren az elmúlt hetekben biztonsági szempontból sokat fejlesztettek\, a belépés jelszóhoz lesz kötve. Akinek céges szinten korlátozott a hozzáférés\, javasoljuk telefonon vagy otthoni gépen táblagépen történő csatlakozást.) \n  \nNapirendi pontok: \n\nKöszöntő\, levezető elnök\, jegyzőkönyvvezető\, jegyzőkönyvhitelesítő és a szavazat hitelesítők megválasztása\nBeszámoló az MLBKT 2019. évi tevékenységéről\nPénzügyi beszámoló és az Ellenőrző Bizottság jelentése\nAz MLBKT 2019. évi közhasznúsági jelentésének elfogadása\nAz MLBKT ezévi és jövőbeni céljai és tervei\nVezető tisztségviselők és az Ellenőrző Bizottság tagjainak megválasztása a 2020-2022 periódusra\nEgyebek\n\n  \nKérjük\, részvételi szándékát ide kattintva jelezze! \nJelentkezési határidő: 2020. május 26. \n  \nA jelöltek\nChikán Attila\, egyetemi tanár\, Budapesti Corvinus Egyetem\nCser Szilárd\, logisztikai igazgató\, Waberer’s-Szemerey Logisztika Kft.\nCsicsmann Péter\, ügyvezető\, Next Generation Hungary Kft.\nDomán Attila\, ügyvezető igazgató\, Ewals Cargo Care Kft.\nGábor Zsolt\, ügyvezető ProcurCon Kft.\n Gál István\, projektmenedzser\, BI-KA LOGISZTIKA Kft.\n Gelei Andrea\, egyetemi tanár\, Budapesti Corvinus Egyetem\, Vállalatgazdaságtan Intézet\, Logisztika és Ellátási Lánc Menedzsment Tanszék\n Horváth Péter\, logisztikai vezető\, Ice Solution Kft.\n Hosszú Csilla\, ügyvezető igazgató\, Sprinter Futárszolgálat Kft.\n Kellner Mária\, ellátási lánc igazgató\, Béres Gyógyszergyár Zrt.\n Kis Gábor\, csoportvezető\, Robert Bosch Elektronika Kft.\nNagy Attila\, vállalati üzletfejlesztési igazgató\, Airmax Cargo Budapest Zrt.\nNika Tamás\, MLBKT Lean Tagozat vezetője\, lean tanácsadó\, vállalkozó\, Kaizen Pro Kft.\nPerlaky Zoltán\, értékesítési vezető\, Colibree Desing & Development Kft.\nSélley Sándor\, supply chain manager\, Grundfos Manufacturing Hungary\nSzabó András\, logisztikai vezető\, Tyco Electronics Hungary Kft.\nSzalma Botond\, vezérigazgató\, Plimsoll Zrt.\ndr. Tamás Péter\, dékánhelyettes\, intézetigazgató\, egyetemi docens\, Miskolci Egyetem\, Logisztikai Intézet\n Turi Gábor\, ügyvezető igazató\, PULTRANS Vasúti Szállítmányozási Kft.\n Tüske Zsuzsanna\, ügyvezető\, J&J Center Kft.\n Urbán Attila\, ellátási lánc menedzsment vezető\, CLAAS Hungária Kft. \n 
URL:https://logisztika.hu/rendezveny/mlbkt-tisztujito-kozgyules-2020-majus-27-en/
END:VEVENT
BEGIN:VEVENT
DTSTART;TZID=UTC:20200527T170000
DTEND;TZID=UTC:20200527T170000
DTSTAMP:20260424T013312
CREATED:20200515T130951Z
LAST-MODIFIED:20200515T130951Z
UID:83005-1590598800-1590598800@logisztika.hu
SUMMARY:MLBKT tisztújító közgyűlés
DESCRIPTION:Az MLBKT 2020. május 27-én 17 órai kezdettel rendezi meg éves rendes\, tisztújító közgyűlését\, melyre szerettel meghívjuk minden érvényes tagsággal rendelkező tagunkat!\n \n\nHelyszín: Az eseményt a ZOOM* alkalmazásban szervezzük a regisztráció után visszaigazolást küldünk és a közgyűlés előtt küldjük e-mailben a belépési linket.\n \n(*A ZOOM-mal kapcsolatban tájékoztatjuk\, hogy figyelemmel kísérjük a híreket és információkat. A rendszeren az elmúlt hetekben biztonsági szempontból sokat fejlesztettek\, a belépés jelszóhoz lesz kötve. Akinek céges szinten korlátozott a hozzáférés\, javasoljuk telefonon vagy otthoni gépen táblagépen történő csatlakozást.) \n  \nNapirendi pontok: \n\nKöszöntő\, levezető elnök\, jegyzőkönyvvezető\, jegyzőkönyvhitelesítő és a szavazat hitelesítők megválasztása\nBeszámoló az MLBKT 2019. évi tevékenységéről\nPénzügyi beszámoló és az Ellenőrző Bizottság jelentése\nAz MLBKT 2019. évi közhasznúsági jelentésének elfogadása\nAz MLBKT ezévi és jövőbeni céljai és tervei\nVezető tisztségviselők és az Ellenőrző Bizottság tagjainak megválasztása a 2020-2022 periódusra\nEgyebek\n\n  \nKérjük\, részvételi szándékát ide kattintva jelezze! \nJelentkezési határidő: 2020. május 26. \n  \nA jelöltek\nChikán Attila\, egyetemi tanár\, Budapesti Corvinus Egyetem\nCser Szilárd\, logisztikai igazgató\, Waberer’s-Szemerey Logisztika Kft.\nCsicsmann Péter\, ügyvezető\, Next Generation Hungary Kft.\nDomán Attila\, ügyvezető igazgató\, Ewals Cargo Care Kft.\nGábor Zsolt\, ügyvezető ProcurCon Kft.\n Gál István\, projektmenedzser\, BI-KA LOGISZTIKA Kft.\n Gelei Andrea\, egyetemi tanár\, Budapesti Corvinus Egyetem\, Vállalatgazdaságtan Intézet\, Logisztika és Ellátási Lánc Menedzsment Tanszék\n Horváth Péter\, logisztikai vezető\, Ice Solution Kft.\n Hosszú Csilla\, ügyvezető igazgató\, Sprinter Futárszolgálat Kft.\n Kellner Mária\, ellátási lánc igazgató\, Béres Gyógyszergyár Zrt.\n Kis Gábor\, csoportvezető\, Robert Bosch Elektronika Kft.\nNagy Attila\, vállalati üzletfejlesztési igazgató\, Airmax Cargo Budapest Zrt.\nNika Tamás\, MLBKT Lean Tagozat vezetője\, lean tanácsadó\, vállalkozó\, Kaizen Pro Kft.\nPerlaky Zoltán\, értékesítési vezető\, Colibree Desing & Development Kft.\nSélley Sándor\, supply chain manager\, Grundfos Manufacturing Hungary\nSzabó András\, logisztikai vezető\, Tyco Electronics Hungary Kft.\nSzalma Botond\, vezérigazgató\, Plimsoll Zrt.\ndr. Tamás Péter\, dékánhelyettes\, intézetigazgató\, egyetemi docens\, Miskolci Egyetem\, Logisztikai Intézet\n Turi Gábor\, ügyvezető igazató\, PULTRANS Vasúti Szállítmányozási Kft.\n Tüske Zsuzsanna\, ügyvezető\, J&J Center Kft.\n Urbán Attila\, ellátási lánc menedzsment vezető\, CLAAS Hungária Kft. \n 
URL:https://logisztika.hu/rendezveny/mlbkt-tisztujito-kozgyules-2020-majus-27-en-2/
END:VEVENT
BEGIN:VEVENT
DTSTART;TZID=UTC:20200528T163000
DTEND;TZID=UTC:20200528T173000
DTSTAMP:20260424T013312
CREATED:20200520T073636Z
LAST-MODIFIED:20200520T073636Z
UID:72579-1590683400-1590687000@logisztika.hu
SUMMARY:Vissza a jelenbe! – Gyártó cégek logisztikai vezetői beszélgetnek a csapatról\, a vezetésről és a szükségessé váló új kompetenciákról
DESCRIPTION:Az elmúlt két vagy lassan már három hónapig tartó home office időszak alatt többször tapasztalhattuk a „teher alatt nő a pálma” mondanivalóját akár vezetőként vagy beosztottként. Számos képességünkre szükségünk volt ahhoz\, hogy összetartsuk és motiváljuk csapatunkat.\nMost azonban újabb változás előtt állunk\, hiszen lassacskán visszatérünk az irodába\, így joggal merülhet fel bennünk a kérdés\, hogy mi lesz ezután? Magától meg fog változni a vezetési szokás és stílus? A vezetők miként fogják másképp vezetni a közösséget? Mi az\, ami átmenthető a karantén tapasztalatokból az irodába? Miben lesz más a toborzás és milyen lehetőségeink vannak\, amennyiben elérhetetlen emberekkel szeretnénk bővíteni csapatunkat?\nA soron következő LOGITALK-on a fenti kérdések közösségre gyakorolt hatásairól\, technikai megvalósulásáról\, valamint a változások gyakorlati tapasztalatairól beszélgetünk logisztikai vezetőkkel egy fejvadász vezetésével.  \n  \n[divider] \nKövetkező online \nLOGITALK eseményünkre \n2020. május 28-án csütörtökön kerül sor 16.30-17.30 között. \nTémája: \nVissza a jelenbe! – Gyártó cégek logisztikai vezetői beszélgetnek a csapatról\, a vezetésről és a szükségessé váló új kompetenciákról \n[divider] \n\nModerátor: \nPethő Anikó\, szakmai vezető\, Aarenson Consulting Kft. \nBeszélgetőtársak: \nSélley Sándor\, Supply Chain Manager\, Grundfos Magyarország Gyártó Kft.\n\nCsermák Gergő\, Globális Készletelemzési Vezető\, NI Hungary Kft.\n\nSzabó András\, Logisztikai Vezető\, Tyco Electronics Hungary Kft.\n \nA helyzetre való tekintettel az egy órás beszélgetést továbbra is online tartjuk meg\, mely során a fenti témákat boncolgatjuk\, ám szívesen veszünk további kérdéseket a LOGITALK alatt\, illetve előtt is előzetesen megküldve a következő email címre: mlbkt1@gmail.com \nJelentkezési határidő: 2020. május 28. 10.00 \n További részletek és jelentkezés >>>\n \n 
URL:https://logisztika.hu/rendezveny/vissza-a-jelenbe-gyarto-cegek-logisztikai-vezetoi-beszelgetnek-a-csapatrol-a-vezetesrol-es-a-szuksegesse-valo-uj-kompetenciakrol/
CATEGORIES:Webinar
END:VEVENT
BEGIN:VEVENT
DTSTART;TZID=UTC:20200528T163000
DTEND;TZID=UTC:20200528T173000
DTSTAMP:20260424T013312
CREATED:20200520T073636Z
LAST-MODIFIED:20200520T073636Z
UID:83007-1590683400-1590687000@logisztika.hu
SUMMARY:Vissza a jelenbe! – Gyártó cégek logisztikai vezetői beszélgetnek a csapatról\, a vezetésről és a szükségessé váló új kompetenciákról
DESCRIPTION:Az elmúlt két vagy lassan már három hónapig tartó home office időszak alatt többször tapasztalhattuk a „teher alatt nő a pálma” mondanivalóját akár vezetőként vagy beosztottként. Számos képességünkre szükségünk volt ahhoz\, hogy összetartsuk és motiváljuk csapatunkat.\nMost azonban újabb változás előtt állunk\, hiszen lassacskán visszatérünk az irodába\, így joggal merülhet fel bennünk a kérdés\, hogy mi lesz ezután? Magától meg fog változni a vezetési szokás és stílus? A vezetők miként fogják másképp vezetni a közösséget? Mi az\, ami átmenthető a karantén tapasztalatokból az irodába? Miben lesz más a toborzás és milyen lehetőségeink vannak\, amennyiben elérhetetlen emberekkel szeretnénk bővíteni csapatunkat?\nA soron következő LOGITALK-on a fenti kérdések közösségre gyakorolt hatásairól\, technikai megvalósulásáról\, valamint a változások gyakorlati tapasztalatairól beszélgetünk logisztikai vezetőkkel egy fejvadász vezetésével.  \n  \n[divider] \nKövetkező online \nLOGITALK eseményünkre \n2020. május 28-án csütörtökön kerül sor 16.30-17.30 között. \nTémája: \nVissza a jelenbe! – Gyártó cégek logisztikai vezetői beszélgetnek a csapatról\, a vezetésről és a szükségessé váló új kompetenciákról \n[divider] \n\nModerátor: \nPethő Anikó\, szakmai vezető\, Aarenson Consulting Kft. \nBeszélgetőtársak: \nSélley Sándor\, Supply Chain Manager\, Grundfos Magyarország Gyártó Kft.\n\nCsermák Gergő\, Globális Készletelemzési Vezető\, NI Hungary Kft.\n\nSzabó András\, Logisztikai Vezető\, Tyco Electronics Hungary Kft.\n \nA helyzetre való tekintettel az egy órás beszélgetést továbbra is online tartjuk meg\, mely során a fenti témákat boncolgatjuk\, ám szívesen veszünk további kérdéseket a LOGITALK alatt\, illetve előtt is előzetesen megküldve a következő email címre: mlbkt1@gmail.com \nJelentkezési határidő: 2020. május 28. 10.00 \n További részletek és jelentkezés >>>\n \n 
URL:https://logisztika.hu/rendezveny/vissza-a-jelenbe-gyarto-cegek-logisztikai-vezetoi-beszelgetnek-a-csapatrol-a-vezetesrol-es-a-szuksegesse-valo-uj-kompetenciakrol-2/
CATEGORIES:Webinar
END:VEVENT
END:VCALENDAR