BEGIN:VCALENDAR
VERSION:2.0
PRODID:-//Magyar Logisztikai, Beszerzési és Készletezési Társaság - ECPv6.15.16//NONSGML v1.0//EN
CALSCALE:GREGORIAN
METHOD:PUBLISH
X-WR-CALNAME:Magyar Logisztikai, Beszerzési és Készletezési Társaság
X-ORIGINAL-URL:https://logisztika.hu
X-WR-CALDESC:Események Magyar Logisztikai, Beszerzési és Készletezési Társaság
REFRESH-INTERVAL;VALUE=DURATION:PT1H
X-Robots-Tag:noindex
X-PUBLISHED-TTL:PT1H
BEGIN:VTIMEZONE
TZID:UTC
BEGIN:STANDARD
TZOFFSETFROM:+0000
TZOFFSETTO:+0000
TZNAME:UTC
DTSTART:20190101T000000
END:STANDARD
END:VTIMEZONE
BEGIN:VEVENT
DTSTART;TZID=UTC:20201201T000000
DTEND;TZID=UTC:20201201T235959
DTSTAMP:20260423T145348
CREATED:20201126T072022Z
LAST-MODIFIED:20201126T072022Z
UID:73563-1606780800-1606867199@logisztika.hu
SUMMARY:28. MLBKT Kongresszus 2. része
DESCRIPTION:Ne hagyja ki a “szakma” legfontosabb rendezvényét! Csatlakozzon a 2. részhez!\nA november 9-i bejelentés hatására változást eszközöltünk a 28. MLBKT Kongresszus megrendezésében\, melynek plenáris ülését\, és egy-egy szekcióját stúdióból közvetítettük volna. Ezeket a szekciókat december 1-jén\, egynapos „MLBKT Kongressszus 2.” rendezvény keretében szervezzük meg. \nAz MLBKT Kongresszus 2. programja nagyon gazdag\, ezért érdemes áttekinteni a programot és bejelölni a kihagyhatatlan előadásokat. \nAz egynapos részvétel nagyon kedvezményes\, ezért érdemes alaposan tanulmányozni a Részvételi díjak oldalt is. \n \n \nAz MLBKT Kongresszus 2. részének szekciói\nDecember 1-jén 5 szekcióban kiváló előadók várják az alábbi témakörökkel: \nEllátási láncok jövője \n\nHogyan járulhat hozzá az ellátásilánc-menedzsment a jövőbeni üzleti sikerhez? Milyen tennivalók állnak előttünk a jövő rugalmas ellátási láncának felépítése érdekében?\nAz átláthatóság az ellátási láncok ellenállóképességének szolgálatában.\nHogyan segítette az újraindulás megtervezését az\, hogy láthatóvá vált az új folyamatok hatása\, még azelőtt\, hogy bevezetésre kerültek volna\, és hogyan ismerhetők meg saját működésünk rejtelmei?\nA nemzetközi ellátási láncok jelene és jövője.\n\n  \nMit tehet a logisztika a környezeti fenntarthatóságért? \n\nHatékonyabb logisztikai folyamatok és csökkenő CO2 kibocsátás.\nValóban fenntarthatóvá válik egy gazdálkodó szervezet működése csak a környezetvédelmi fejlesztésekre támaszkodva?\nFenntarthatóság\, mint vállalati stratégia.\n\n  \nE-kereskedelem: Fókuszban az élelmiszer \n\nForradalom a kiskereskedelemben.\nMilyen tendenciák jellemzik az online kereskedelmi piacot?\nKorszerű raktározásmenedzsment a webshop logisztika területén.\nB2C megoldás gyűjtőhálózatban –kimagasló vevőkiszolgálással\, ügyfélmegelégedettséggel az egész országban.\n\n  \nInnovációk pandémia idején \n\nLogisztikai digitalizáció\, a COVID elleni harc frontvonalában.\nHogyan reagáljunk\, ha a helyzetre nem léteznek best practice tanulságok?\nVészhelyzeti forgatókönyv.\n\n  \nÉlet Coviddal: Logisztikai szolgáltatások beszerzése – panelbeszélgetés \n  \nMindig tudunk újat mutatni!\nIsmerje meg a legújabb innovációkat és trendeket az MLBKT Kongresszus 2. részén!  \nA 2. rész programjára minden 2020. november 13-i regisztrált résztvevőnk számára ingyenes belépési lehetőséget biztosítunk\, valamint visszanézhetőséget a múlt héten elhangzott programokból és látogatást a 3D kiállítás standjain\, csatlakozást a kiállítói nyereményjátékhoz. \nHa még nem regisztrált az eseményre\, itt a kiváló alkalom\, hogy csatlakozzon már 15 000 Ft-tól! Izgalmas programokban és beszélgetésekben most sem lesz hiány\, regisztráljon november 26-ig!
URL:https://logisztika.hu/rendezveny/28-mlbkt-kongresszus-2-resze/
CATEGORIES:Konferencia
END:VEVENT
BEGIN:VEVENT
DTSTART;TZID=UTC:20201201T000000
DTEND;TZID=UTC:20201201T235959
DTSTAMP:20260423T145348
CREATED:20201126T072022Z
LAST-MODIFIED:20201126T072022Z
UID:83034-1606780800-1606867199@logisztika.hu
SUMMARY:28. MLBKT Kongresszus 2. része
DESCRIPTION:Ne hagyja ki a “szakma” legfontosabb rendezvényét! Csatlakozzon a 2. részhez!\nA november 9-i bejelentés hatására változást eszközöltünk a 28. MLBKT Kongresszus megrendezésében\, melynek plenáris ülését\, és egy-egy szekcióját stúdióból közvetítettük volna. Ezeket a szekciókat december 1-jén\, egynapos „MLBKT Kongressszus 2.” rendezvény keretében szervezzük meg. \nAz MLBKT Kongresszus 2. programja nagyon gazdag\, ezért érdemes áttekinteni a programot és bejelölni a kihagyhatatlan előadásokat. \nAz egynapos részvétel nagyon kedvezményes\, ezért érdemes alaposan tanulmányozni a Részvételi díjak oldalt is. \n \n \nAz MLBKT Kongresszus 2. részének szekciói\nDecember 1-jén 5 szekcióban kiváló előadók várják az alábbi témakörökkel: \nEllátási láncok jövője \n\nHogyan járulhat hozzá az ellátásilánc-menedzsment a jövőbeni üzleti sikerhez? Milyen tennivalók állnak előttünk a jövő rugalmas ellátási láncának felépítése érdekében?\nAz átláthatóság az ellátási láncok ellenállóképességének szolgálatában.\nHogyan segítette az újraindulás megtervezését az\, hogy láthatóvá vált az új folyamatok hatása\, még azelőtt\, hogy bevezetésre kerültek volna\, és hogyan ismerhetők meg saját működésünk rejtelmei?\nA nemzetközi ellátási láncok jelene és jövője.\n\n  \nMit tehet a logisztika a környezeti fenntarthatóságért? \n\nHatékonyabb logisztikai folyamatok és csökkenő CO2 kibocsátás.\nValóban fenntarthatóvá válik egy gazdálkodó szervezet működése csak a környezetvédelmi fejlesztésekre támaszkodva?\nFenntarthatóság\, mint vállalati stratégia.\n\n  \nE-kereskedelem: Fókuszban az élelmiszer \n\nForradalom a kiskereskedelemben.\nMilyen tendenciák jellemzik az online kereskedelmi piacot?\nKorszerű raktározásmenedzsment a webshop logisztika területén.\nB2C megoldás gyűjtőhálózatban –kimagasló vevőkiszolgálással\, ügyfélmegelégedettséggel az egész országban.\n\n  \nInnovációk pandémia idején \n\nLogisztikai digitalizáció\, a COVID elleni harc frontvonalában.\nHogyan reagáljunk\, ha a helyzetre nem léteznek best practice tanulságok?\nVészhelyzeti forgatókönyv.\n\n  \nÉlet Coviddal: Logisztikai szolgáltatások beszerzése – panelbeszélgetés \n  \nMindig tudunk újat mutatni!\nIsmerje meg a legújabb innovációkat és trendeket az MLBKT Kongresszus 2. részén!  \nA 2. rész programjára minden 2020. november 13-i regisztrált résztvevőnk számára ingyenes belépési lehetőséget biztosítunk\, valamint visszanézhetőséget a múlt héten elhangzott programokból és látogatást a 3D kiállítás standjain\, csatlakozást a kiállítói nyereményjátékhoz. \nHa még nem regisztrált az eseményre\, itt a kiváló alkalom\, hogy csatlakozzon már 15 000 Ft-tól! Izgalmas programokban és beszélgetésekben most sem lesz hiány\, regisztráljon november 26-ig!
URL:https://logisztika.hu/rendezveny/28-mlbkt-kongresszus-2-resze-2/
CATEGORIES:Konferencia
END:VEVENT
BEGIN:VEVENT
DTSTART;TZID=UTC:20201210T140000
DTEND;TZID=UTC:20201210T153000
DTSTAMP:20260423T145348
CREATED:20201202T095237Z
LAST-MODIFIED:20201202T095237Z
UID:73591-1607608800-1607614200@logisztika.hu
SUMMARY:Gyógyszeripari Tagozat online légiszállítási minikonferencia
DESCRIPTION:Az MLBKT Gyógyszeripari Tagozata online légiszállítási minikonferenciát tart\, melyre szeretettel meghívjuk partnereinket az alábbiak szerint: \nTéma: Légiszállítási és gyógyszeripar logisztikai körkép\, kihívások és aktualitások a 2020-as évben Magyarországon\, illetve a KKE régióban \n  \nA minikonferencia szponzora a BUD Cargo és a DHL. \nProgram: \n13:40-13:55 – online bejelentkezés \n13:55-14:00 Köszöntő – Kellner Mária\, MLBKT alelnök\, MLBKT Gyógyszeripari Tagozat vezető\, ellátási lánc igazgató\, Béres Gyógyszergyár Zrt. \n14:00-14:10 A 2020-as év légiszállítási környezetéről\, aktualitásokról – Kossuth József\, cargo vezető\, BUD Cargo \n14:15-14:30 Megbízói oldal áruszállítási kihívásai 2020-ban – Katona Ágnes\, logisztikai koordinátor\, Egis Zrt. \n14:30-14:45 Logisztika és légiáruszállítás aktualitásai a szállítmányozó szemével – Fekete Marietta\, Special Cargo and Thermonet Product Manager /Road Operation Team Leader / Certified Life Science Specialist\, DHL \n  \n14:45-15:30 Panelbeszélgetés\, Légiszállítási és gyógyszeripar logisztikai kihívásai\, aktualitásai a 2020-as évben Magyarországon\, illetve a KKE régióban \nModerátor: Kossuth József\, cargo vezető\, BUD Cargo \nRésztvevők: \n\nKatona Ágnes\, logisztikai koordinátor\, Egis Zrt.\nFekete Marietta\, Special Cargo and Thermonet Product Manager /Road Operation Team Leader / Certified Life Science Specialist\, DHL\nTrifán László\, Senior cargo vezető\, Celebi GH\nHeckenast Kornél\, kereskedelmi vezető\, R-BAG\nEnvirotainer felkérés alatt\n\n  \nIdőpont: 2020. december 10.\, 14.00-15.30 \nHelyszín: ZOOM online platform \n(a belépéshez szükséges kódot minden jelentkezőnknek a rendezvény napján\, a délelőtti órákban küldjük) \nRészvételi díj: \n\nA részvétel minden résztvevő számára INGYENES\, de előzetes regisztrációhoz kötött!\n\nJelentkezési határidő: 2020. december 9. 24.00 óra \n 
URL:https://logisztika.hu/rendezveny/gyogyszeripari-tagozat-online-legiszallitasi-minikonferencia/
CATEGORIES:Webinar
END:VEVENT
BEGIN:VEVENT
DTSTART;TZID=UTC:20201210T140000
DTEND;TZID=UTC:20201210T153000
DTSTAMP:20260423T145348
CREATED:20201202T095237Z
LAST-MODIFIED:20201202T095237Z
UID:83035-1607608800-1607614200@logisztika.hu
SUMMARY:Gyógyszeripari Tagozat online légiszállítási minikonferencia
DESCRIPTION:Az MLBKT Gyógyszeripari Tagozata online légiszállítási minikonferenciát tart\, melyre szeretettel meghívjuk partnereinket az alábbiak szerint: \nTéma: Légiszállítási és gyógyszeripar logisztikai körkép\, kihívások és aktualitások a 2020-as évben Magyarországon\, illetve a KKE régióban \n  \nA minikonferencia szponzora a BUD Cargo és a DHL. \nProgram: \n13:40-13:55 – online bejelentkezés \n13:55-14:00 Köszöntő – Kellner Mária\, MLBKT alelnök\, MLBKT Gyógyszeripari Tagozat vezető\, ellátási lánc igazgató\, Béres Gyógyszergyár Zrt. \n14:00-14:10 A 2020-as év légiszállítási környezetéről\, aktualitásokról – Kossuth József\, cargo vezető\, BUD Cargo \n14:15-14:30 Megbízói oldal áruszállítási kihívásai 2020-ban – Katona Ágnes\, logisztikai koordinátor\, Egis Zrt. \n14:30-14:45 Logisztika és légiáruszállítás aktualitásai a szállítmányozó szemével – Fekete Marietta\, Special Cargo and Thermonet Product Manager /Road Operation Team Leader / Certified Life Science Specialist\, DHL \n  \n14:45-15:30 Panelbeszélgetés\, Légiszállítási és gyógyszeripar logisztikai kihívásai\, aktualitásai a 2020-as évben Magyarországon\, illetve a KKE régióban \nModerátor: Kossuth József\, cargo vezető\, BUD Cargo \nRésztvevők: \n\nKatona Ágnes\, logisztikai koordinátor\, Egis Zrt.\nFekete Marietta\, Special Cargo and Thermonet Product Manager /Road Operation Team Leader / Certified Life Science Specialist\, DHL\nTrifán László\, Senior cargo vezető\, Celebi GH\nHeckenast Kornél\, kereskedelmi vezető\, R-BAG\nEnvirotainer felkérés alatt\n\n  \nIdőpont: 2020. december 10.\, 14.00-15.30 \nHelyszín: ZOOM online platform \n(a belépéshez szükséges kódot minden jelentkezőnknek a rendezvény napján\, a délelőtti órákban küldjük) \nRészvételi díj: \n\nA részvétel minden résztvevő számára INGYENES\, de előzetes regisztrációhoz kötött!\n\nJelentkezési határidő: 2020. december 9. 24.00 óra \n 
URL:https://logisztika.hu/rendezveny/gyogyszeripari-tagozat-online-legiszallitasi-minikonferencia-2/
CATEGORIES:Webinar
END:VEVENT
END:VCALENDAR