BEGIN:VCALENDAR
VERSION:2.0
PRODID:-//Magyar Logisztikai, Beszerzési és Készletezési Társaság - ECPv6.15.16//NONSGML v1.0//EN
CALSCALE:GREGORIAN
METHOD:PUBLISH
X-WR-CALNAME:Magyar Logisztikai, Beszerzési és Készletezési Társaság
X-ORIGINAL-URL:https://logisztika.hu
X-WR-CALDESC:Események Magyar Logisztikai, Beszerzési és Készletezési Társaság
REFRESH-INTERVAL;VALUE=DURATION:PT1H
X-Robots-Tag:noindex
X-PUBLISHED-TTL:PT1H
BEGIN:VTIMEZONE
TZID:UTC
BEGIN:STANDARD
TZOFFSETFROM:+0000
TZOFFSETTO:+0000
TZNAME:UTC
DTSTART:20210101T000000
END:STANDARD
END:VTIMEZONE
BEGIN:VEVENT
DTSTART;TZID=UTC:20220224T000000
DTEND;TZID=UTC:20220303T235959
DTSTAMP:20260422T160715
CREATED:20220203T080150Z
LAST-MODIFIED:20220203T080150Z
UID:83125-1645660800-1646351999@logisztika.hu
SUMMARY:A beszerzés szakmai alapjai kezdőknek
DESCRIPTION:A gyakorlati életből vett esetpéldák megértésével számos szakmai buktatót elkerülhetünk. \n  \nA beszerzés szakmai alapjai kezdőknek
URL:https://logisztika.hu/rendezveny/a-beszerzes-szakmai-alapjai-kezdoknek-2/
END:VEVENT
BEGIN:VEVENT
DTSTART;TZID=UTC:20220224T000000
DTEND;TZID=UTC:20220303T235959
DTSTAMP:20260422T160715
CREATED:20220203T080150Z
LAST-MODIFIED:20220203T080150Z
UID:76620-1645660800-1646351999@logisztika.hu
SUMMARY:A beszerzés szakmai alapjai kezdőknek
DESCRIPTION:A gyakorlati életből vett esetpéldák megértésével számos szakmai buktatót elkerülhetünk. \n  \nA beszerzés szakmai alapjai kezdőknek
URL:https://logisztika.hu/rendezveny/a-beszerzes-szakmai-alapjai-kezdoknek/
END:VEVENT
BEGIN:VEVENT
DTSTART;TZID=UTC:20220225T000000
DTEND;TZID=UTC:20220304T235959
DTSTAMP:20260422T160715
CREATED:20220203T081007Z
LAST-MODIFIED:20220203T081007Z
UID:76622-1645747200-1646438399@logisztika.hu
SUMMARY:Pénzügyi ismeretek gyakorlott beszerzőknek
DESCRIPTION:A résztvevők megismerik az alapvető vállalati pénzügyi mutatókat\, ár\, költség-számítási módszereket\, mindezt több gyakorlati feladattal elmélyítve. \nPénzügyi ismeretek gyakorlott beszerzőknek
URL:https://logisztika.hu/rendezveny/penzugyi-ismeretek-gyakorlott-beszerzoknek-3/
END:VEVENT
BEGIN:VEVENT
DTSTART;TZID=UTC:20220225T000000
DTEND;TZID=UTC:20220304T235959
DTSTAMP:20260422T160715
CREATED:20220203T081007Z
LAST-MODIFIED:20220203T081007Z
UID:83126-1645747200-1646438399@logisztika.hu
SUMMARY:Pénzügyi ismeretek gyakorlott beszerzőknek
DESCRIPTION:A résztvevők megismerik az alapvető vállalati pénzügyi mutatókat\, ár\, költség-számítási módszereket\, mindezt több gyakorlati feladattal elmélyítve. \nPénzügyi ismeretek gyakorlott beszerzőknek
URL:https://logisztika.hu/rendezveny/penzugyi-ismeretek-gyakorlott-beszerzoknek-3-2/
END:VEVENT
BEGIN:VEVENT
DTSTART;TZID=UTC:20220308T180000
DTEND;TZID=UTC:20220308T190000
DTSTAMP:20260422T160715
CREATED:20220302T091908Z
LAST-MODIFIED:20220302T091908Z
UID:83134-1646762400-1646766000@logisztika.hu
SUMMARY:Rajtgép - Pályakezdőként a logisztikában - Meghívó online előadásra
DESCRIPTION:Az MLBKT Ifjúsági Tagozata közkívánatra elhozza Nektek\na pályakereséshez szükséges trükköket\, információkat!\n\na\n\n Bemutatjuk azt\, hogy mivel tudsz Te lenni az egyetlen kiválasztott egy állásinterjú során! Következő előadásunk Nektek\, fiatal pályakezdőknek szól!  \n  \n\n Előadónk\, Nagy-Józsa Dorka\, a Y2Y ügyvezetője. Dorka 15 évet töltött a supply chain különböző területein\, a légi szállítmányozástól a vállalatirányítási rendszereken át az ellátási lánc tervezésig.\n Dorka professzionális előadó\, Tallintól Mombasáig több\, mint 150 HR és Supply Chain kongresszus színpadán állt az elmúlt öt évben\, 20+ ‘Best Speaker’ díj tulajdonosa.\n\nMiről lesz szó?\n KKV\, multi\, logisztikai szolgáltató vagy egy startup?\n Mit néz meg egy HR-es a CV-dben (és mit nem)?\n Linkedin: igen vagy nem? Ha igen hogyan?\n Melyik munkakör mit takar a valóságban?\n Milyen kereseti lehetőségek vannak a különböző pozíciókban?\n Hogyan köss jó béralkut?\n Teljes vagy részmunkaidő?\n és még sok másról… például arról is\, amit Ti kérdeztek Tőle!\n\na\na\n\n Időpont: 2022. március 8. | 18.00 – 19.00\n Helyszín: ZOOM online platformon\n\n\na\nTovábbi részletek és jelentkezés itt >>>\nhttps://logisztika.hu/2022/03/01/rajtgep-palyakezdokent-a-logisztikaban-meghivo-online-eloadasra/
URL:https://logisztika.hu/rendezveny/rajtgep-palyakezdokent-a-logisztikaban-meghivo-online-eloadasra-2/
CATEGORIES:Tagozati program
END:VEVENT
BEGIN:VEVENT
DTSTART;TZID=UTC:20220308T180000
DTEND;TZID=UTC:20220308T190000
DTSTAMP:20260422T160715
CREATED:20220302T091908Z
LAST-MODIFIED:20220302T091908Z
UID:76953-1646762400-1646766000@logisztika.hu
SUMMARY:Rajtgép - Pályakezdőként a logisztikában - Meghívó online előadásra
DESCRIPTION:Az MLBKT Ifjúsági Tagozata közkívánatra elhozza Nektek\na pályakereséshez szükséges trükköket\, információkat!\n\na\n\n Bemutatjuk azt\, hogy mivel tudsz Te lenni az egyetlen kiválasztott egy állásinterjú során! Következő előadásunk Nektek\, fiatal pályakezdőknek szól!  \n  \n\n Előadónk\, Nagy-Józsa Dorka\, a Y2Y ügyvezetője. Dorka 15 évet töltött a supply chain különböző területein\, a légi szállítmányozástól a vállalatirányítási rendszereken át az ellátási lánc tervezésig.\n Dorka professzionális előadó\, Tallintól Mombasáig több\, mint 150 HR és Supply Chain kongresszus színpadán állt az elmúlt öt évben\, 20+ ‘Best Speaker’ díj tulajdonosa.\n\nMiről lesz szó?\n KKV\, multi\, logisztikai szolgáltató vagy egy startup?\n Mit néz meg egy HR-es a CV-dben (és mit nem)?\n Linkedin: igen vagy nem? Ha igen hogyan?\n Melyik munkakör mit takar a valóságban?\n Milyen kereseti lehetőségek vannak a különböző pozíciókban?\n Hogyan köss jó béralkut?\n Teljes vagy részmunkaidő?\n és még sok másról… például arról is\, amit Ti kérdeztek Tőle!\n\na\na\n\n Időpont: 2022. március 8. | 18.00 – 19.00\n Helyszín: ZOOM online platformon\n\n\na\nTovábbi részletek és jelentkezés itt >>>\nhttps://logisztika.hu/2022/03/01/rajtgep-palyakezdokent-a-logisztikaban-meghivo-online-eloadasra/
URL:https://logisztika.hu/rendezveny/rajtgep-palyakezdokent-a-logisztikaban-meghivo-online-eloadasra/
CATEGORIES:Tagozati program
END:VEVENT
BEGIN:VEVENT
DTSTART;TZID=UTC:20220310T000000
DTEND;TZID=UTC:20220311T235959
DTSTAMP:20260422T160715
CREATED:20220203T081554Z
LAST-MODIFIED:20220203T081554Z
UID:76624-1646870400-1647043199@logisztika.hu
SUMMARY:Tárgyalási alapismeretek beszerzőknek
DESCRIPTION:Gyakorlati életből vett példákon keresztül tanuljuk meg\, hogyan kell szóban (telefonon és személyesen) egyszerűbb\, majd egyre bonyolultabb helyzeteket megoldani úgy\, hogy mindkét fél számára kielégítő legyen a végkifejlet (win-win szituáció elérése). A képzés alatt a résztvevők szakmai megoldásokat és eszköztárat kapnak tipikus helyzetekre\, de lehetőség van saját példák megoldására is. Célunk\, hogy a résztvevők önállóan oldják meg a feladatkörükhöz tartozó tárgyalásokat\, ezzel csökkentve az eszkalációk számát. \n 
URL:https://logisztika.hu/rendezveny/targyalasi-alapismeretek-beszerzoknek-4/
END:VEVENT
BEGIN:VEVENT
DTSTART;TZID=UTC:20220310T000000
DTEND;TZID=UTC:20220311T235959
DTSTAMP:20260422T160715
CREATED:20220203T081554Z
LAST-MODIFIED:20220203T081554Z
UID:83127-1646870400-1647043199@logisztika.hu
SUMMARY:Tárgyalási alapismeretek beszerzőknek
DESCRIPTION:Gyakorlati életből vett példákon keresztül tanuljuk meg\, hogyan kell szóban (telefonon és személyesen) egyszerűbb\, majd egyre bonyolultabb helyzeteket megoldani úgy\, hogy mindkét fél számára kielégítő legyen a végkifejlet (win-win szituáció elérése). A képzés alatt a résztvevők szakmai megoldásokat és eszköztárat kapnak tipikus helyzetekre\, de lehetőség van saját példák megoldására is. Célunk\, hogy a résztvevők önállóan oldják meg a feladatkörükhöz tartozó tárgyalásokat\, ezzel csökkentve az eszkalációk számát. \n 
URL:https://logisztika.hu/rendezveny/targyalasi-alapismeretek-beszerzoknek-4-2/
END:VEVENT
BEGIN:VEVENT
DTSTART;TZID=UTC:20220310T153000
DTEND;TZID=UTC:20220310T173000
DTSTAMP:20260422T160715
CREATED:20220224T070159Z
LAST-MODIFIED:20220224T070159Z
UID:76889-1646926200-1646933400@logisztika.hu
SUMMARY:IATA CEIV Gyógyszerlogisztikai találkozó
DESCRIPTION:Az MLBKT Gyógyszeripari Tagozata szervezésében az alábbi online eseményre hívunk meg minden érdeklődőt: \n  \nRendezvény célja:\nA magyar légiáruszállítás több vezető szereplője úgy döntött\, hogy fejleszti a légi gyógyszeráruszállítás környezetét Magyarországon\, ezért a IATA CEIV Pharma gyógyszerszállítási minőségbiztosítási rendszer bevezetése mellett döntött.\nA projekt alakulásáról folyamatosan tájékoztatjuk a Gyógyszeripari Tagozat tagjait indulása óta\, mostanra több projektben részt vevő vállalat már megszerezte a tanúsítást\, vagy közel áll hozzá\, ezért szeretnénk bemutatni annak a szállítási környezetre gyakorolt pozitív hatását a megbízók számára is\, rövid\, pörgős előadások formájában a szolgáltatók által. \nMLBKT Gyógyszeripari Tagozat – IATA CEIV Gyógyszerlogisztikai találkozó (online) \nIdőpont: 2022. március 10\, 15:30 – 17:30\nPlatform: MS TEAMS \n  \nTovábbi részletek és jelentkezés itt >>>\nhttps://logisztika.hu/2022/02/24/iata-ceiv-gyogyszerlogisztikai-talalkozo-meghivo/
URL:https://logisztika.hu/rendezveny/iata-ceiv-gyogyszerlogisztikai-talalkozo/
END:VEVENT
BEGIN:VEVENT
DTSTART;TZID=UTC:20220310T153000
DTEND;TZID=UTC:20220310T173000
DTSTAMP:20260422T160715
CREATED:20220224T070159Z
LAST-MODIFIED:20220224T070159Z
UID:83133-1646926200-1646933400@logisztika.hu
SUMMARY:IATA CEIV Gyógyszerlogisztikai találkozó
DESCRIPTION:Az MLBKT Gyógyszeripari Tagozata szervezésében az alábbi online eseményre hívunk meg minden érdeklődőt: \n  \nRendezvény célja:\nA magyar légiáruszállítás több vezető szereplője úgy döntött\, hogy fejleszti a légi gyógyszeráruszállítás környezetét Magyarországon\, ezért a IATA CEIV Pharma gyógyszerszállítási minőségbiztosítási rendszer bevezetése mellett döntött.\nA projekt alakulásáról folyamatosan tájékoztatjuk a Gyógyszeripari Tagozat tagjait indulása óta\, mostanra több projektben részt vevő vállalat már megszerezte a tanúsítást\, vagy közel áll hozzá\, ezért szeretnénk bemutatni annak a szállítási környezetre gyakorolt pozitív hatását a megbízók számára is\, rövid\, pörgős előadások formájában a szolgáltatók által. \nMLBKT Gyógyszeripari Tagozat – IATA CEIV Gyógyszerlogisztikai találkozó (online) \nIdőpont: 2022. március 10\, 15:30 – 17:30\nPlatform: MS TEAMS \n  \nTovábbi részletek és jelentkezés itt >>>\nhttps://logisztika.hu/2022/02/24/iata-ceiv-gyogyszerlogisztikai-talalkozo-meghivo/
URL:https://logisztika.hu/rendezveny/iata-ceiv-gyogyszerlogisztikai-talalkozo-2/
END:VEVENT
BEGIN:VEVENT
DTSTART;TZID=UTC:20220322T160000
DTEND;TZID=UTC:20220322T170000
DTSTAMP:20260422T160715
CREATED:20220302T154610Z
LAST-MODIFIED:20220302T154610Z
UID:76972-1647964800-1647968400@logisztika.hu
SUMMARY:ZERO CARBON Webinár
DESCRIPTION:Naponta használjuk a környezetvédelem\, a fenntarthatóság új kifejezéseit\, köztük a karbonlábnyom fogalmát. De tudjuk-e pontosan\, mit jelent\, hogyan kell kiszámolni\, kell-e nekünk a vállalatunknál ezzel foglalkozni? \nA témáról partnerünk\, a Pannon Pro Innovációs Szolgáltató Kft. ZeroKarbon szakértői:\nKoncz Angéla\, Kronstein Bálint és Riesz Lóránt adnak áttekintést az MLBKT tagjai számára.\n  \nMIRŐL LESZ SZÓ? \n  \nGlobális vonatkozás és a karbonlábnyom\, mint koncepció/eszköz: \n\nMi az a karbonlábnyom számítás?\nKire vonatkozik? Ez kötelező?\nHogyan mérik ezt?\nMit lehet a számítással kezdeni?\n\n\nMagyar és szektorális vonatkozás: \n\nMit tudunk a magyar karbonlábnyomról?\nMi a szerepe/részesedése a különféle szektoroknak?\nHogyan járul hozzá egy logisztikai cég a magyar kibocsátásokhoz?\nMilyen sajátosságai vannak a logisztikai szektorból származó kibocsátásoknak?\n\n  \nA karbonlábnyom csökkentése \n\nHogy lehet csökkenteni a kibocsátásokat?\nHogyan járulhat hozzá az ellátási lánc menedzsment a kibocsátás csökkentéséhez?\nMi a semlegesítés/ellentételezés?\n\n  \nIdőpont: 2022. március 22.\, 16:00-17:00 \nHelyszín: Microsoft TEMS vagy ZOOM online platform \n  \nTovábbi részletek és jelentkezés >>>\nhttps://logisztika.hu/2022/03/02/zero-carbon-webinar/
URL:https://logisztika.hu/rendezveny/zero-carbon-webinar/
CATEGORIES:Webinar
END:VEVENT
BEGIN:VEVENT
DTSTART;TZID=UTC:20220322T160000
DTEND;TZID=UTC:20220322T170000
DTSTAMP:20260422T160715
CREATED:20220302T154610Z
LAST-MODIFIED:20220302T154610Z
UID:83135-1647964800-1647968400@logisztika.hu
SUMMARY:ZERO CARBON Webinár
DESCRIPTION:Naponta használjuk a környezetvédelem\, a fenntarthatóság új kifejezéseit\, köztük a karbonlábnyom fogalmát. De tudjuk-e pontosan\, mit jelent\, hogyan kell kiszámolni\, kell-e nekünk a vállalatunknál ezzel foglalkozni? \nA témáról partnerünk\, a Pannon Pro Innovációs Szolgáltató Kft. ZeroKarbon szakértői:\nKoncz Angéla\, Kronstein Bálint és Riesz Lóránt adnak áttekintést az MLBKT tagjai számára.\n  \nMIRŐL LESZ SZÓ? \n  \nGlobális vonatkozás és a karbonlábnyom\, mint koncepció/eszköz: \n\nMi az a karbonlábnyom számítás?\nKire vonatkozik? Ez kötelező?\nHogyan mérik ezt?\nMit lehet a számítással kezdeni?\n\n\nMagyar és szektorális vonatkozás: \n\nMit tudunk a magyar karbonlábnyomról?\nMi a szerepe/részesedése a különféle szektoroknak?\nHogyan járul hozzá egy logisztikai cég a magyar kibocsátásokhoz?\nMilyen sajátosságai vannak a logisztikai szektorból származó kibocsátásoknak?\n\n  \nA karbonlábnyom csökkentése \n\nHogy lehet csökkenteni a kibocsátásokat?\nHogyan járulhat hozzá az ellátási lánc menedzsment a kibocsátás csökkentéséhez?\nMi a semlegesítés/ellentételezés?\n\n  \nIdőpont: 2022. március 22.\, 16:00-17:00 \nHelyszín: Microsoft TEMS vagy ZOOM online platform \n  \nTovábbi részletek és jelentkezés >>>\nhttps://logisztika.hu/2022/03/02/zero-carbon-webinar/
URL:https://logisztika.hu/rendezveny/zero-carbon-webinar-2/
CATEGORIES:Webinar
END:VEVENT
END:VCALENDAR