BEGIN:VCALENDAR
VERSION:2.0
PRODID:-//Magyar Logisztikai, Beszerzési és Készletezési Társaság - ECPv6.15.16//NONSGML v1.0//EN
CALSCALE:GREGORIAN
METHOD:PUBLISH
X-WR-CALNAME:Magyar Logisztikai, Beszerzési és Készletezési Társaság
X-ORIGINAL-URL:https://logisztika.hu
X-WR-CALDESC:Események Magyar Logisztikai, Beszerzési és Készletezési Társaság
REFRESH-INTERVAL;VALUE=DURATION:PT1H
X-Robots-Tag:noindex
X-PUBLISHED-TTL:PT1H
BEGIN:VTIMEZONE
TZID:UTC
BEGIN:STANDARD
TZOFFSETFROM:+0000
TZOFFSETTO:+0000
TZNAME:UTC
DTSTART:20210101T000000
END:STANDARD
END:VTIMEZONE
BEGIN:VEVENT
DTSTART;TZID=UTC:20220511T090000
DTEND;TZID=UTC:20220511T090000
DTSTAMP:20260422T130529
CREATED:20220106T101038Z
LAST-MODIFIED:20230427T060024Z
UID:76402-1652259600-1652259600@logisztika.hu
SUMMARY:Beszerzési Konferencia
DESCRIPTION:beszerzesikonferencia.hu \nHiánypótló megoldások – 20 éves a BVK\, 10 éves a Beszerzési Konferencia \n2022. május 11.\nHillside Offices\, Fundamenta Konferencia Központ\, Budapest\n  \n\nAz MLBKT\, a magyar ellátási lánc szakemberek\, logisztikusok és beszerzők legnagyobb szakmai szervezete tagozatával\, a Beszerzők és Beszerzési Vezetők Klubjával közösen\, 10. alkalommal szervezi meg egész napos\, izgalmas\, interaktív konferenciáját. Szeretettel látjuk Önt is\, ha munkájából vagy érdeklődéséből adódóan fogékony a beszerzési trendek\, legjobb gyakorlatok iránt\, és szívesen kapcsolódik be a professzionális eszmecserékbe. Sőt! Idén dupla örömünk adódik az ünneplésre\, 20. évfordulóját ünnepli az MLBKT Beszerzési Vezetők Klubja. \n\n\nAz elmúlt időszak és az utóbbi évek eseményei kapcsán a gazdaság számos területén tapasztalhattunk meg olyan banális hiányállapotokat\, amelyek a korábbi években a normális gazdasági körülmények között eszünkbe sem jutottak volna. \nA chiphiány csak egy a sok elem közül\, amely magával rántotta szinte a teljes ellátási láncot és számos kihívás elé állította a beszerzői szakmát. \nA Covid második éve egyre inkább világossá teszi\, hogy kialakult egyfajta új világrend. Nagy kérdések\, hogy mit kezdünk a hiánnyal\, az időszakos lezárásokkal\, ugyanakkor a felgyorsult információáramlással. Van\, aki elfogadja\, van\, aki nem. Ki fogja ezt megfizetni\, mi legyen ezután a savinggel? Mi legyen az olyan új/régi kihívásokkal\, mint az e-mobilitás\, fenntarthatóság\, üzleti morál? Beszéljünk róla együtt május 11-én! \n\nTavaszi konferenciánkon terítékre kerülnek napjaink aktuális témái: \n\n\nVan-e energiánk? – az energiapiac beszerzési és más kihívásai\n\n\nMilyen hatással vannak a műanyagok beszerzési\, ellátási\, fenntarthatósági kihívásai mindennapi életünkre\n\n\nÁrkontroll féktelen környezetben\n\nKerekasztalbeszélgetések meghatározó hazai vállalatok beszerzési vezetőivel\nés még sok aktuális kérdés\n\nJelentkezési határidő: 2022. május 3. \nRészletek és jelentkezés >>> beszerzesikonferencia.hu
URL:https://logisztika.hu/rendezveny/beszerzesi-konferencia-2/
CATEGORIES:Beszerzők és Beszerzési Vezetők Klubja,Konferencia
END:VEVENT
BEGIN:VEVENT
DTSTART;TZID=UTC:20220511T090000
DTEND;TZID=UTC:20220511T090000
DTSTAMP:20260422T130529
CREATED:20220106T101038Z
LAST-MODIFIED:20220106T101038Z
UID:83123-1652259600-1652259600@logisztika.hu
SUMMARY:Beszerzési Konferencia
DESCRIPTION:beszerzesikonferencia.hu \nHiánypótló megoldások – 20 éves a BVK\, 10 éves a Beszerzési Konferencia \n2022. május 11.\nHillside Offices\, Fundamenta Konferencia Központ\, Budapest\n  \n\nAz MLBKT\, a magyar ellátási lánc szakemberek\, logisztikusok és beszerzők legnagyobb szakmai szervezete tagozatával\, a Beszerzők és Beszerzési Vezetők Klubjával közösen\, 10. alkalommal szervezi meg egész napos\, izgalmas\, interaktív konferenciáját. Szeretettel látjuk Önt is\, ha munkájából vagy érdeklődéséből adódóan fogékony a beszerzési trendek\, legjobb gyakorlatok iránt\, és szívesen kapcsolódik be a professzionális eszmecserékbe. Sőt! Idén dupla örömünk adódik az ünneplésre\, 20. évfordulóját ünnepli az MLBKT Beszerzési Vezetők Klubja. \n\n\nAz elmúlt időszak és az utóbbi évek eseményei kapcsán a gazdaság számos területén tapasztalhattunk meg olyan banális hiányállapotokat\, amelyek a korábbi években a normális gazdasági körülmények között eszünkbe sem jutottak volna. \nA chiphiány csak egy a sok elem közül\, amely magával rántotta szinte a teljes ellátási láncot és számos kihívás elé állította a beszerzői szakmát. \nA Covid második éve egyre inkább világossá teszi\, hogy kialakult egyfajta új világrend. Nagy kérdések\, hogy mit kezdünk a hiánnyal\, az időszakos lezárásokkal\, ugyanakkor a felgyorsult információáramlással. Van\, aki elfogadja\, van\, aki nem. Ki fogja ezt megfizetni\, mi legyen ezután a savinggel? Mi legyen az olyan új/régi kihívásokkal\, mint az e-mobilitás\, fenntarthatóság\, üzleti morál? Beszéljünk róla együtt május 11-én! \n\nTavaszi konferenciánkon terítékre kerülnek napjaink aktuális témái: \n\n\nVan-e energiánk? – az energiapiac beszerzési és más kihívásai\n\n\nMilyen hatással vannak a műanyagok beszerzési\, ellátási\, fenntarthatósági kihívásai mindennapi életünkre\n\n\nÁrkontroll féktelen környezetben\n\nKerekasztalbeszélgetések meghatározó hazai vállalatok beszerzési vezetőivel\nés még sok aktuális kérdés\n\nJelentkezési határidő: 2022. május 3. \nRészletek és jelentkezés >>> beszerzesikonferencia.hu
URL:https://logisztika.hu/rendezveny/beszerzesi-konferencia-2-2/
END:VEVENT
BEGIN:VEVENT
DTSTART;TZID=UTC:20220519T000000
DTEND;TZID=UTC:20220520T235959
DTSTAMP:20260422T130529
CREATED:20220428T135817Z
LAST-MODIFIED:20220428T135817Z
UID:77519-1652918400-1653091199@logisztika.hu
SUMMARY:Beszállítói tárgyalás felsőfokon
DESCRIPTION:A stratégiai tárgyalások lefolytatásához szükséges teljes folyamatot végig kísérjük a felkészüléstől a lezárásig\, utókövetésig. A képzés eszközöket\, módszereket ad a résztvevők számára\, hogy magabiztosan tárgyalva mindkét fél számára elfogadható megoldás szülessen. A tréning gyakorlatorientált\, a részvevők mindennapjaihoz igazodik.
URL:https://logisztika.hu/rendezveny/beszallitoi-targyalas-felsofokon-4/
ATTACH;FMTTYPE=image/jpeg:https://logisztika.hu/wp-content/uploads/2022/04/Besutargyalas-felsofokon-2048x1325-1.jpg
END:VEVENT
BEGIN:VEVENT
DTSTART;TZID=UTC:20220519T000000
DTEND;TZID=UTC:20220520T235959
DTSTAMP:20260422T130529
CREATED:20220428T135817Z
LAST-MODIFIED:20220428T135817Z
UID:83143-1652918400-1653091199@logisztika.hu
SUMMARY:Beszállítói tárgyalás felsőfokon
DESCRIPTION:A stratégiai tárgyalások lefolytatásához szükséges teljes folyamatot végig kísérjük a felkészüléstől a lezárásig\, utókövetésig. A képzés eszközöket\, módszereket ad a résztvevők számára\, hogy magabiztosan tárgyalva mindkét fél számára elfogadható megoldás szülessen. A tréning gyakorlatorientált\, a részvevők mindennapjaihoz igazodik.
URL:https://logisztika.hu/rendezveny/beszallitoi-targyalas-felsofokon-4-2/
ATTACH;FMTTYPE=image/jpeg:https://logisztika.hu/wp-content/uploads/2022/04/Besutargyalas-felsofokon-2048x1325-1.jpg
END:VEVENT
BEGIN:VEVENT
DTSTART;TZID=UTC:20220519T100000
DTEND;TZID=UTC:20220519T150000
DTSTAMP:20260422T130529
CREATED:20220428T095647Z
LAST-MODIFIED:20220428T095647Z
UID:77504-1652954400-1652972400@logisztika.hu
SUMMARY:A logisztika gyakorlati kihívásai Ipar 4.0-ás környezetben - Látogatás a Robert Bosch Power Tool Kft-nél
DESCRIPTION:Szervezők: \n\nIpar 4.0 Nemzeti Technológiai Platform Szövetség\nMLBKT Logisztika 4.0 Tagozat\nMiskolci Egyetem\, Robert Bosch Power Tool Kft\n\n  \n\n\n\nHelyszín\nIdőpont\nElőadás címe\nElőadó\n\n\nTárgyaló\n10:00 – 10:10\nMegnyitó\nProf. Dr. Horváth Zita\, rektor\, Miskolci Egyetem\n\n\n10:10 – 10:30\nRugalmas Ipar 4.0-ás rugalmas gyártási koncepció a Bosch miskolci telephelyén\, avagy hogyan préseljünk be egy komplett svájci gyárat és logisztikáját 2000 m2-be\nFükő László\, gyárigazgató\,\nRobert Bosch Power Tool Kft.\n\n\n10:30 – 10:50\nIpar 4.0 NTPSZ stratégia a gyártás és logisztika területén\nProf. Dr. Illés Béla\, egyetemi tanár\, Miskolci Egyetem\, I4.0 NTPSz Gyártás és Logisztika Munkacsoport vezető\n\n\n10:50 – 11:10\nKészáru milkrun automatizálása AGV-k segítségével\, a projekt sikerei és buktatói\nVáci Gergely\, logisztikai igazgató\, Robert Bosch Power Tool Kft.\n\n\n11:10 – 11:30\nSzimulációs vizsgálati módszerek szerepe az ipari gyakorlatban\nDr. habil. Tamás Péter\, dékánhelyettes\, intézetigazgató\, Miskolci Egyetem\, MLBKT Logisztika 4.0 Tagozat vezető\n\n\n11:30 – 11:50\nAlapanyag raktár automatizálása\, széles folyosós automata felrakógépekkel\, automata és hagyományos targoncák működtetése egy területen egy időben\nMenyhért Anita\, logisztikai csoportvezető\,\nRobert Bosch Power Tool Kft.\n\n\n11:50 – 12:00\nDélelőtti előadások összefoglalója\nJárvás Tamás\, műszaki igazgató\, Robert Bosch Power Tool Kft.\nI4.0 NTPSz Munkacsoport vezető\n\n\n12:00 – 13:00\nEbéd\n\n\n\nTermelés\n13:00 – 14:00\nGyárlátogatás\nSztankó Gyula\, lean mérnök\, Robert Bosch Power Tool Kft.\n\n\n14:00 – 14:20\nA rugalmas gyártócella működés közben\, okos szupermarket\nNagy Roland\, VS vezető\,\nRobert Bosch Power Tool Kft.\n\n\n14:20 – 14:40\nHagyományos\, nem automatizált gyártósorok kapcsolása Ipar 4.0-ás logisztikai megoldásokhoz\nJárvás Tamás műszaki igazgató\, Robert Bosch Power Tool Kft.\,\nI4.0 NTPSz Munkacsoport vezető\n\n\n14:40 – 15:00\nKészáru kezelési folyamat automatizálása\nPásztor Árpád\, logisztikai csoportvezető\, Robert Bosch Power Tool Kft.\n\n\n\n15:00\nA workshop zárás\n\n\n\n\n  \nRészvételi díj: \n\nA részvétel az MLBKT tagjai számára ingyenes\, de előzetes regisztrációhoz kötött!\nAzon nem MLBKT tagok részére\, akik a jelentkezéssel egyidejűleg csatlakoznak a tagsághoz\, a tagdíj befizetésével a részvétel ingyenes. Tagsági regisztráció itt >>> https://logisztika.hu/belepes/\nNem MLBKT tagok részére 8.000\,- Ft+áfa\n\n  \nJelentkezési határidő: 2022. május 17.\, 24.00 \n  \n \n 
URL:https://logisztika.hu/rendezveny/a-logisztika-gyakorlati-kihivasai-ipar-4-0-as-kornyezetben-latogatas-a-robert-bosch-power-tool-kft-nel/
CATEGORIES:Worskhop
END:VEVENT
BEGIN:VEVENT
DTSTART;TZID=UTC:20220519T100000
DTEND;TZID=UTC:20220519T150000
DTSTAMP:20260422T130529
CREATED:20220428T095647Z
LAST-MODIFIED:20220428T095647Z
UID:83142-1652954400-1652972400@logisztika.hu
SUMMARY:A logisztika gyakorlati kihívásai Ipar 4.0-ás környezetben - Látogatás a Robert Bosch Power Tool Kft-nél
DESCRIPTION:Szervezők: \n\nIpar 4.0 Nemzeti Technológiai Platform Szövetség\nMLBKT Logisztika 4.0 Tagozat\nMiskolci Egyetem\, Robert Bosch Power Tool Kft\n\n  \n\n\n\nHelyszín\nIdőpont\nElőadás címe\nElőadó\n\n\nTárgyaló\n10:00 – 10:10\nMegnyitó\nProf. Dr. Horváth Zita\, rektor\, Miskolci Egyetem\n\n\n10:10 – 10:30\nRugalmas Ipar 4.0-ás rugalmas gyártási koncepció a Bosch miskolci telephelyén\, avagy hogyan préseljünk be egy komplett svájci gyárat és logisztikáját 2000 m2-be\nFükő László\, gyárigazgató\,\nRobert Bosch Power Tool Kft.\n\n\n10:30 – 10:50\nIpar 4.0 NTPSZ stratégia a gyártás és logisztika területén\nProf. Dr. Illés Béla\, egyetemi tanár\, Miskolci Egyetem\, I4.0 NTPSz Gyártás és Logisztika Munkacsoport vezető\n\n\n10:50 – 11:10\nKészáru milkrun automatizálása AGV-k segítségével\, a projekt sikerei és buktatói\nVáci Gergely\, logisztikai igazgató\, Robert Bosch Power Tool Kft.\n\n\n11:10 – 11:30\nSzimulációs vizsgálati módszerek szerepe az ipari gyakorlatban\nDr. habil. Tamás Péter\, dékánhelyettes\, intézetigazgató\, Miskolci Egyetem\, MLBKT Logisztika 4.0 Tagozat vezető\n\n\n11:30 – 11:50\nAlapanyag raktár automatizálása\, széles folyosós automata felrakógépekkel\, automata és hagyományos targoncák működtetése egy területen egy időben\nMenyhért Anita\, logisztikai csoportvezető\,\nRobert Bosch Power Tool Kft.\n\n\n11:50 – 12:00\nDélelőtti előadások összefoglalója\nJárvás Tamás\, műszaki igazgató\, Robert Bosch Power Tool Kft.\nI4.0 NTPSz Munkacsoport vezető\n\n\n12:00 – 13:00\nEbéd\n\n\n\nTermelés\n13:00 – 14:00\nGyárlátogatás\nSztankó Gyula\, lean mérnök\, Robert Bosch Power Tool Kft.\n\n\n14:00 – 14:20\nA rugalmas gyártócella működés közben\, okos szupermarket\nNagy Roland\, VS vezető\,\nRobert Bosch Power Tool Kft.\n\n\n14:20 – 14:40\nHagyományos\, nem automatizált gyártósorok kapcsolása Ipar 4.0-ás logisztikai megoldásokhoz\nJárvás Tamás műszaki igazgató\, Robert Bosch Power Tool Kft.\,\nI4.0 NTPSz Munkacsoport vezető\n\n\n14:40 – 15:00\nKészáru kezelési folyamat automatizálása\nPásztor Árpád\, logisztikai csoportvezető\, Robert Bosch Power Tool Kft.\n\n\n\n15:00\nA workshop zárás\n\n\n\n\n  \nRészvételi díj: \n\nA részvétel az MLBKT tagjai számára ingyenes\, de előzetes regisztrációhoz kötött!\nAzon nem MLBKT tagok részére\, akik a jelentkezéssel egyidejűleg csatlakoznak a tagsághoz\, a tagdíj befizetésével a részvétel ingyenes. Tagsági regisztráció itt >>> https://logisztika.hu/belepes/\nNem MLBKT tagok részére 8.000\,- Ft+áfa\n\n  \nJelentkezési határidő: 2022. május 17.\, 24.00 \n  \n \n 
URL:https://logisztika.hu/rendezveny/a-logisztika-gyakorlati-kihivasai-ipar-4-0-as-kornyezetben-latogatas-a-robert-bosch-power-tool-kft-nel-2/
CATEGORIES:Worskhop
END:VEVENT
BEGIN:VEVENT
DTSTART;TZID=UTC:20220524T180000
DTEND;TZID=UTC:20220524T220000
DTSTAMP:20260422T130529
CREATED:20220420T133838Z
LAST-MODIFIED:20220420T133838Z
UID:77348-1653415200-1653429600@logisztika.hu
SUMMARY:MLBKT KIVÁLÓSÁGOK - díjátadó gálaest
DESCRIPTION:Találkozzunk ismét személyesen május 24-én egy ünnepi este alkalmából! \nMájus 24-e délután és este több programmal várjuk Önt a Kopaszi-gáton! Egy hivatalos és egy ünnepélyes eseménnyel: délután 16.00 órától az MLBKT tisztségviselő választással egybekötött éves közgyűlésén\, majd 18.00 órától a díjátadó gálaesten.\n(FIGYELEM: A két eseményre külön kell jelentkezni\, a részvételi feltételek is különbözőek\, de szerettük volna figyelmébe ajánlani\, hogy mindkettő 1 napon és 1 helyszínen lesz\, egymást követően!) \n  \nA hivatalos programrészeket szakmai előadásokkal  tesszük kihagyhatatlanná. Délután Dr. Felsmann Balázs  energiapiaci helyzetről\, este pedig Dr. Chikán Attila Magyarország gazdasági helyzetéről tart áttekintő előadást. \nTekintse most át az este programját és jegyezze be naptárjába az eseményeket! \n  \nMLBKT Közgyűlés időpont:  2022. május 24. 16:00-17.50 \nDíjátadó gálaest időpont:      2022. május 24. 18:00-22.00 \nHelyszín: Öbölház Rendezvényközpont (1117 Budapest Kopaszi-gát 1.) \nA DÍJÁTADÓ GÁLAEST TERVEZETT PROGRAMJA\n\n\n\n\n\n\n\n\n\n\n\n\n\n\n\n\n\n\n\n18:00 – érkezés\, networking \n18:30 – köszöntők – Horváth Péter\, az MLBKT elnöke \n18:40 – Magyarország a változó gazdasági világrendben\, Dr. Chikán Attila egyetemi tanár\, az MLBKT társelnökének előadása \n19:05 – a 2021-es kiválóság díjak átadása  – Az Év Logisztikai Menedzsere / Az Év Beszerzési Menedzsere / Csapata / \nLogisztikai Kiválóság Díj \n19:40 – A Logisztikai Kiválóság Díj győztesének rövid előadása \n20:00 – zenés vacsora\, kötetlen beszélgetés \n22:00 – program zárása \nVájuk jelentkezését! \nJelentkezem \nRészvételi díj: \n– A részvétel az MLBKT tagjai számára 38 000\,- Ft+áfa\, előzetes regisztrációhoz kötött!\n– A részvétel nem MLBKT tagok számára 48 000\,- Ft+áfa\n– Az eseményre támogatói jegy is váltható: 60 000\,- Ft+áfa \nJelentkezési határidő: 2022. május 18. 12:00
URL:https://logisztika.hu/rendezveny/mlbkt-kivalosagok-dijatado-galaest/
ATTACH;FMTTYPE=image/jpeg:https://logisztika.hu/wp-content/uploads/2022/04/kamion-teherauto-660x330-2.jpg
END:VEVENT
BEGIN:VEVENT
DTSTART;TZID=UTC:20220524T180000
DTEND;TZID=UTC:20220524T220000
DTSTAMP:20260422T130529
CREATED:20220420T133838Z
LAST-MODIFIED:20220420T133838Z
UID:83139-1653415200-1653429600@logisztika.hu
SUMMARY:MLBKT KIVÁLÓSÁGOK - díjátadó gálaest
DESCRIPTION:Találkozzunk ismét személyesen május 24-én egy ünnepi este alkalmából! \nMájus 24-e délután és este több programmal várjuk Önt a Kopaszi-gáton! Egy hivatalos és egy ünnepélyes eseménnyel: délután 16.00 órától az MLBKT tisztségviselő választással egybekötött éves közgyűlésén\, majd 18.00 órától a díjátadó gálaesten.\n(FIGYELEM: A két eseményre külön kell jelentkezni\, a részvételi feltételek is különbözőek\, de szerettük volna figyelmébe ajánlani\, hogy mindkettő 1 napon és 1 helyszínen lesz\, egymást követően!) \n  \nA hivatalos programrészeket szakmai előadásokkal  tesszük kihagyhatatlanná. Délután Dr. Felsmann Balázs  energiapiaci helyzetről\, este pedig Dr. Chikán Attila Magyarország gazdasági helyzetéről tart áttekintő előadást. \nTekintse most át az este programját és jegyezze be naptárjába az eseményeket! \n  \nMLBKT Közgyűlés időpont:  2022. május 24. 16:00-17.50 \nDíjátadó gálaest időpont:      2022. május 24. 18:00-22.00 \nHelyszín: Öbölház Rendezvényközpont (1117 Budapest Kopaszi-gát 1.) \nA DÍJÁTADÓ GÁLAEST TERVEZETT PROGRAMJA\n\n\n\n\n\n\n\n\n\n\n\n\n\n\n\n\n\n\n\n18:00 – érkezés\, networking \n18:30 – köszöntők – Horváth Péter\, az MLBKT elnöke \n18:40 – Magyarország a változó gazdasági világrendben\, Dr. Chikán Attila egyetemi tanár\, az MLBKT társelnökének előadása \n19:05 – a 2021-es kiválóság díjak átadása  – Az Év Logisztikai Menedzsere / Az Év Beszerzési Menedzsere / Csapata / \nLogisztikai Kiválóság Díj \n19:40 – A Logisztikai Kiválóság Díj győztesének rövid előadása \n20:00 – zenés vacsora\, kötetlen beszélgetés \n22:00 – program zárása \nVájuk jelentkezését! \nJelentkezem \nRészvételi díj: \n– A részvétel az MLBKT tagjai számára 38 000\,- Ft+áfa\, előzetes regisztrációhoz kötött!\n– A részvétel nem MLBKT tagok számára 48 000\,- Ft+áfa\n– Az eseményre támogatói jegy is váltható: 60 000\,- Ft+áfa \nJelentkezési határidő: 2022. május 18. 12:00
URL:https://logisztika.hu/rendezveny/mlbkt-kivalosagok-dijatado-galaest-2/
ATTACH;FMTTYPE=image/jpeg:https://logisztika.hu/wp-content/uploads/2022/04/kamion-teherauto-660x330-2.jpg
END:VEVENT
BEGIN:VEVENT
DTSTART;TZID=UTC:20220526T090000
DTEND;TZID=UTC:20220526T123000
DTSTAMP:20260422T130529
CREATED:20220426T054401Z
LAST-MODIFIED:20220426T054401Z
UID:77441-1653555600-1653568200@logisztika.hu
SUMMARY:Raktárlátogatás a régió leginnovatívabb fulfillment centerében (a robotok etetése tilos!)
DESCRIPTION:Raktárlátogatás a régió leginnovatívabb fulfillment centerében (a robotok etetése tilos!)\nA Webshippy a régió leginnovatívabb kiszervezett fulfillment szolgáltatója\, amely Kelet-Közép Európában elsőként kezdett el alkalmazni robotokat a logisztikai folyamatok kiszolgálására. \nHogyan lett a Webshippy a régió megkerülhetetlen e-kereskedelmi logisztikai szolgáltatója?  \nMilyen innovatív megoldásokat alkalmaz az ügyfelek rendeléseinek feldolgozása és kiküldése során?  \nMilyen úttörő szolgáltatásokat vezetett be a webáruházak versenyképességének növelése érdekében?  \nMi a Webshippy küldetése? És mi a titka? \n  \nErről szól az esemény\, amelynek keretében még a kulisszák mögé is beleshetsz: hogy lásd hogyan dolgoznak a robotok. \n  \nJelentkezés és további részletek >>>
URL:https://logisztika.hu/rendezveny/raktarlatogatas-a-regio-leginnovativabb-fulfillment-centereben-a-robotok-etetese-tilos-2/
CATEGORIES:Vállalatlátogatás
END:VEVENT
BEGIN:VEVENT
DTSTART;TZID=UTC:20220526T090000
DTEND;TZID=UTC:20220526T123000
DTSTAMP:20260422T130529
CREATED:20220426T054401Z
LAST-MODIFIED:20220426T054401Z
UID:83141-1653555600-1653568200@logisztika.hu
SUMMARY:Raktárlátogatás a régió leginnovatívabb fulfillment centerében (a robotok etetése tilos!)
DESCRIPTION:Raktárlátogatás a régió leginnovatívabb fulfillment centerében (a robotok etetése tilos!)\nA Webshippy a régió leginnovatívabb kiszervezett fulfillment szolgáltatója\, amely Kelet-Közép Európában elsőként kezdett el alkalmazni robotokat a logisztikai folyamatok kiszolgálására. \nHogyan lett a Webshippy a régió megkerülhetetlen e-kereskedelmi logisztikai szolgáltatója?  \nMilyen innovatív megoldásokat alkalmaz az ügyfelek rendeléseinek feldolgozása és kiküldése során?  \nMilyen úttörő szolgáltatásokat vezetett be a webáruházak versenyképességének növelése érdekében?  \nMi a Webshippy küldetése? És mi a titka? \n  \nErről szól az esemény\, amelynek keretében még a kulisszák mögé is beleshetsz: hogy lásd hogyan dolgoznak a robotok. \n  \nJelentkezés és további részletek >>>
URL:https://logisztika.hu/rendezveny/raktarlatogatas-a-regio-leginnovativabb-fulfillment-centereben-a-robotok-etetese-tilos-2-2/
CATEGORIES:Vállalatlátogatás
END:VEVENT
BEGIN:VEVENT
DTSTART;TZID=UTC:20220531T163000
DTEND;TZID=UTC:20220531T180000
DTSTAMP:20260422T130529
CREATED:20220520T093319Z
LAST-MODIFIED:20230427T061017Z
UID:77756-1654014600-1654020000@logisztika.hu
SUMMARY:Gyártásban\, szolgáltatásban és a hétköznapokban is használható lean eszközök\, módszerek megismerése - Meghívó Lean tagozati előadásra
DESCRIPTION:Az MLBKT Lean Tagozata szeretettel meghívja Önt egy három előadásból álló interaktív eseménysorozatának 2. előadására. \n  \nAz eseménysorozaton való részvételt olyan lean iránt érdeklődőknek ajánljuk\, akik szeretnék megismerni ezt az értékteremtő szemléletet\, a lean alapelvek szerint tervezik átalakítani gyártási\, vagy szolgáltatási folyamataikat\, vagy akár otthoni környezetükben szeretnék a mindennapi tevékenységüket veszteségminimalizáló módon végezni. \nA sorozat azon szakemberek számára is értékes tudást ad\, akik már ismerik a lean gondolkodásmódot és szeretnék ismereteiket továbbfejleszteni\, valamint a lean eszközök előnyeit gyakorlati példákon megtapasztalni. \nMinden alkalom során kiemelt szerepet kapnak az életszerű példák\, az interaktív feladatok. Az előadások során lehetőséget biztosítunk a közös gondolkodásra\, teret adva a vélemények\, tapasztalatok megosztására. \n  \n2. előadás: Lean eszközök\, módszerek megismerése \nIdőpont: 2022. május 31. \nTéma: A gyártásban\, szolgáltatásban\, irodában vagy akár a hétköznapi életben is egyaránt használható lean eszközök megismerése interaktív feladatokon keresztül. \n  \nA második előadás tematikája: \nGyártásban\, szolgáltatásban és a hétköznapokban is használható lean eszközök\, módszerek megismerése \n16.30 – 16.35 – Köszöntés\, a program ismertetése \n16.35 – 16.50 – Lean alapok ismétlése \n16.50 – 17.50 – Lean eszközök\, módszerek megismerése\, interaktív feladat\nVizuális menedzsment\, 5S\, kanban\, poka-yoke \n17.50 – 18.00 – Tapasztalatok megosztása\, a program zárása \n  \nIdőpont: 2022. május 31.\, 16.30-18.00 \nHelyszín: ZOOM online platform (a belépő kódot minden jelentkezőnek az előadás napján küldjük a regisztrációban megadott e-mail címre) \nElőadó: Gedei Erika\, MLBKT Lean Tagozat\, tagozatvezető \nJelentkezési határidő: 2022. május 30.\, 24.00 \n  \nTovábbi tudnivalók és jelentkezés:\nhttps://logisztika.hu/2022/05/20/gyartasban-szolgaltatasban-es-a-hetkoznapokban-is-hasznalhato-lean-eszkozok-modszerek-megismerese-meghivo-lean-tagozati-eloadasra/ \nGyártásban\, szolgáltatásban és a hétköznapokban is használható lean eszközök\, módszerek megismerése – Meghívó Lean tagozati előadásra \n \n  \nAz esemény létrejöttét támogatta
URL:https://logisztika.hu/rendezveny/gyartasban-szolgaltatasban-es-a-hetkoznapokban-is-hasznalhato-lean-eszkozok-modszerek-megismerese-meghivo-lean-tagozati-eloadasra/
CATEGORIES:Lean tagozat
END:VEVENT
BEGIN:VEVENT
DTSTART;TZID=UTC:20220531T163000
DTEND;TZID=UTC:20220531T180000
DTSTAMP:20260422T130529
CREATED:20220520T093319Z
LAST-MODIFIED:20220520T093319Z
UID:83148-1654014600-1654020000@logisztika.hu
SUMMARY:Gyártásban\, szolgáltatásban és a hétköznapokban is használható lean eszközök\, módszerek megismerése - Meghívó Lean tagozati előadásra
DESCRIPTION:Az MLBKT Lean Tagozata szeretettel meghívja Önt egy három előadásból álló interaktív eseménysorozatának 2. előadására. \n  \nAz eseménysorozaton való részvételt olyan lean iránt érdeklődőknek ajánljuk\, akik szeretnék megismerni ezt az értékteremtő szemléletet\, a lean alapelvek szerint tervezik átalakítani gyártási\, vagy szolgáltatási folyamataikat\, vagy akár otthoni környezetükben szeretnék a mindennapi tevékenységüket veszteségminimalizáló módon végezni. \nA sorozat azon szakemberek számára is értékes tudást ad\, akik már ismerik a lean gondolkodásmódot és szeretnék ismereteiket továbbfejleszteni\, valamint a lean eszközök előnyeit gyakorlati példákon megtapasztalni. \nMinden alkalom során kiemelt szerepet kapnak az életszerű példák\, az interaktív feladatok. Az előadások során lehetőséget biztosítunk a közös gondolkodásra\, teret adva a vélemények\, tapasztalatok megosztására. \n  \n2. előadás: Lean eszközök\, módszerek megismerése \nIdőpont: 2022. május 31. \nTéma: A gyártásban\, szolgáltatásban\, irodában vagy akár a hétköznapi életben is egyaránt használható lean eszközök megismerése interaktív feladatokon keresztül. \n  \nA második előadás tematikája: \nGyártásban\, szolgáltatásban és a hétköznapokban is használható lean eszközök\, módszerek megismerése \n16.30 – 16.35 – Köszöntés\, a program ismertetése \n16.35 – 16.50 – Lean alapok ismétlése \n16.50 – 17.50 – Lean eszközök\, módszerek megismerése\, interaktív feladat\nVizuális menedzsment\, 5S\, kanban\, poka-yoke \n17.50 – 18.00 – Tapasztalatok megosztása\, a program zárása \n  \nIdőpont: 2022. május 31.\, 16.30-18.00 \nHelyszín: ZOOM online platform (a belépő kódot minden jelentkezőnek az előadás napján küldjük a regisztrációban megadott e-mail címre) \nElőadó: Gedei Erika\, MLBKT Lean Tagozat\, tagozatvezető \nJelentkezési határidő: 2022. május 30.\, 24.00 \n  \nTovábbi tudnivalók és jelentkezés:\nhttps://logisztika.hu/2022/05/20/gyartasban-szolgaltatasban-es-a-hetkoznapokban-is-hasznalhato-lean-eszkozok-modszerek-megismerese-meghivo-lean-tagozati-eloadasra/ \nGyártásban\, szolgáltatásban és a hétköznapokban is használható lean eszközök\, módszerek megismerése – Meghívó Lean tagozati előadásra \n \n  \nAz esemény létrejöttét támogatta
URL:https://logisztika.hu/rendezveny/gyartasban-szolgaltatasban-es-a-hetkoznapokban-is-hasznalhato-lean-eszkozok-modszerek-megismerese-meghivo-lean-tagozati-eloadasra-2/
END:VEVENT
END:VCALENDAR