BEGIN:VCALENDAR
VERSION:2.0
PRODID:-//Magyar Logisztikai, Beszerzési és Készletezési Társaság - ECPv6.15.16//NONSGML v1.0//EN
CALSCALE:GREGORIAN
METHOD:PUBLISH
X-ORIGINAL-URL:https://logisztika.hu
X-WR-CALDESC:Események Magyar Logisztikai, Beszerzési és Készletezési Társaság
REFRESH-INTERVAL;VALUE=DURATION:PT1H
X-Robots-Tag:noindex
X-PUBLISHED-TTL:PT1H
BEGIN:VTIMEZONE
TZID:UTC
BEGIN:STANDARD
TZOFFSETFROM:+0000
TZOFFSETTO:+0000
TZNAME:UTC
DTSTART:20210101T000000
END:STANDARD
END:VTIMEZONE
BEGIN:VEVENT
DTSTART;TZID=UTC:20220607T170000
DTEND;TZID=UTC:20220607T183000
DTSTAMP:20260422T113949
CREATED:20220520T094952Z
LAST-MODIFIED:20220520T094952Z
UID:77762-1654621200-1654626600@logisztika.hu
SUMMARY:Könyvbemutatót szervez az MLBKT Oktatói tagozata
DESCRIPTION:A Magyar Logisztikai\, Beszerzési és Készletezési Társaság Oktatói tagozata\ntisztelettel meghívja Önt\n2022. június 7-én\, kedden\, 17.00-18.30 óra között\na ZOOM-ban tartandó online könyvbemutató rendezvényére\n\n \na \na \nA könyvbemutató célja\, hogy a logisztika és ellátási lánc területen a közelmúltban született kiadványokat (könyv\, jegyzet\, esettanulmány kötet\, kutatási jelentés\, stb.) bemutassuk a szakma oktatóinak és kutatóinak. \na \nElőzetes felhívásunkra az alábbi könyvek ajánlása érkezett és kerülnek bemutatásra:\n \n  \n\n\n\n17.00 – 17.10\nKöszöntő\, a bemutatandó könyvek ismertetése\, Nagy Judit és Pónusz Mónika\, MLBKT Oktatói tagozat\n\n\n17.10 – 17.25\nLean módszerek a logisztikában\, (2021) – Tamás Péter\, Illés Béla\, Dobos Péter\, Seres László \nA könyvet bemutatja: Seres László\, Miskolci Egyetem\n\n\n17.25 – 17.35\nBeszélgetés a könyvről\n\n\n17.35 – 17.50\n„Egyeztetés alatt”\n\n\n17.50 – 18.00\nBeszélgetés a könyvről\n\n\n18.00 – 18.20\nTevékenységmenedzsment – Demeter Krisztina\, Gelei Andrea\, Matyusz Zsolt\, Nagy Judit; Akadémiai Kiadó\, 2022 (átdolgozott kiadás) \nA könyvet bemutatja: Nagy Judit\, Budapesti Corvinus Egyetem\n\n\n18.20 – 18.30\nBeszélgetés a könyvről\n\n\n18.30 – 18.35\nZárszó\n\n\n\n\n\na\n\nRemélem\, a bemutató alkalmat teremt a szakmai diskurzusra és közelebb hozza a hasonló témákat oktató és kutató kollégákat az ország minden részéről!\n\nSzeretettel várunk minden érdeklődőt!\na\n\n\n\n\na\n\nJelentkezési határidő: 2022. június 7.\, 11 óra\n(A Zoom belépő kódot június 7-én 13.00 órakor küldjük a regisztrációban megadott e-mail címre.)\n\n\na\ndr. Nagy Judit\, Budapesti Corvinus Egyetem\, az MLBKT Oktatói tagozatának vezetője\n\n\n\n\ndr. Pónusz Mónika\, Károli Gáspár Református Egyetem\, az MLBKT Oktatói tagozatának vezetőségi tagja
URL:https://logisztika.hu/rendezveny/konyvbemutatot-szervez-az-mlbkt-oktatoi-tagozata-2/
END:VEVENT
BEGIN:VEVENT
DTSTART;TZID=UTC:20220607T170000
DTEND;TZID=UTC:20220607T183000
DTSTAMP:20260422T113949
CREATED:20220520T094952Z
LAST-MODIFIED:20220520T094952Z
UID:83149-1654621200-1654626600@logisztika.hu
SUMMARY:Könyvbemutatót szervez az MLBKT Oktatói tagozata
DESCRIPTION:A Magyar Logisztikai\, Beszerzési és Készletezési Társaság Oktatói tagozata\ntisztelettel meghívja Önt\n2022. június 7-én\, kedden\, 17.00-18.30 óra között\na ZOOM-ban tartandó online könyvbemutató rendezvényére\n\n \na \na \nA könyvbemutató célja\, hogy a logisztika és ellátási lánc területen a közelmúltban született kiadványokat (könyv\, jegyzet\, esettanulmány kötet\, kutatási jelentés\, stb.) bemutassuk a szakma oktatóinak és kutatóinak. \na \nElőzetes felhívásunkra az alábbi könyvek ajánlása érkezett és kerülnek bemutatásra:\n \n  \n\n\n\n17.00 – 17.10\nKöszöntő\, a bemutatandó könyvek ismertetése\, Nagy Judit és Pónusz Mónika\, MLBKT Oktatói tagozat\n\n\n17.10 – 17.25\nLean módszerek a logisztikában\, (2021) – Tamás Péter\, Illés Béla\, Dobos Péter\, Seres László \nA könyvet bemutatja: Seres László\, Miskolci Egyetem\n\n\n17.25 – 17.35\nBeszélgetés a könyvről\n\n\n17.35 – 17.50\n„Egyeztetés alatt”\n\n\n17.50 – 18.00\nBeszélgetés a könyvről\n\n\n18.00 – 18.20\nTevékenységmenedzsment – Demeter Krisztina\, Gelei Andrea\, Matyusz Zsolt\, Nagy Judit; Akadémiai Kiadó\, 2022 (átdolgozott kiadás) \nA könyvet bemutatja: Nagy Judit\, Budapesti Corvinus Egyetem\n\n\n18.20 – 18.30\nBeszélgetés a könyvről\n\n\n18.30 – 18.35\nZárszó\n\n\n\n\n\na\n\nRemélem\, a bemutató alkalmat teremt a szakmai diskurzusra és közelebb hozza a hasonló témákat oktató és kutató kollégákat az ország minden részéről!\n\nSzeretettel várunk minden érdeklődőt!\na\n\n\n\n\na\n\nJelentkezési határidő: 2022. június 7.\, 11 óra\n(A Zoom belépő kódot június 7-én 13.00 órakor küldjük a regisztrációban megadott e-mail címre.)\n\n\na\ndr. Nagy Judit\, Budapesti Corvinus Egyetem\, az MLBKT Oktatói tagozatának vezetője\n\n\n\n\ndr. Pónusz Mónika\, Károli Gáspár Református Egyetem\, az MLBKT Oktatói tagozatának vezetőségi tagja
URL:https://logisztika.hu/rendezveny/konyvbemutatot-szervez-az-mlbkt-oktatoi-tagozata-2-2/
END:VEVENT
BEGIN:VEVENT
DTSTART;TZID=UTC:20220616T090000
DTEND;TZID=UTC:20220616T154000
DTSTAMP:20260422T113949
CREATED:20220527T083051Z
LAST-MODIFIED:20220527T083051Z
UID:77837-1655370000-1655394000@logisztika.hu
SUMMARY:Nyomonkövetési alapismeretek\, adatkezelés\, szektoriális megoldások - Meghívó ingyenes oktatói képzésre
DESCRIPTION:MLBKT Oktatói képzés\n2022. június 16.\, 9:00-15:40\n  \nAz MLBKT által szervezett 2020-as és 2021-es képzések folytatásaként\, ismét megrendezésre kerül a GS1-el közös online szakmai nap\, melynek fókuszában idén a NYOMON KÖVETÉS és az ADATKEZELÉS áll. A nyomon követéshez köthető általános ismeretek mellett számos új esetpélda\, szektoriális újdonság\, valamint egyetemi képzésekben alkalmazható gyakorlat és elérhető képzési tartalom kerül bemutatásra. Emellett teljes átfogó képet adunk az üzleti kommunikáció és az automatikus azonosítási rendszerek szabványos megoldásairól azok számára is\, akik először vesznek részt az eseményen. \n  \nIdőpont: 2022. június 16.\, 9.00-15.40 \nHelyszín: Microsoft TEAMS online felület \nRészvételi díj: \n\nFelsőoktatásban\, ill. felnőttképzésben dolgozó oktató kollégák részére a képzés térítésmentes\n(Technikai okok miatt a jelentkezéskor az ingyenes részvétel esetén is ki kell tölteni a számlázási adatokat. Természetesen ingyenes részvétel esetén nem küldünk számlát!)\nPiaci szereplő képviseletében érkező partnerek számára a részvételi díj 28.000 Ft + ÁFA\n\n  \nTovábbi részletek és jelentkezés itt >>>\nhttps://logisztika.hu/2022/05/27/nyomonkovetesi-alapismeretek-adatkezeles-szektorialis-megoldasok-meghivo-ingyenes-oktatoi-kepzesre/ \n 
URL:https://logisztika.hu/rendezveny/nyomonkovetesi-alapismeretek-adatkezeles-szektorialis-megoldasok-meghivo-ingyenes-oktatoi-kepzesre/
END:VEVENT
BEGIN:VEVENT
DTSTART;TZID=UTC:20220616T090000
DTEND;TZID=UTC:20220616T154000
DTSTAMP:20260422T113949
CREATED:20220527T083051Z
LAST-MODIFIED:20220527T083051Z
UID:83150-1655370000-1655394000@logisztika.hu
SUMMARY:Nyomonkövetési alapismeretek\, adatkezelés\, szektoriális megoldások - Meghívó ingyenes oktatói képzésre
DESCRIPTION:MLBKT Oktatói képzés\n2022. június 16.\, 9:00-15:40\n  \nAz MLBKT által szervezett 2020-as és 2021-es képzések folytatásaként\, ismét megrendezésre kerül a GS1-el közös online szakmai nap\, melynek fókuszában idén a NYOMON KÖVETÉS és az ADATKEZELÉS áll. A nyomon követéshez köthető általános ismeretek mellett számos új esetpélda\, szektoriális újdonság\, valamint egyetemi képzésekben alkalmazható gyakorlat és elérhető képzési tartalom kerül bemutatásra. Emellett teljes átfogó képet adunk az üzleti kommunikáció és az automatikus azonosítási rendszerek szabványos megoldásairól azok számára is\, akik először vesznek részt az eseményen. \n  \nIdőpont: 2022. június 16.\, 9.00-15.40 \nHelyszín: Microsoft TEAMS online felület \nRészvételi díj: \n\nFelsőoktatásban\, ill. felnőttképzésben dolgozó oktató kollégák részére a képzés térítésmentes\n(Technikai okok miatt a jelentkezéskor az ingyenes részvétel esetén is ki kell tölteni a számlázási adatokat. Természetesen ingyenes részvétel esetén nem küldünk számlát!)\nPiaci szereplő képviseletében érkező partnerek számára a részvételi díj 28.000 Ft + ÁFA\n\n  \nTovábbi részletek és jelentkezés itt >>>\nhttps://logisztika.hu/2022/05/27/nyomonkovetesi-alapismeretek-adatkezeles-szektorialis-megoldasok-meghivo-ingyenes-oktatoi-kepzesre/ \n 
URL:https://logisztika.hu/rendezveny/nyomonkovetesi-alapismeretek-adatkezeles-szektorialis-megoldasok-meghivo-ingyenes-oktatoi-kepzesre-2/
END:VEVENT
END:VCALENDAR