BEGIN:VCALENDAR
VERSION:2.0
PRODID:-//Magyar Logisztikai, Beszerzési és Készletezési Társaság - ECPv6.15.16//NONSGML v1.0//EN
CALSCALE:GREGORIAN
METHOD:PUBLISH
X-ORIGINAL-URL:https://logisztika.hu
X-WR-CALDESC:Események Magyar Logisztikai, Beszerzési és Készletezési Társaság
REFRESH-INTERVAL;VALUE=DURATION:PT1H
X-Robots-Tag:noindex
X-PUBLISHED-TTL:PT1H
BEGIN:VTIMEZONE
TZID:UTC
BEGIN:STANDARD
TZOFFSETFROM:+0000
TZOFFSETTO:+0000
TZNAME:UTC
DTSTART:20210101T000000
END:STANDARD
END:VTIMEZONE
BEGIN:VEVENT
DTSTART;TZID=UTC:20220930T000000
DTEND;TZID=UTC:20221007T235959
DTSTAMP:20260422T052255
CREATED:20220428T140230Z
LAST-MODIFIED:20220428T140230Z
UID:77523-1664496000-1665187199@logisztika.hu
SUMMARY:Lean menedzsment és gyakorlati eszközök
DESCRIPTION:A képzés célja a lean szemlélet és a legfontosabb lean eszközök komplex rendszerének szimulációkkal és esettanulmányokkal támogatott megismertetése és elmélyítése\, továbbá a lean logisztikában történő felhasználási lehetőségeinek áttekintése példákon keresztül. \nA résztvevők a saját közegükben más szemlélettel\, új módszerek alkalmazásával képesek lesznek a hosszú távú folyamatos fejlődés hatékony\, fenntartható formája felé haladni\, a különböző nehézségeket többféle szemszögből megközelíteni\, és a problémák igazi okait keresni\, valamint átfogó képet kapni a lean folyamatfejlesztésről.
URL:https://logisztika.hu/rendezveny/szakmai-treningek-lean-menedzsment/
CATEGORIES:Tréning
ATTACH;FMTTYPE=image/png:https://logisztika.hu/wp-content/uploads/2022/04/Lean-menedzsment-es-gyakorlati-eszkozok.png
END:VEVENT
BEGIN:VEVENT
DTSTART;TZID=UTC:20220930T000000
DTEND;TZID=UTC:20221007T235959
DTSTAMP:20260422T052255
CREATED:20220428T140230Z
LAST-MODIFIED:20220428T140230Z
UID:83144-1664496000-1665187199@logisztika.hu
SUMMARY:Lean menedzsment és gyakorlati eszközök
DESCRIPTION:A képzés célja a lean szemlélet és a legfontosabb lean eszközök komplex rendszerének szimulációkkal és esettanulmányokkal támogatott megismertetése és elmélyítése\, továbbá a lean logisztikában történő felhasználási lehetőségeinek áttekintése példákon keresztül. \nA résztvevők a saját közegükben más szemlélettel\, új módszerek alkalmazásával képesek lesznek a hosszú távú folyamatos fejlődés hatékony\, fenntartható formája felé haladni\, a különböző nehézségeket többféle szemszögből megközelíteni\, és a problémák igazi okait keresni\, valamint átfogó képet kapni a lean folyamatfejlesztésről.
URL:https://logisztika.hu/rendezveny/szakmai-treningek-lean-menedzsment-2/
CATEGORIES:Tréning
ATTACH;FMTTYPE=image/png:https://logisztika.hu/wp-content/uploads/2022/04/Lean-menedzsment-es-gyakorlati-eszkozok.png
END:VEVENT
BEGIN:VEVENT
DTSTART;TZID=UTC:20221006T000000
DTEND;TZID=UTC:20221007T235959
DTSTAMP:20260422T052255
CREATED:20220810T130720Z
LAST-MODIFIED:20220810T130720Z
UID:78329-1665014400-1665187199@logisztika.hu
SUMMARY:Tárgyalási alapismeretek beszerzőknek
DESCRIPTION:Gyakorlati életből vett példákon keresztül tanuljuk meg\, hogyan kell szóban (telefonon és személyesen) egyszerűbb\, majd egyre bonyolultabb helyzeteket megoldani úgy\, hogy mindkét fél számára kielégítő legyen a végkifejlet (win-win szituáció elérése). A képzés alatt a résztvevők szakmai megoldásokat és eszköztárat kapnak tipikus helyzetekre\, de lehetőség van saját példák megoldására is. Célunk\, hogy a résztvevők önállóan oldják meg a feladatkörükhöz tartozó tárgyalásokat\, ezzel csökkentve az eszkalációk számát.
URL:https://logisztika.hu/rendezveny/targyalasi-alapismeretek-beszerzoknek-5/
CATEGORIES:Tréning
ATTACH;FMTTYPE=image/jpeg:https://logisztika.hu/wp-content/uploads/2022/08/Targyalasi-alapismeretek_nyer-nyer-2048x1676-1.jpg
END:VEVENT
BEGIN:VEVENT
DTSTART;TZID=UTC:20221006T000000
DTEND;TZID=UTC:20221007T235959
DTSTAMP:20260422T052255
CREATED:20220810T130720Z
LAST-MODIFIED:20220810T130720Z
UID:83152-1665014400-1665187199@logisztika.hu
SUMMARY:Tárgyalási alapismeretek beszerzőknek
DESCRIPTION:Gyakorlati életből vett példákon keresztül tanuljuk meg\, hogyan kell szóban (telefonon és személyesen) egyszerűbb\, majd egyre bonyolultabb helyzeteket megoldani úgy\, hogy mindkét fél számára kielégítő legyen a végkifejlet (win-win szituáció elérése). A képzés alatt a résztvevők szakmai megoldásokat és eszköztárat kapnak tipikus helyzetekre\, de lehetőség van saját példák megoldására is. Célunk\, hogy a résztvevők önállóan oldják meg a feladatkörükhöz tartozó tárgyalásokat\, ezzel csökkentve az eszkalációk számát.
URL:https://logisztika.hu/rendezveny/targyalasi-alapismeretek-beszerzoknek-5-2/
CATEGORIES:Tréning
ATTACH;FMTTYPE=image/jpeg:https://logisztika.hu/wp-content/uploads/2022/08/Targyalasi-alapismeretek_nyer-nyer-2048x1676-1.jpg
END:VEVENT
BEGIN:VEVENT
DTSTART;TZID=UTC:20221006T160000
DTEND;TZID=UTC:20221006T180000
DTSTAMP:20260422T052255
CREATED:20220929T073103Z
LAST-MODIFIED:20220929T073103Z
UID:83155-1665072000-1665079200@logisztika.hu
SUMMARY:TE(l)Jes piaci körkép
DESCRIPTION:Az MLBKT Beszerzők és Beszerzési Vezetők Klubja október 6-án élelmiszeripari témában beszélgetést tart – TE(l)Jes piaci körkép – címmel\, melyre szeretettel meghívjuk a beszerzés iránt érdeklődőket.\n \n \n  \nAz idén 20 éves Beszerzési Vezetők Klubja tagi ülésén úgy határozott\, hogy a beszerzési szakma széleskörű fejlesztése és egy aktív\, átfogó közösség megteremtése érdekében tagságába örömmel látja a beszerző kollégákat is. \nA tavaly év végén Beszerzői karrier\, majd Iparágváltás a beszerzők életében témákban sikeresen elindított\, kimondottan beszerzési kollégáknak szóló eseményünk után\, az alábbi új eseményünket ajánljuk beszerző kollegák figyelmébe\, ahol meghívott előadónk Dóka Péter beszerzési vezető lesz élelmiszeripari területről és segít eligazodni a változások megértésében. \n\nA jelenlegi piaci környezetben folyton csak azt veszed észre\, hogy minden vásárlásod után egyre többet hagysz ott a kasszáknál?\nSzereted a sajtot\, de már jobban meggondolod\, mennyit egyél belőle? Esetleg a Túró Rudit kezded megvonni a gyerekeidtől?\n\nHa ezeket a kérdések a Te mindennapjaidban is ott vannak\, akkor szeretettel várunk egy interaktív teams kerekasztal beszélgetés keretében\, ahol élelmiszer\, azon belül tejipari vezető vendégünkkel segítünk választ kapni\, milyen mozgatórugói is vannak beszerzői szemmel nézve a kialakult helyzetnek. \n  \nIdőpont\n2022. október 6.\, csütörtök\,  16:00-18:00 \nPlatform\nTeams meeting \n  \nRészletek és jelentkezés>>>
URL:https://logisztika.hu/rendezveny/teljes-piaci-korkep/
CATEGORIES:Tagozati program
END:VEVENT
BEGIN:VEVENT
DTSTART;TZID=UTC:20221013T000000
DTEND;TZID=UTC:20221017T235959
DTSTAMP:20260422T052255
CREATED:20220810T131042Z
LAST-MODIFIED:20220810T131042Z
UID:78332-1665619200-1666051199@logisztika.hu
SUMMARY:Készlettervezés
DESCRIPTION:Képzésünk célja\, hogy annak sikeres elvégzése után a résztvevő képes legyen megérteni és megtervezni a vállalatok anyagi folyamatait kiszolgáló készletezési folyamatokat.
URL:https://logisztika.hu/rendezveny/keszlettervezes-5/
CATEGORIES:Tréning
ATTACH;FMTTYPE=image/jpeg:https://logisztika.hu/wp-content/uploads/2022/08/Keszlettervezes.jpg
END:VEVENT
BEGIN:VEVENT
DTSTART;TZID=UTC:20221013T000000
DTEND;TZID=UTC:20221017T235959
DTSTAMP:20260422T052255
CREATED:20220810T131042Z
LAST-MODIFIED:20220810T131042Z
UID:83153-1665619200-1666051199@logisztika.hu
SUMMARY:Készlettervezés
DESCRIPTION:Képzésünk célja\, hogy annak sikeres elvégzése után a résztvevő képes legyen megérteni és megtervezni a vállalatok anyagi folyamatait kiszolgáló készletezési folyamatokat.
URL:https://logisztika.hu/rendezveny/keszlettervezes-5-2/
CATEGORIES:Tréning
ATTACH;FMTTYPE=image/jpeg:https://logisztika.hu/wp-content/uploads/2022/08/Keszlettervezes.jpg
END:VEVENT
BEGIN:VEVENT
DTSTART;TZID=UTC:20221019T000000
DTEND;TZID=UTC:20221021T235959
DTSTAMP:20260422T052255
CREATED:20220601T095855Z
LAST-MODIFIED:20221129T132556Z
UID:77894-1666137600-1666396799@logisztika.hu
SUMMARY:30. MLBKT Kongresszus
DESCRIPTION:FIGYELEM!!!\n\nÚJ IDŐPONTBAN AZ ÉV SUPPLY CHAIN ESEMÉNYE!!!\n\n \n\nA KONGRESSZUS FŐ TÉMAKÖREI:\n\n 	Globális ellátási láncok helyzete az aktuális környezeti és társadalmi kihívások tükrében\n 	Életképes ellátási láncok (mitől életképes egy ellátási lánc?) – bevált gyakorlatok\n 	ESG és fenntarthatóság – a mi felelősségünk\n 	Tervezzük erőforrásainkat\, de okosan!\n 	Beszerzés – stratégiától a megvalósításig – új szerepkörök?\n 	Kockázatkezelés és ami azon túl van\n 	Ipar 4.0 és a logisztikai folyamatok automatizációja és digitalizációja\n 	Globális szállítási láncok és lokális válaszok\n 	Fókuszban a munkaerő: hogyan lehet megfelelni a gyorsan változó környezet elvárásainak\n 	Az én „leg” projektem 2022: Use cases\, sikersztorik és tanulságok\, „kedvenc kudarcom\, amiből a legtöbbet tanultam”\n\nAnnyi változás történik nap\, mint nap\, hogy szinte lehetetlen megjósolni\, mi lesz “hot topic” októberben.  Ebben a gyorsan változó környezetben mi továbbra is abban hiszünk\, hogy folytatni kell a szorosabb együttműködést az ellátási láncok mentén\, a beszállítók és a szolgáltatók irányában is; automatizálni és digitalizálni kell\, amit szükséges és lehetséges\, de mindenekelőtt biztosítani kell a fenntartható működést – gazdaságilag\, társadalmilag és környezetileg egyaránt. \nMindenesetre mi már nagyon készülünk a 30. jubileumi kongresszusra\, hogy személyesen találkozzunk újra.
URL:https://logisztika.hu/rendezveny/30-mlbkt-kongresszus/
CATEGORIES:Konferencia
ATTACH;FMTTYPE=image/jpeg:https://logisztika.hu/wp-content/uploads/2022/04/MLBKT_Key_Visual660x330.jpg
END:VEVENT
BEGIN:VEVENT
DTSTART;TZID=UTC:20221019T000000
DTEND;TZID=UTC:20221021T235959
DTSTAMP:20260422T052255
CREATED:20220601T095855Z
LAST-MODIFIED:20220601T095855Z
UID:83151-1666137600-1666396799@logisztika.hu
SUMMARY:30. MLBKT Kongresszus
DESCRIPTION:FIGYELEM!!! \nÚJ IDŐPONTBAN AZ ÉV SUPPLY CHAIN ESEMÉNYE!!! \n  \nA KONGRESSZUS FŐ TÉMAKÖREI: \n\nGlobális ellátási láncok helyzete az aktuális környezeti és társadalmi kihívások tükrében\nÉletképes ellátási láncok (mitől életképes egy ellátási lánc?) – bevált gyakorlatok\nESG és fenntarthatóság – a mi felelősségünk\nTervezzük erőforrásainkat\, de okosan!\nBeszerzés – stratégiától a megvalósításig – új szerepkörök?\nKockázatkezelés és ami azon túl van\nIpar 4.0 és a logisztikai folyamatok automatizációja és digitalizációja\nGlobális szállítási láncok és lokális válaszok\nFókuszban a munkaerő: hogyan lehet megfelelni a gyorsan változó környezet elvárásainak\nAz én „leg” projektem 2022: Use cases\, sikersztorik és tanulságok\, „kedvenc kudarcom\, amiből a legtöbbet tanultam”\n\nAnnyi változás történik nap\, mint nap\, hogy szinte lehetetlen megjósolni\, mi lesz “hot topic” októberben.  Ebben a gyorsan változó környezetben mi továbbra is abban hiszünk\, hogy folytatni kell a szorosabb együttműködést az ellátási láncok mentén\, a beszállítók és a szolgáltatók irányában is; automatizálni és digitalizálni kell\, amit szükséges és lehetséges\, de mindenekelőtt biztosítani kell a fenntartható működést – gazdaságilag\, társadalmilag és környezetileg egyaránt. \nMindenesetre mi már nagyon készülünk a 30. jubileumi kongresszusra\, hogy személyesen találkozzunk újra.
URL:https://logisztika.hu/rendezveny/30-mlbkt-kongresszus-2/
CATEGORIES:Konferencia
ATTACH;FMTTYPE=image/jpeg:https://logisztika.hu/wp-content/uploads/2022/04/MLBKT_Key_Visual660x330.jpg
END:VEVENT
END:VCALENDAR