BEGIN:VCALENDAR
VERSION:2.0
PRODID:-//Magyar Logisztikai, Beszerzési és Készletezési Társaság - ECPv6.15.16//NONSGML v1.0//EN
CALSCALE:GREGORIAN
METHOD:PUBLISH
X-WR-CALNAME:Magyar Logisztikai, Beszerzési és Készletezési Társaság
X-ORIGINAL-URL:https://logisztika.hu
X-WR-CALDESC:Események Magyar Logisztikai, Beszerzési és Készletezési Társaság
REFRESH-INTERVAL;VALUE=DURATION:PT1H
X-Robots-Tag:noindex
X-PUBLISHED-TTL:PT1H
BEGIN:VTIMEZONE
TZID:UTC
BEGIN:STANDARD
TZOFFSETFROM:+0000
TZOFFSETTO:+0000
TZNAME:UTC
DTSTART:20210101T000000
END:STANDARD
END:VTIMEZONE
BEGIN:VTIMEZONE
TZID:Europe/Helsinki
BEGIN:DAYLIGHT
TZOFFSETFROM:+0200
TZOFFSETTO:+0300
TZNAME:EEST
DTSTART:20210328T010000
END:DAYLIGHT
BEGIN:STANDARD
TZOFFSETFROM:+0300
TZOFFSETTO:+0200
TZNAME:EET
DTSTART:20211031T010000
END:STANDARD
BEGIN:DAYLIGHT
TZOFFSETFROM:+0200
TZOFFSETTO:+0300
TZNAME:EEST
DTSTART:20220327T010000
END:DAYLIGHT
BEGIN:STANDARD
TZOFFSETFROM:+0300
TZOFFSETTO:+0200
TZNAME:EET
DTSTART:20221030T010000
END:STANDARD
BEGIN:DAYLIGHT
TZOFFSETFROM:+0200
TZOFFSETTO:+0300
TZNAME:EEST
DTSTART:20230326T010000
END:DAYLIGHT
BEGIN:STANDARD
TZOFFSETFROM:+0300
TZOFFSETTO:+0200
TZNAME:EET
DTSTART:20231029T010000
END:STANDARD
END:VTIMEZONE
BEGIN:VEVENT
DTSTART;TZID=UTC:20221123T000000
DTEND;TZID=UTC:20221123T235959
DTSTAMP:20260422T033402
CREATED:20221129T133018Z
LAST-MODIFIED:20221129T133115Z
UID:81080-1669161600-1669247999@logisztika.hu
SUMMARY:Digitális technológiák szerepe a logisztikai folyamatok előrejelzésében – Meghívó workshopra
DESCRIPTION:Az MLBKT Logisztika 4.0 Tagozata és a Forecasting Tagozata szeretettel meghív minden érdeklődőt alábbi\, közös szervezésű online programjára: \n  \n \n \nHelyszín: MS Teams \n  \n \n \n(az online csatlakozáshoz szükséges belépési linket minden jelentkezőnek a konferencia napján küldjük e-mailben\, a regisztrációban megadott e-mail címre) \n  \n \n \nDátum: 2022. november 23. (szerda) \n \n \nIdőpont: 14.00-16.30 \n  \n \n \nElnök: Mondovics János\, ügyvezető (Bonitat Kft.)\, tagozatvezető (MLBKT-Forecasting tagozat) \n  \n \n \nTárselnök: Prof. Dr. Tamás Péter\, intézetigazgató egyetemi tanár (Miskolci Egyetem\, Logisztikai Intézet)\, tagozatvezető (MLBKT-Logisztika 4.0) \n  \n \n \nTitkár: Dr. Cservenák Ákos\, adjunktus (Miskolci Egyetem)\, tag (MLBKT-Logisztika 4.0 tagozat) \n \n \n\n\n\n\n14.00-14.05\nMegnyitó\n\n\n14.05-14.20   \nA szervezet előrejelzési kultúrájának alapjai: szervezeti kooperáció és folyamat támogatás. Fejlesszünk olcsón és hatékonyan: az extenzív útMondovics János\, ügyvezető (Bonitat Kft.)\, tagozatvezető (MLBKT-Forecasting tagozat)\n\n\n14.20-14.35   \nSzimulációs vizsgálat szerepe a logisztikai folyamatok előrejelzésébenProf. Dr. Tamás Péter\, intézetigazgató egyetemi tanár (Miskolci Egyetem\, Logisztikai Intézet)\, tagozatvezető (MLBKT-Logisztika 4.0)\n\n\n14.35-14.50  \nÉrtékesítési folyamatok\, prognózis = CRM\, avagy miért büntetik\, ha egy sales jelentősen túlteljesíti a forecast-játDarvas Krisztián\, vezérigazgató (Soulware Kft)\n\n\n14.50-15.05\nÜzleti intelligencia és adattudományBátorfi Zsolt\, Microsoft felhő platform szakértő (Hallenbeck IT Services Kft)\n\n\n15.05-15.15\nKávészünet\n\n\n15.15-15.30 \nÚj távlatok valós idejű helymeghatározás (RTLS) használatával az intralogisztikábanBátori Tamás\, képviselet vezető (IBCS Hungary Kft.)\n\n\n15.30-15.45 \nElőrejelzés szerepe a csomagolási rendszerek fejlesztésébenMatyi Henriett\, PhD hallgató (Miskolci Egyetem\, Logisztikai Intézet) \n\n\n15.45-16.00  \nUtazási igény előrejelzés személyszállítás tervezéséhezErdei László\, PhD hallgató (Miskolci Egyetem\, Logisztikai Intézet)\n\n\n16.00-16.15  \nAlapanyag beszállítás és készáru kiszállítás tervezése és szabályozása a gyártás és kapacitások függvényébenSzabó Endre\, ügyvezető (GLABs)\n\n\n16.15-16.30  \nLast mile esetpéldák és az SSCC kód szerepeMagyar Róbert felsőoktatási referens (GS1 Magyarország Nonprofit Zrt.)\n\n\n\n\n \n \nRendezvény Támogatói: \n \n \n\n\n\n\n\n  \n\n\n\nMLBKT-Logisztika 4.0 tagozat\,\n\n\n\n \n \n\n\n\nMLBKT-Forecasting tagozat\,\n\n\n\n \n \n\n\n\nMiskolci Egyetem\, Terplán Zénó Szakkollégium\n \n\n\n\n \n \n \nRészvételi díj: \n \n \n\n\n\n\n\n  \n\n\n\nA részvétel az MLBKT tagjai számára ingyenes\, de előzetes regisztrációhoz kötött!\n\n\n\n \n \n\n\n\nAzon nem MLBKT tagok részére\, akik a jelentkezéssel egyidejűleg csatlakoznak a tagsághoz\, a tagdíj befizetésével a részvétel ingyenes. Tagsági regisztráció itt >>> https://logisztika.hu/belepes/\n\n\n\n \n \n\n\n\nNem MLBKT tagok részére 8.000\,- Ft+áfa\n \n\n\n\n \n \n \nJelentkezési határidő: 2022. november 22.\, 24.00 \n  \n \n \n\n \nJELENTKEZEM
URL:https://logisztika.hu/rendezveny/digitalis-technologiak-szerepe-a-logisztikai-folyamatok-elorejelzeseben-meghivo-workshopra-2/
CATEGORIES:Konferencia
END:VEVENT
BEGIN:VEVENT
DTSTART;TZID=UTC:20221123T140000
DTEND;TZID=UTC:20221123T163000
DTSTAMP:20260422T033402
CREATED:20221109T201537Z
LAST-MODIFIED:20221109T201537Z
UID:78692-1669212000-1669221000@logisztika.hu
SUMMARY:Digitális technológiák szerepe a logisztikai folyamatok előrejelzésében - Meghívó workshopra
DESCRIPTION:Az MLBKT Logisztika 4.0 Tagozata és a Forecasting Tagozata szeretettel meghív minden érdeklődőt alábbi\, közös szervezésű online programjára: \n  \nHelyszín: MS Teams  \n(az online csatlakozáshoz szükséges belépési linket minden jelentkezőnek a konferencia napján küldjük e-mailben\, a regisztrációban megadott e-mail címre) \n  \nDátum: 2022. november 23. (szerda)  \nIdőpont: 14.00-16.30 \n  \nElnök: Mondovics János\, ügyvezető (Bonitat Kft.)\, tagozatvezető (MLBKT-Forecasting tagozat) \nTárselnök: Prof. Dr. Tamás Péter\, intézetigazgató egyetemi tanár (Miskolci Egyetem\, Logisztikai Intézet)\, tagozatvezető (MLBKT-Logisztika 4.0) \nTitkár: Dr. Cservenák Ákos\, adjunktus (Miskolci Egyetem)\, tag (MLBKT-Logisztika 4.0 tagozat) \n  \nA részletes program és jelentkezés itt található: \nDigitális technológiák szerepe a logisztikai folyamatok előrejelzésében – Meghívó workshopra \n \n 
URL:https://logisztika.hu/rendezveny/digitalis-technologiak-szerepe-a-logisztikai-folyamatok-elorejelzeseben-meghivo-workshopra/
CATEGORIES:Tagozati program
END:VEVENT
BEGIN:VEVENT
DTSTART;TZID=Europe/Helsinki:20221124T000000
DTEND;TZID=Europe/Helsinki:20221124T235959
DTSTAMP:20260422T033402
CREATED:20221121T123650Z
LAST-MODIFIED:20221129T133222Z
UID:80989-1669248000-1669334399@logisztika.hu
SUMMARY:Vállalatlátogatás a Grundfos Magyarország tatabányai telephelyére
DESCRIPTION:A következő vállalatlátogatásunk keretében örömmel mutatjuk be a Grundfos Magyarország Gyártó Kft. működését\, melyet telephelyén Tatabányán ismerhetünk meg közelebbről. \n\n\n\nVállalat fő profilja az elektromos motor és szivattyúgyártás és minden vízzel kapcsolatos technológia\, melyben élenjárók. \n\n\n\nA Grundfos Magyarország Gyártó Kft.\, Tatabányán alakult meg 21 évvel ezelőtt\, ahol az első gyárat 2002-ben már követte is a második\, majd később 2007-ben az első majd 2013-ban a második székesfehérvári gyár megnyitásával ma már 2 telephelyen\, 4 gyártóegységgel rendelkezik. \n\n\n\nKiemelten fontos a vállalat működésében a fenntarthatóság\, a jövőre való odafigyelés\, ezért olyan innovatív technológiákat alkalmaznak\, amivel valóban az élhető bolygót és a tiszta vizet továbbra is biztosítani tudják mindenki számára. A vállalat számára fő fókuszban van a társadalmi felelősségvállalás és emberközpontú gondolkodás. \n\n\n\nLátogatásunk alkalmával megismerhetünk egy end-to-end supply chain szimulációt egy kiválasztott termékre. Betekintést kapunk a vállalat életébe: döntési pontok\, megoldások\, gyakorlatok. Megtudhatjuk\, hogy a jelen ellátási lánc helyzetre milyen válaszokat talált a Grudfos\, valamint kitekintést kapunk a 2023-as tervekre és kihívásokra is. \n\n\n\nIdőpont: 2022. november  24. 9:30 – 12:30 \n\n\n\nHelyszín: H-2800 Tatabánya\, Búzavirág u. 14. \n\n\n\nPROGRAM \n\n\n\n9:30-9:45 Érkezés\, fogadó kávészünet \n\n\n\n9:45-11:15 A Grundfos Magyarország bemutatása \n\n\n\n11:15-12:15 Gyártúra \n\n\n\n12:15-12:30 Kérdések/válaszok \n\n\n\nRészvételi díj: \n\n\n\n\nMLBKT tagok részére ingyenes\n\n\n\nNem MLBKT tagok részére\, akik a jelentkezéssel egyidejűleg csatlakoznak a tagsághoz\, a tagsági díj befizetésével a részvétel ingyenes. Tagsági regisztráció itt >>> https://logisztika.hu/belepes/\n\n\n\nNem MLBKT tagok részére: 20.000\,- Ft + ÁFA\n\n\n\n\nHa még nem tagunk\, de szeretne részt venni Társaságunk eseményein\, csatlakozzon az MLBKT tagjainak sorába még ma és a jövőben ingyenesen vagy kedvezményes áron vehet részt a programjainkon! \n\n\n\n*A Grudfos Magyarország Gyártó Kft.  fenntartja annak jogát\, hogy versenytársak részvételét elutasítsa. \n\n\n\nMaximális létszám: 30 fő \n\n\n\nJelentkezési határidő: 2022. november 22. 12:00 \n\n\n\nRészletes információ és jelentkezés itt >>> \n\n\n\n\nVállalatlátogatás a Grundfos Magyarország tatabányai telephelyére
URL:https://logisztika.hu/rendezveny/vallalatlatogatas-a-grundfos-magyarorszag-tatabanyai-telephelyere/
END:VEVENT
BEGIN:VEVENT
DTSTART;TZID=UTC:20221124T093000
DTEND;TZID=UTC:20221124T123000
DTSTAMP:20260422T033402
CREATED:20221115T080552Z
LAST-MODIFIED:20221115T080552Z
UID:78762-1669282200-1669293000@logisztika.hu
SUMMARY:Vállalatlátogatás a Grundfos Magyarország tatabányai telephelyére
DESCRIPTION:A következő vállalatlátogatásunk keretében örömmel mutatjuk be a Grundfos Magyarország Gyártó Kft. működését\, melyet telephelyén Tatabányán ismerhetünk meg közelebbről. \n  \nVállalat fő profilja az elektromos motor és szivattyúgyártás és minden vízzel kapcsolatos technológia\, melyben élenjárók. \nA Grundfos Magyarország Gyártó Kft.\, Tatabányán alakult meg 21 évvel ezelőtt\, ahol az első gyárat 2002-ben már követte is a második\, majd később 2007-ben az első majd 2013-ban a második székesfehérvári gyár megnyitásával ma már 2 telephelyen\, 4 gyártóegységgel rendelkezik. \nKiemelten fontos a vállalat működésében a fenntarthatóság\, a jövőre való odafigyelés\, ezért olyan innovatív technológiákat alkalmaznak\, amivel valóban az élhető bolygót és a tiszta vizet továbbra is biztosítani tudják mindenki számára. A vállalat számára fő fókuszban van a társadalmi felelősségvállalás és emberközpontú gondolkodás. \nLátogatásunk alkalmával megismerhetünk egy end-to-end supply chain szimulációt egy kiválasztott termékre. Betekintést kapunk a vállalat életébe: döntési pontok\, megoldások\, gyakorlatok. Megtudhatjuk\, hogy a jelen ellátási lánc helyzetre milyen válaszokat talált a Grudfos\, valamint kitekintést kapunk a 2023-as tervekre és kihívásokra is. \n\n\n  \n[divider] \n  \nIdőpont: 2022. november  24. 9:30 – 12:30\n \nHelyszín: H-2800 Tatabánya\, Búzavirág u. 14. \n\nPROGRAM \n9:30-9:45 Érkezés\, fogadó kávészünet \n9:45-11:15 A Grundfos Magyarország bemutatása \n11:15-12:15 Gyártúra \n12:15-12:30 Kérdések/válaszok \n\n  \nRészvételi díj: \n\nMLBKT tagok részére ingyenes\nNem MLBKT tagok részére\, akik a jelentkezéssel egyidejűleg csatlakoznak a tagsághoz\, a tagsági díj befizetésével a részvétel ingyenes. Tagsági regisztráció itt >>> https://logisztika.hu/belepes/\nNem MLBKT tagok részére: 20.000\,- Ft + ÁFA\n\n  \nHa még nem tagunk\, de szeretne részt venni Társaságunk eseményein\, csatlakozzon az MLBKT tagjainak sorába még ma és a jövőben ingyenesen vagy kedvezményes áron vehet részt a programjainkon! \n*A Grudfos Magyarország Gyártó Kft.  fenntartja annak jogát\, hogy versenytársak részvételét elutasítsa. \n  \nMaximális létszám: 30 fő \n  \nJelentkezési határidő: 2022. november 22. 12:00 \n  \nRészletes információ és jelentkezés itt >>> \nhttps://logisztika.hu/2022/11/10/vallalatlatogatas-a-grudfos-magyarorszag-tatabanyai-telephelyere/
URL:https://logisztika.hu/rendezveny/vallalatlatogatas-a-grundfos-magyarorszag-tatabanyai-telephelyere-2/
CATEGORIES:Vállalatlátogatás
END:VEVENT
END:VCALENDAR