BEGIN:VCALENDAR
VERSION:2.0
PRODID:-//Magyar Logisztikai, Beszerzési és Készletezési Társaság - ECPv6.15.16//NONSGML v1.0//EN
CALSCALE:GREGORIAN
METHOD:PUBLISH
X-ORIGINAL-URL:https://logisztika.hu
X-WR-CALDESC:Események Magyar Logisztikai, Beszerzési és Készletezési Társaság
REFRESH-INTERVAL;VALUE=DURATION:PT1H
X-Robots-Tag:noindex
X-PUBLISHED-TTL:PT1H
BEGIN:VTIMEZONE
TZID:UTC
BEGIN:STANDARD
TZOFFSETFROM:+0000
TZOFFSETTO:+0000
TZNAME:UTC
DTSTART:20210101T000000
END:STANDARD
END:VTIMEZONE
BEGIN:VEVENT
DTSTART;TZID=UTC:20221213T163000
DTEND;TZID=UTC:20221213T180000
DTSTAMP:20260422T021357
CREATED:20221201T040829Z
LAST-MODIFIED:20230427T061010Z
UID:78909-1670949000-1670954400@logisztika.hu
SUMMARY:A standardizálás alapjai elméletben és gyakorlati megvalósítása egy szolgáltatói folyamaton keresztül - Meghívó Lean tagozati előadásra
DESCRIPTION:Az MLBKT Lean Tagozata szeretettel meghívja Önt egy három előadásból álló interaktív eseménysorozatának 3. előadására. \n  \nA harmadik előadás tematikája: \nA standardizálás alapjai elméletben és gyakorlati megvalósítása egy szolgáltatói folyamaton keresztül \n16.30 – 16.35 – Köszöntés\, a program ismertetése \n16.35 – 16.50 – Lean alapok és eszközök (ismétlés) \n16.50 – 17.50 – Standardizálás elméletben és gyakorlatban (interaktív feladat)\n \n17.50 – 18.00 – Kérdések\, tapasztalatok megosztása\, a program zárása \n  \nIdőpont: 2022. december 13.\, 16.30-18.00 \nHelyszín: ZOOM online platform (a belépő kódot minden jelentkezőnek az előadás napján küldjük a regisztrációban megadott e-mail címre) \n  \nElőadó: Gedei Erika\, MLBKT Lean Tagozat\, tagozatvezető \n  \nTovábbi részletek és jelentkezés itt >>> \nA standardizálás alapjai elméletben és gyakorlati megvalósítása egy szolgáltatói folyamaton keresztül – Meghívó Lean tagozati előadásra
URL:https://logisztika.hu/rendezveny/a-standardizalas-alapjai-elmeletben-es-gyakorlati-megvalositasa-egy-szolgaltatoi-folyamaton-keresztul-meghivo-lean-tagozati-eloadasra/
CATEGORIES:Lean tagozat,Tagozati program
END:VEVENT
BEGIN:VEVENT
DTSTART;TZID=UTC:20221214T080000
DTEND;TZID=UTC:20221216T170000
DTSTAMP:20260422T021357
CREATED:20221124T092226Z
LAST-MODIFIED:20231019T074611Z
UID:78851-1671004800-1671210000@logisztika.hu
SUMMARY:KÉSZLETTERVEZÉS
DESCRIPTION:Hogyan számoljam ki az optimális biztonsági készlet szintjét? Hogyan egyszerűsíthetem a készletek tervezését? Ön is szeretne ezekre a kérdésekre magabiztosabban válaszolni?\n\nHa igen\, akkor iratkozzon be háromnapos tréningünkre\, amellyel hiánypótló képzést kínálunk Önnek.\n\nEgyik legnépszerűbb tréningünkön számos készletezési feladattal találkoznak a résztvevők\, amely segíti a tanultak gyakorlati alkalmazását.\nAhol a mérnöki precizitás párosul a logisztikai szemlélettel!\nJelentkezési határidő: 2022. december 01.\n\nKépzési napok: 2022. december 14.\, 15.\, 16.\n\nMin-Max. csoportlétszám: 6-12 fő\n\nÓraszám: 24 óra (3×8 óra)\n\nHelyszín: Budapest\n\n \n\nA képzést nyílt képzésként és vállalati formában is megszervezzük. \n\nKépzéseinket a mindenkori aktuális szabályozásnak és a résztvevők igényeinek megfelelően valósítjuk meg. A változtatás jogát fenntartjuk! \n\n \n\nJELENTKEZÉS CÉGKÉNT\n\nJELENTKEZÉS MAGÁNSZEMÉLYKÉNT\nRÉSZVÉTELI DÍJAK\nListaár: 356.000 Ft + áfa\n\nEgyéni MLBKT tagoknak: 336.000 Ft + áfa\n\nIntézményi MLBKT tagoknak: 298.000 Ft + áfa\n\nCsoportos kedvezmény 2 főtől: 336.000 Ft + áfa/fő\n\nCsoportos kedvezmény 3 főtől: 298.000 Ft + áfa /fő\n\n \n\nA részvételi díj tartalmazza az előadások szakmai anyagait\, étkezéseket.\n\nA kedvezmények nem összevonhatók\, de minden esetben a jelentkező számára legkedvezőbb opciót vesszük figyelembe.\n\nA kedvezményt költségviselő után tudjuk megadni!\n\n(Amennyiben az egyéni tagdíjat a résztvevő munkáltatója fizeti\, az egyéni tagi kedvezményt a vállalat részére is biztosítjuk.)\nKIKNEK AJÁNLJUK A TRÉNINGET?\nAzoknak a szakembereknek\, akik a beszerzés\, termelés\, vagy értékesítés területén a készletgazdálkodással\, rendelésütemezéssel foglalkoznak. Ezen kívül közvetett célcsoport azon szakemberek köre\, akik a termelési logisztika\, a logisztikai tervezés\, vagy kereskedelem igénytervezéssel kapcsolatos területén\, illetve a logisztikai kontrolling területen dolgoznak. A munkaköri leírásuk alapján a következő szakembereknek lehet szüksége készlettervezés képzésünkre:\n\n 	alapanyag készletgazdálkodási vezetők/szakértők\n 	készáru készletgazdálkodási vezetők/ szakértők\n 	logisztikai tervezők\n 	logisztikai/ellátási lánc szakértők\n 	előrejelzők\n 	termeléstervezők\n 	kapacitástervezők\n 	logisztikai kontrollerek\n\nA KÉPZÉS CÉLJA\nKépzésünk célja\, hogy annak sikeres elvégzése után a résztvevő képes legyen megérteni és megtervezni a vállalatok anyagi folyamatait kiszolgáló készletezési folyamatokat.\nEREDMÉNYEK A RÉSZTVEVŐK SZÁMÁRA\n\n 	Adat összegyűjtési és elemzési képességek fejlesztése\,\n 	Egyszerűsítési\, lényeglátási és modellezési képesség fejlesztése\,\n 	A készletezési rendszerek működését meghatározó összefüggések megértésének és feltárási képességének fejlesztése\,\n 	Az összköltség szemléletmód szerinti optimalizáló gondolkodásmód fejlesztése\,\n 	Készletmodellezésben alkalmazható módszertani képességek fejlesztése\,\n 	Készletezési modellekben rejlő gyakorlati lehetőségek felfedezése\,\n 	Készletezési modellek gyakorlati alkalmazásának fejlesztése\,\n 	Naprakész rálátás a szakterület jelenleg alkalmazható kelléktárára.\n\nELŐNYÖK A VÁLLALAT SZÁMÁRA\nA képzés során alkalmazott módszerek segítségével a munkatársak megértik a készletezési költségek és a készletezési rendszer megbízhatóságának egyensúlyával kapcsolatos problémákat\, felismerik a készletelemzési és modellezési eljárásokban rejlő lehetőségeket\, illetve elsajátítják az azok alkalmazásával kapcsolatos ismereteket és képességeket\, ezáltal egyaránt fejlődnek az összetett készletezési folyamatok gyakorlati kezelése során szükséges egyszerűsítési\, lényeglátási és készletmodellezési ismereteik és képességeik.\nMIÉRT DOLGOZUNK SZÁMÍTÓGÉPES KÉSZLETSZIMULÁCIÓVAL?\nTipikus kiváltó egyéni és vállalati igények egy ilyen gyakorlati feladat megvalósítására:\n\n 	magas készletek\n 	nem átlátható folyamatok a rendelésben\, készletezésben\, gyártásban\n 	információs asszimetria a munkatársak között\, nincs meg a közös hang\n 	nem akarnak belevágni egy nagy fejlesztésbe a készletezés területén\, míg nem látják pontosan a problémákat\n 	saját maguk akarnak rájönni a problémákra kis segítséggel\n 	nem szeretik az unalmas\, frontális előadást\, valami izgalmasra vágynak\n\nKínált megoldásunk:\n\n 	a résztvevők egy specialitásokkal kellően megtűzdelt példavállalat késztermék és alapanyag készletezését\, illetve ezáltal a termelés anyagellátási folyamatait játsszák el\n 	döntéseket hoznak a készletezési folyamat különböző szereplőiként\n 	egy kipróbált\, jól definiált szabályokkal rendelkező\, segédeszközökkel\, illetve informatikai támogatással is ellátott játékot vezetünk le\n 	a játék utáni értékelés során közösen levonjuk a következtetéseket\, összegezzük a tanulságokat\n\nTEMATIKA\nA készlettervezéshez szükséges bemeneti adatok köre\n\n 	Honnan származnak a bemeneti adatok?\n 	A készlettervezést megelőző adatelőkészítési folyamat\n 	A bemeneti adatok előállításának statisztikai módszerei-adatgyűjtési\, elemzési\, előkészítési feladatok\n\nAz árucikkek készletezési szempontú osztályozásának logikái\n\n 	Az osztályozási dimenziók értelmezése\, az osztályozási módszertanok (ABC\, XYZ\, LTACC\, SFACC) bemutatása\n 	Az osztályozás időbelisége és dinamikai sajátosságai\n 	Többdimenziós elemzések vizualizációja és eredményei\, a javasolt kategóriák felosztása és értelmezése\, a termékkategorizálási rendszerek bevezetése- gyakorlati példa bemutatása az összetett termékkategorizálásra\, termékkategorizálási módszerek gyakorlása\n\nA készletezési stratégiák\n\n 	A készletezés értelmezése\, mint szabályozó rendszer\n 	Az alkalmazható szabályozó paraméterek köre\n 	Többparaméteres készletezési stratégiák bemutatása\, értelmezése\, termékkategóriákhoz rendelése\n 	A szabályozó paraméterek optimalizálási lehetőségei\n\nKészletezési költségek\n\n 	Készletezési költségek szerepe a készletezésben\n 	Az alkalmazható költségtényezők\n 	Az állandó és változó költségek felosztása\n 	A költségmodell szerepe és felépítése\n 	Fajlagos költségek\, kiszámíthatóság és bizonytalanság hatása a költségekre\n 	Költségoptimalizáló készletezési modellek- gyakorlati példa a készletezési költségek meghatározására és a költségoptimalizáló modellek alkalmazására\, költség alapú készletezési modellek alkalmazásának gyakorlása\n\nMegbízhatóság\n\n 	A megbízhatóság szerepe a készletezésben\n 	A megbízhatóság és a rendelkezésre állás értelmezése\, a mérhető készletezési folyamatok szerepe\n 	A statisztikailag jellemezhető bizonytalanság értelmezése\n 	A „normálisnak” mondható ingadozások értelmezése\n 	A biztonsági tényező alkalmazásával kapcsolatos valószínűségelméleti kérdések a készletezésben\n 	A biztonsági tényező számítása\n 	A megbízhatóság ára\, mibe kerül a megbízhatóság\, a készletezéssel kapcsolatos költségek és a megbízhatóság viszonya\n 	Megbízhatósági típusú készletezési modellek- gyakorlati példa a megbízhatósági modellek alkalmazására\, modellek alkalmazásának gyakorlása\n\nAz MRP rendszerek és a készletezés\n\n 	A függő keresletben rejlő készletoptimalizálási potenciálok értelmezése\n 	 A költség alapú és a megbízhatósági készletezési modellek szerepe az MRP rekordok feltöltésében\n\nKészletezés és informatika\n\n 	Bemeneti adatok\n 	Teljesítménymérés\n 	Riportok\n 	Statisztikák\n 	Készletoptimalizáló algoritmusok illeszkedése\, korszerű optimalizálási módszerek a készletezésben\n\nKészletszimulációs gyakorlat\n\n 	Játék\, paraméterezési feladat\, kiértékelés.\n\nELŐKÉPZETTSÉG ÉS TELJESÍTMÉNYMÉRÉS:\nFelsőfokú végzettség vagy érettségi bizonyítvány 3 éves igazolt szakmai tapasztalattal.\n\nElőzetesen elvárt ismeretek:\n\nMatematikai\, statisztikai\, valószínűség számítási ismeretek\, MS Excel táblázatkezelő program magabiztos felhasználói szintű ismerete!\n\n(Algebrai ismeretek\, függvények\, valószínűségszámítási alapfogalmak\, valószínűségi változó fogalma\, várható értéke\, szórása\, eloszlások alaptípusai\, leíró statisztikai alapfogalmak\, alapvető következtető statisztikai ismeretek. – Ezekre az alapismeretekre azért van szükség\, mert a tréning során ugyan igyekszünk minden segítséget megadni\, de három nap alatt nem tudjuk pótolni a hiányzó teljes tudást\, és ezek legalább alapfokú ismerete nélkül a tréning valódi célja nem tud megvalósulni\, vagyis a készletezési ismeretek átadása nem tud megfelelően megtörténni.)\n\nKérjük\, hogy az oktatásra hozza el notebookját!\n\nA képzés folyamatába épített teljesítménymérést alkalmazunk\, nincs külön vizsga.\n\nA sikeresen teljesítő résztvevők igazolásként az MLBKT Tréning Központ “Készlettervezés” tanúsítványát kapják.\nA tréningről mondták hallgatóink:\nÁtgondolt képzés felkészült és szakértő oktatóval.\n\nA képzéssel nagyon elégedett vagyok\, hasznos volt\, és hosszú távon is használható tudásanyagot kaptam. A végén a szimulációs gyakorlat szuper\, összefoglalja a szükséges tudást.\n\nNagyon szimpatikus volt\, hogy ténylegesen gyakorlatban alkalmazható szemléletet és módszereket láttunk és tanultunk.
URL:https://logisztika.hu/rendezveny/keszlettervezes-6-2/
CATEGORIES:Tréning
ATTACH;FMTTYPE=image/jpeg:https://logisztika.hu/wp-content/uploads/2022/11/keszlet.jpg
END:VEVENT
END:VCALENDAR