BEGIN:VCALENDAR
VERSION:2.0
PRODID:-//Magyar Logisztikai, Beszerzési és Készletezési Társaság - ECPv6.15.16//NONSGML v1.0//EN
CALSCALE:GREGORIAN
METHOD:PUBLISH
X-WR-CALNAME:Magyar Logisztikai, Beszerzési és Készletezési Társaság
X-ORIGINAL-URL:https://logisztika.hu
X-WR-CALDESC:Események Magyar Logisztikai, Beszerzési és Készletezési Társaság
REFRESH-INTERVAL;VALUE=DURATION:PT1H
X-Robots-Tag:noindex
X-PUBLISHED-TTL:PT1H
BEGIN:VTIMEZONE
TZID:UTC
BEGIN:STANDARD
TZOFFSETFROM:+0000
TZOFFSETTO:+0000
TZNAME:UTC
DTSTART:20220101T000000
END:STANDARD
END:VTIMEZONE
BEGIN:VEVENT
DTSTART;TZID=UTC:20230412T160000
DTEND;TZID=UTC:20230412T180000
DTSTAMP:20260421T200501
CREATED:20230329T144915Z
LAST-MODIFIED:20230425T130905Z
UID:83158-1681315200-1681322400@logisztika.hu
SUMMARY:Fenntarthatósági célok módszerek\, elért eredmények az ellátási láncban a BOSCH csoportban
DESCRIPTION:Az MLBKT FENNTARTHATÓSÁG TAGOZATA szeretettel meghívja Önt a következő előadásra\n \n\nFenntarthatósági célok módszerek\, elért eredmények az ellátási láncban a BOSCH csoportban –\nA felelős fenntartható működést biztosító megoldások\, eredmények megigismerése vállalati példán keresztül \n  \nIdőpont: 2023. április 12.\, 16.00-18.00 \n\nElőadó: Móritz Péter\, beszerzési osztályvezető\, Robert Bosch Kft. \nHelyszín: IFUA Horváth & Partners Kft.\, 1117 Budapest\, Buda-Part tér 2. & Online MS Teams \nAz eseményt hibrid formában szervezzük. \nA helyszínre érkezők maximális létszáma: 12 fő / Online részvétel: korlátlan létszám \n\nMiért aktuális? \nA téma több éve nem veszít aktualitásából\, mivel az ENSZ Közgyűlése által 2015-ben elfogadott SDG 2030 (Sustainable Development Goals 2030) teljesítése cselekvésre ösztönzi az egyes országok vállalatait is. \n\nKiket várunk? \nCFO-k\, beszerzők\, logisztikusok\, ESG felelősök\, fenntarthatóságért felelős vállalati szakemberek \n\nMire számíthat? \nA résztvevők ízelítőt kapnak egy globális vállalat gyakorlatából\, megismerhetik a téma megközelítését\, milyen célok mentén\, milyen módszerekkel végzi a vállalat a fenntarthatósági célok eléréséhez a tevékenységét\, valamint milyen eredményeket értek el eddig. \n  \nTovábbi részletek és jelentkezés >>> \nhttps://logisztika.hu/2023/03/29/fenntarthatosagi-celok-modszerek-elert-eredmenyek-az-ellatasi-lancban-a-bosch-csoportban/
URL:https://logisztika.hu/rendezveny/fenntarthatosagi-celok-modszerek-elert-eredmenyek-az-ellatasi-lancban-a-bosch-csoportban/
CATEGORIES:Fenntarthatósági Tagozat,Tagozati program
END:VEVENT
BEGIN:VEVENT
DTSTART;TZID=UTC:20230419T173000
DTEND;TZID=UTC:20230419T220000
DTSTAMP:20260421T200501
CREATED:20230321T061142Z
LAST-MODIFIED:20230425T104453Z
UID:83156-1681925400-1681941600@logisztika.hu
SUMMARY:Logisztikai Lendület szakmai est és díjátadó gála
DESCRIPTION:Izgatottan készülünk az MLBKT Logisztikai Lendület rendezvényére\, amely a kiválóság díjak hivatalos átadója és egyben egy tartalmas szakmai program is lesz az idén. \nElőadónk lesz Németh Dávid\, a K&H bank vezető elemzője \nA díjátadó és izgalmas társasági programok mellett a résztvevők megismerhetik a díjazott projekteket\, menedzsereket és csapatokat\, valamint hozunk előadást makrogazdasági témakörből is. \nTartson velünk Ön is április 19-én és hangolódjunk rá együtt a Logisztika Napjára és ünnepeljük méltó módon a beszerzési és logisztikai szakma kiválóságait! \n  \nLOGISZTIKAI LENDÜLET SZAKMAI EST ÉS DÍJÁTADÓ GÁLA:  \n2023. április 19. 17:30-22.00 \nHelyszín: Öbölház Rendezvényközpont (1117 Budapest Kopaszi-gát 1.) \n  \nTovábbi részletek és jelentkezés >>> \nhttps://logisztika.hu/2023/03/01/logisztikai-lendulet-szakmai-est-es-dijatado-gala/
URL:https://logisztika.hu/rendezveny/logisztikai-lendulet-szakmai-est-es-dijatado-gala/
END:VEVENT
BEGIN:VEVENT
DTSTART;TZID=UTC:20230420T000000
DTEND;TZID=UTC:20230420T235959
DTSTAMP:20260421T200501
CREATED:20230203T105832Z
LAST-MODIFIED:20230427T055037Z
UID:79221-1681948800-1682035199@logisztika.hu
SUMMARY:A Logisztika Napja
DESCRIPTION:A Magyar Logisztikai\, Beszerzési és Készletezési Társaság koordinálásában 2023. április 20-án újra megrendezésre kerül a Logisztika Napja. Immár 11 éve segítjük\, hogy megnyíljanak a magyarországi logisztikával foglalkozó helyszínek kapui és az ingyenes programjaik híre eljusson a logisztika iránt érdeklődőkhöz. Idén reméljük ismét remek programokat vonultathatunk fel a 2023-as év Logisztika Napi események kínálatában. Nagy örömmel támogatjuk az események szervezését és természetesen hírt adunk róla minden csatornánkon. Biztatjuk eseményszervezőinket\, hogy szervezzenek fizikai\, esetleg online eseményeket\, gyárlátogatásokat\, workshopokat\, minikonferenciákat\, mutassák meg magukat az érdeklődő szakmai közönségnek. \n\n\n\nMilyen programokkal lehet jelentkezni? \n\n\n\nAz elmúlt időszak még inkább megmutatta\, hogy milyen hatalmas kihatással van a szektor működése az életünkre. Azt javasoljuk\, minél kreatívabb rendezvénnyel készüljenek\, hogy megmutathassuk\, mennyire sok mindent jelent az ellátási láncok hatékony és gördülékeny működésének biztosítása  – hiszen tágabb értelemben véve erről szól ennek a szektornak a tevékenysége. \n\n\n\nProgramjavaslatok: \n\n\n\n\nüzemlátogatás: ahol az érdeklődők beleshetnek egy gyártó- vagy termelő cég mindennapjaiba\nnyílt nap: logisztikai szolgáltatók mutathatják be innovatív\, a nagyközönség számára is érdekes megoldásaikat\nminikonferencia\, találkozó: szakmai szervezetek vagy oktatási intézmények adhatnak fórumot különféle szakmai eszmecserének\nbármilyen nem hagyományos rendezvény\, amely felkeltheti az érdeklődést a szakma iránt\, keressen meg minket\, szívesen segítünk az ötletelésben (például: kocsmakvíz\, raklapfestőverseny)\n\n\n\n\nKik szervezhetnek programot? \n\n\n\nBárki\, akinek van mondanivalója a logisztikával kapcsolatban\, és szívesen szervez egy ingyenes programot laikusoknak vagy a szakmai közönségnek. Lehet oktatási intézmény\, szakmai szervezet\, vállalat\, de akár magánszemély is. Az események szervezése és hirdetése 2023-tól csak az MLBKT tagok\, illetve közhasznú és oktatási intézmények számára ingyenes\, nem MLBKT tagok számára térítésköteles. \n\n\n\nHogyan lehet jelentkezni programmal? \n\n\n\n\n\n\n\nAz MLBKT végzi a programkínálat koordinálását és promócióját\, de az események megszervezésében nem vesz részt. A meghirdetett programok csak ingyenesek lehetnek! \n\n\n\nEsemény bejelentési határidő*: 2023. március 31. \n\n\n\nTovábbi információk:  https://logisztikanapja.hu/
URL:https://logisztika.hu/rendezveny/a-logisztika-napja-3-2/
CATEGORIES:Vállalatlátogatás,Webinar,Worskhop
END:VEVENT
BEGIN:VEVENT
DTSTART;TZID=UTC:20230425T170000
DTEND;TZID=UTC:20230425T183000
DTSTAMP:20260421T200501
CREATED:20230329T134757Z
LAST-MODIFIED:20230427T055020Z
UID:83157-1682442000-1682447400@logisztika.hu
SUMMARY:LEAN SZAKMAI FÓRUM
DESCRIPTION:LEAN SZAKMAI FÓRUM \nSzakmai feltöltődés\, tapasztalatcsere\, kapcsolatépítési lehetőség \n \n2023. április 25.\, 17.00-18.30 \n \nModerátorok:  \nGedei Erika\, az MLBKT Lean Tagozatának vezetője \nMüller Péter\, az MLBKT Lean Tagozatának projektvezetője \n \nHelyszín: 1061 Budapest\, Király utca 12.\, MLBKT tiktárság\, 252-es tárgyaló (Hungaropharma Székház) \n \nMiért aktuális a téma? \nNapjainkban\, a lean szemlélet\, a lean eszközök és módszerek alkalmazhatóságának igénye és lehetősége az életünk minden területén megjelenik. A lean\, mint professzionális gondolkodásmód alkalmazásának létjogosultsága\, a veszteségmentes működés és folyamataink folyamatos fejlesztése nem csupán a gyártás és a termelés területén\, hanem a szolgáltató szektorban\, irodai környezetben\, sőt\, a hétköznapi tevékenységeinkben is egyaránt fellelhető. \n \nA Lean szakmai fórum nagyszerű alkalom arra\, hogy a lean szemlélet vagy az eszközök alkalmazásában szerepet vállaló szakemberek és a lean iránt érdeklődő kezdő résztvevők\, meg tudják osztani egymással tapasztalataikat\, sikereiket\, kihívásaikat\, akár a gyártás\, szolgáltatás területéről vagy a hétköznapi életből hozott saját példán keresztül\, amelyből a programon jelenlévők megismerhetik a legjobb gyakorlatokat\, valamint inspirálódhatnak. \n \nKiket várunk? \nA programra minden Lean Tagozati tagot szeretettel várunk! \nA program fő célja az\, hogy a januári ügyféligényfelmérés során felmerült igénynek eleget téve\, a Lean Tagozat olyan lehetőséget biztosítson\, ahol a tagok személyesen találkozhatnak\, megismerhetik egymást\, valamint megoszthatják egymással lean tevékenységgel\, projekttel kapcsolatos tapasztalataikat kötetlen szakmai beszélgetés formájában. \nA közös értékteremtés és tudásmegosztás megvalósítása érdekében arra bíztatjuk a lean tapasztalatot szívesen megosztó résztvevőket\, hogy hozzanak magukkal lean szemlélet vagy eszközök alkalmazásában szerzett gyakorlati tapasztalatot – projektet\, folyamatot\, tevékenységet\, sikerélményt\, kihívást – a programon való bemutatáshoz. \n  \nMire számíthat? \nA program során saját tapasztalatokon keresztül mutatjuk be a lean gyakorlati megvalósítását\, kérdéseit\, valamint lehetőség nyílik lean bevezetéssel\, eszközök alkalmazásával\, folyamatok fejlesztésével vagy veszteségcsökkentéssel kapcsolatos konstruktív szakmai párbeszédre. \nA Lean szakmai fórum nem más\, mint egy óra szakmai feltöltődés\, jó lean gyakorlatok és tapasztalatok megosztása egymással és remek lehetőség a kapcsolati háló szélesítésére\, valamint inspirálódásra. \n \nTovábbi részletek és jelentkezés >>>\n\nhttps://logisztika.hu/2023/03/29/meghivo-lean-szakmai-forumra/
URL:https://logisztika.hu/rendezveny/lean-szakmai-forum/
CATEGORIES:Lean tagozat,Tagozati program
END:VEVENT
END:VCALENDAR