BEGIN:VCALENDAR
VERSION:2.0
PRODID:-//Magyar Logisztikai, Beszerzési és Készletezési Társaság - ECPv6.15.16//NONSGML v1.0//EN
CALSCALE:GREGORIAN
METHOD:PUBLISH
X-ORIGINAL-URL:https://logisztika.hu
X-WR-CALDESC:Események Magyar Logisztikai, Beszerzési és Készletezési Társaság
REFRESH-INTERVAL;VALUE=DURATION:PT1H
X-Robots-Tag:noindex
X-PUBLISHED-TTL:PT1H
BEGIN:VTIMEZONE
TZID:Europe/Helsinki
BEGIN:DAYLIGHT
TZOFFSETFROM:+0200
TZOFFSETTO:+0300
TZNAME:EEST
DTSTART:20220327T010000
END:DAYLIGHT
BEGIN:STANDARD
TZOFFSETFROM:+0300
TZOFFSETTO:+0200
TZNAME:EET
DTSTART:20221030T010000
END:STANDARD
BEGIN:DAYLIGHT
TZOFFSETFROM:+0200
TZOFFSETTO:+0300
TZNAME:EEST
DTSTART:20230326T010000
END:DAYLIGHT
BEGIN:STANDARD
TZOFFSETFROM:+0300
TZOFFSETTO:+0200
TZNAME:EET
DTSTART:20231029T010000
END:STANDARD
BEGIN:DAYLIGHT
TZOFFSETFROM:+0200
TZOFFSETTO:+0300
TZNAME:EEST
DTSTART:20240331T010000
END:DAYLIGHT
BEGIN:STANDARD
TZOFFSETFROM:+0300
TZOFFSETTO:+0200
TZNAME:EET
DTSTART:20241027T010000
END:STANDARD
END:VTIMEZONE
BEGIN:VEVENT
DTSTART;TZID=Europe/Helsinki:20230906T100000
DTEND;TZID=Europe/Helsinki:20230906T113000
DTSTAMP:20260421T124929
CREATED:20230822T141347Z
LAST-MODIFIED:20230822T141349Z
UID:86846-1693994400-1693999800@logisztika.hu
SUMMARY:Körforgásos gazdaság az EPR szabályozás tükrében
DESCRIPTION:A MOHU július 1-jén kezdte meg a koncesszori rendszer működtetését az induláskor is képlékeny jogszabályi környezetben és alakulóban levő alvállalkozói rendszerrel. A rendezvény a jogértelmezésben kíván segíteni\, emellett kitér az eredeti jogalkotói szándékra\, a körforgásos gazdaságra történő átállás kérdéskörére\, és szó esik majd a közelgő betétdíjas rendszer bevezetéséről is.
URL:https://logisztika.hu/rendezveny/korforgasos-gazdasag-az-epr-szabalyozas-tukreben/
LOCATION:Részletek és jelentkezés\, MS Teams
CATEGORIES:Webinar
ATTACH;FMTTYPE=image/png:https://logisztika.hu/wp-content/uploads/2023/08/EPR_2023.09.06.-honlap-297-×-210-mm.png
ORGANIZER;CN="MLBKT":MAILTO:logisztika@logisztika.hu
END:VEVENT
BEGIN:VEVENT
DTSTART;TZID=Europe/Helsinki:20230914T160000
DTEND;TZID=Europe/Helsinki:20230914T173000
DTSTAMP:20260421T124929
CREATED:20230822T140829Z
LAST-MODIFIED:20230822T140830Z
UID:84823-1694707200-1694712600@logisztika.hu
SUMMARY:A Diageo SOCIETY 2030: SPIRIT OF PROGRESS programjának bemutatása
DESCRIPTION:A fenntarthatóság\, az ESG jelentések\, az SDG célkiztűzések megvalósítása aktuálisabb mint valaha\, ezért a fenntarthatósági tagozat eseményén a Diageo – a globális prémium italnagykereskedő\, több mint 200 márkát képvisel 180 országban  –  „SOCIETY 2030: SPIRIT OF PROGRESS” programja kerül  bemutatásra a program globális vezetője által.
URL:https://logisztika.hu/rendezveny/a-diageo-society-2030-spirit-of-progress-programjanak-bemutatasa/
LOCATION:MS TEAMS
CATEGORIES:Fenntarthatósági Tagozat,Tagozati program,Webinar
ATTACH;FMTTYPE=image/png:https://logisztika.hu/wp-content/uploads/2023/05/FT-poszt-_-09.14.png
ORGANIZER;CN="MLBKT":MAILTO:logisztika@logisztika.hu
END:VEVENT
BEGIN:VEVENT
DTSTART;TZID=Europe/Helsinki:20230927T000000
DTEND;TZID=Europe/Helsinki:20230928T235959
DTSTAMP:20260421T124929
CREATED:20230815T121408Z
LAST-MODIFIED:20230817T085911Z
UID:86743-1695772800-1695945599@logisztika.hu
SUMMARY:Meghívó a WOF & BUD Cargo Forumra
DESCRIPTION:Az idei WOF & BUD Cargo Forumon páratlan élményt szerezhet a logisztikai és ellátási lánc területeiről.\n   \n\n\n\nA Budapest Airport ikonikus 1. Terminálján 2023. szeptember 27-28. között megrendezésre kerülő esemény az inspirációt\, tudást és növekedést kereső logisztikai és ellátási lánc szakemberek számára nyújt tökéletes platformot\, tapasztalati szinttől függetlenül. \n   \n\n\n\nAz egyik fő fókuszpont a KIÁLLÍTÁSI TERÜLET\, ahol a piacvezetők legújabb megoldásait\, technológiáit és szolgáltatásait mutatja be. \n   \n\n\n\nA KONFERENCIA napirendje nyolc érdekfeszítő\, a digitalizációval\, a fenntarthatósággal\, az intermodalitással\, az e-kereskedelemmel és más témákkal foglalkozó panelt tartalmaz\, amelyeken iparági szakértők osztják meg értékes meglátásaikat. \n   \n\n\n\nAz Európa Hajó fedélzetén megrendezett DÍJÁTADÓ & JÓTÉKONYSÁGI gálaest pedig a fenntarthatóság és a társadalmi felelősségvállalás iránti elkötelezett közösséget erősíti. Az eseményen nagy hangsúlyt kap a kapcsolatépítés\, és páratlan lehetőséget biztosít az iparági szakemberek számára\, hogy találkozzanak és bővítsék kapcsolatrendszerüket. \n   \n\n\n\nCsatlakozzon hozzánk ezen a kétnapos rendezvényen\, amelyen a Cainaio\, a DHL\, az IKEA\, a Qatar Airways\, a Maersk\, a Bosch\, a Huawei\, a DSV\, stb. képviselői is részt vesznek. \n   \n\n\n\nFuvarozók számára a belépés INGYENES! \n  \nSzervezők: Budapest Airport és WOF Group  \n\n\n\nTovábbi információ:  https://wofexpo.com/
URL:https://logisztika.hu/rendezveny/meghivo-a-wof-bud-cargo-forumra/
ATTACH;FMTTYPE=image/png:https://logisztika.hu/wp-content/uploads/2023/08/WOF-BUD-banner-660-×-330-px.png
END:VEVENT
BEGIN:VEVENT
DTSTART;TZID=Europe/Helsinki:20230927T091500
DTEND;TZID=Europe/Helsinki:20230927T120000
DTSTAMP:20260421T124929
CREATED:20230809T091424Z
LAST-MODIFIED:20230815T120835Z
UID:86577-1695806100-1695816000@logisztika.hu
SUMMARY:Vállalatlátogatás az Oriflame üllői regionális disztribúciós központjába\, korszerű beruházások a fenntarthatóság megvalósítására
DESCRIPTION:Az Oriflame 30 éve van jelen Magyarországon és 2011 óta működik Üllőn az Oriflame GDC (Global Distribution Center)\, azaz globális disztribúciós központja. A magyar piac mellett 12 Közép-Európai és balkán térségi ország\, valamint Görögország és Bulgária piacait is innen szolgálják ki. \n\n\n\nImpozáns méretben 16 000 m2 területen működik a logisztikai operáció. 14 000 EUR raklap kapacitású hagyományos magasraktár\, mellett a kiszedőterületen félautomata szállítópályán végzik a rendelések összekészítését. A magasraktár működtetését kiszervezett formában a Seacontinental Kft. végzi. A kiszállítások maximum 24 órán belül történnek meg az adott napi rendelésekből\, de jelentős a volatilitás\, 13 ország eltérő igényeit szolgálják ki\, napi átlagos 10- 11 ezer rendelés teljesítésével. \n\n\n\n \n\n\n\nA bejárás alkalmával az Oriflame által működtetett operáció lesz a fókuszban\, amely a pick and pack\, tehát a félautomata kiszedő sorral működő csomagolási terület. A magasraktár\, ahol hagyományos munka zajlik\, szintén része lesz a bejárásnak\, de kisebb fókusszal. \n\n\n\nA látogatás során betekintést kapunk a korszerűsítések megvalósításáról\, kiemelt figyelemmel a világítástechnikai fejlesztésre\, melyet az MB-Light Kft. Veko LED sínes vonalvilágítási rendszerének bevezetésével oldottak meg. Az EcoVadis\, egy külső fél\, amely a gyártási folyamatok és a termékek fenntarthatóságának minden részletére kiterjedő felméréssel szolgál. A VEKO az EcoVadis által ezüstéremmel díjazott 2021\, 2022 és 2023-ban is. \n\n\n\nBővebben az MB-Light Kft.-ről>>>
URL:https://logisztika.hu/rendezveny/vallalatlatogatas-az-oriflame-ulloi-regionalis-disztribucios-kozpontjaba-korszeru-beruhazasok-a-fenntarthatosag-megvalositasara/
LOCATION:Logisztikai Központ Üllő\, Oriflame GLP  Üllő Airport Logistic Park – Oriflame building\, Zsaróka út 8.\, Üllő\, 2225\, Magyarország
CATEGORIES:Vállalatlátogatás
ATTACH;FMTTYPE=image/png:https://logisztika.hu/wp-content/uploads/2023/08/Oriflame-latogatas.png
ORGANIZER;CN="MLBKT":MAILTO:anita.benesch@logisztika.hu
END:VEVENT
END:VCALENDAR