BEGIN:VCALENDAR
VERSION:2.0
PRODID:-//Magyar Logisztikai, Beszerzési és Készletezési Társaság - ECPv6.15.16//NONSGML v1.0//EN
CALSCALE:GREGORIAN
METHOD:PUBLISH
X-WR-CALNAME:Magyar Logisztikai, Beszerzési és Készletezési Társaság
X-ORIGINAL-URL:https://logisztika.hu
X-WR-CALDESC:Események Magyar Logisztikai, Beszerzési és Készletezési Társaság
REFRESH-INTERVAL;VALUE=DURATION:PT1H
X-Robots-Tag:noindex
X-PUBLISHED-TTL:PT1H
BEGIN:VTIMEZONE
TZID:Europe/Helsinki
BEGIN:DAYLIGHT
TZOFFSETFROM:+0200
TZOFFSETTO:+0300
TZNAME:EEST
DTSTART:20220327T010000
END:DAYLIGHT
BEGIN:STANDARD
TZOFFSETFROM:+0300
TZOFFSETTO:+0200
TZNAME:EET
DTSTART:20221030T010000
END:STANDARD
BEGIN:DAYLIGHT
TZOFFSETFROM:+0200
TZOFFSETTO:+0300
TZNAME:EEST
DTSTART:20230326T010000
END:DAYLIGHT
BEGIN:STANDARD
TZOFFSETFROM:+0300
TZOFFSETTO:+0200
TZNAME:EET
DTSTART:20231029T010000
END:STANDARD
BEGIN:DAYLIGHT
TZOFFSETFROM:+0200
TZOFFSETTO:+0300
TZNAME:EEST
DTSTART:20240331T010000
END:DAYLIGHT
BEGIN:STANDARD
TZOFFSETFROM:+0300
TZOFFSETTO:+0200
TZNAME:EET
DTSTART:20241027T010000
END:STANDARD
END:VTIMEZONE
BEGIN:VEVENT
DTSTART;TZID=Europe/Helsinki:20231102T090000
DTEND;TZID=Europe/Helsinki:20231117T120000
DTSTAMP:20260421T111144
CREATED:20231019T075933Z
LAST-MODIFIED:20231107T125325Z
UID:87879-1698915600-1700222400@logisztika.hu
SUMMARY:EPR tapasztalatok – online tréning 
DESCRIPTION:A nagy érdeklődésre való tekintettel az MLBKT Tréning Központ új négy részes online EPR képzést indít. Az első bevallások 2023 októberében megtörténtek\, de még mindig nagy a bizonytalanság az érintettek részéről. A képzésen átfogó rálátást biztosítunk a témára\, emellett a gyakorlatiasságra  helyezzük a hangsúlyt a bevallások tapasztalatainak tükrében. Oktatóink\, Gombás Otília és Malomsoki Tibor kiváló szakemberek\, akiktől kérdezni is lehet a képzési napok végén\, így biztosítjuk\, hogy interaktív legyen a tréning. Az egyes képzési napok 90 percnyi időtartamot ölelnek fel\, így könnyedén beilleszthetőek a napi rutinba.  \n  \nTematika:    \n  \n \n1. nap – 2023. november 2. – Alapok: Az EPR kötelezettség legfőbb szabályai  \n \n\n\n\n\n\n\n\n\nKörforgásos termékek általánosságban \n\n\n\n \n \n\n\n\n\n\n\n\n\nÉrintett gazdálkodói kör – szinte mindenkit érint\, a körforgásos termékek gyártóit\, forgalomba hozóit\, felhasználóit\, illetve a külföldről behozott termék csomagolásának lebontóit\, illetve bizonyos eseteken a csomagolószergyártókat \n\n\n\n \n \n\n\n\n\n\n\n\n\nLogisztika és az EPR \n\n\n\n \n \n\n\n\n\n\n\n\n\nKötelezettségek (Nyilvántartás\, bevallás\, számlazáradék…)\n\n\n\n \n \n\n\n\n\n\n\n\n\nKészletre vétel\, átvállalások\, nyilatkozatok\n\n\n\n \n \n\n\n\n\n\n\n\n\nKérdések-válaszok\n\n\n\n \n \n  \n \n2. nap – 2023. november 3. – Csomagolás termékáram  \n \n\n\n\n\n\n\n\n\nMi minősül csomagolásnak? \n\n\n\n \n \n\n\n\n\n\n\n\n\nCsomagolószer/csomagolás közötti különbség \n\n\n\n \n \n\n\n\n\n\n\n\n\nCsomagolások a különböző forgalmi irányok tükrében \n\n\n\n \n \n\n\n\n\n\n\n\n\nÉrtékesítés helyén megtöltésre tervezett és szánt csomagolószerek\n\n\n\n \n \n\n\n\n\n\n\n\n\nGyakorlati esetpéldák  \n\n\n\n \n \n\n\n\n\n\n\n\n\nKérdések-válaszok \n\n\n\n \n \n  \n \n3. Nap – 2023. november 16. – Újrahasználható csomagolások  \n \n\n\n\n\n\n\n\n\nDefiníció \n\n\n\n \n \n\n\n\n\n\n\n\n\nEPR-ben alkalmazható kivételek \n\n\n\n \n \n\n\n\n\n\n\n\n\nNyilvántartási kötelezettség \n\n\n\n \n \n\n\n\n\n\n\n\n\nFelvétel az UHCS nyilvántartásba \n\n\n\n \n \n\n\n\n\n\n\n\n\nGyakorlati esetpéldák  \n\n\n\n \n \n\n\n\n\n\n\n\n\nKérdések-válaszok \n\n\n\n \n \n  \n \n4. Nap – 2023. november 17. – Bércsomagolás – bérgyártás – bérmunka az EPR-ben  \n \n\n\n\n\n\n\n\n\nLogisztikai szolgáltatók kötelezettségei \n\n\n\n \n \n\n\n\n\n\n\n\n\nLebontott csomagolás \n\n\n\n \n \n\n\n\n\n\n\n\n\nLogisztikai szolgáltató csomagol webshopnak \nEgyéb EPR köteles termékek bérgyárása\, bérmunkája során felmerülő kötelezettségek\n\n\n\n \n \n\n\n\n\n\n\n\n\nGyakorlati esetpéldák  \n\n\n\n \n \n\n\n\n\n\n\n\n\nKérdések-válaszok \n\n\n\n \n \n  \n \nIdőtartam: Alkalmanként 90 perc (45-60 perc elmélet\, 30-45 perc kérdések)  \nIdőpont: 9.00-10.30 \n \n \n  \n \nKépzés díja: \n \nMLBKT tagok részére: 22.000 Ft + áfa/alkalom \n \nNem MLBKT tagok részére: 28.000 Ft + áfa/alkalom \n  \nHa úgy érzed\, nem vagy még tisztában a részletekkel és szívesen beleásnád magad az EPR téma praktikus részeibe is\, vagy csak informálódni szeretnél a témában\, akkor várjuk jelentkezésed!  \n  \nEPR témában vállalati kihelyezett tréninget és tanácsadást is vállalunk Ügyfeleink részére. Bővebb információért kérjük\, keresd Csepely Krisztina tréning és projekt koordinátort a krisztina.csepely@logisztika.hu e-mail címen.  \n 
URL:https://logisztika.hu/rendezveny/epr-tapasztalatok-online-trening/
CATEGORIES:Tréning
ATTACH;FMTTYPE=image/png:https://logisztika.hu/wp-content/uploads/2023/11/EPR-4-resz-post-960-x-540-px.png
END:VEVENT
BEGIN:VEVENT
DTSTART;TZID=Europe/Helsinki:20231114T090000
DTEND;TZID=Europe/Helsinki:20231114T163000
DTSTAMP:20260421T111144
CREATED:20231004T153033Z
LAST-MODIFIED:20231026T192302Z
UID:87732-1699952400-1699979400@logisztika.hu
SUMMARY:ITBUSINESS INDUSTRY&TECHNOLOGY 2023
DESCRIPTION:A robotok műszakja a negyedik. Közös térben\, közös feladatokon dolgoznak együtt ma már a robotok és a három műszakra elosztott emberek azokban az üzemekben\, logisztikai központokban\, amelyek a jövőt vetítik a jelenbe.  \n \n \n     \n \nA különös jövő előképe azonban kérdések sorát veti fel. Milyen szoftveres és hardveres háttér kell ahhoz\, hogy a robotizálás\, az automatizálás sikeres lehessen? Milyen kihívásokat támaszt a szükséges adatok gyűjtése és feldolgozása? Miként lehet gondoskodni az IT- és az OT-rendszerek kiberbiztonságáról? Milyen hatással van az automatizálás a dolgozókra\, hogyan készüljön a vezetés az új korszak új kihívásaira?  \n \n \n  \n \nAz ITBUSINESS INDUSTRY & TECHNOLOGY 2023 konferencia négy szekciójában egyebek között e kérdésekre keresik a válaszokat szakértő előadókkal és a kerekasztal-beszélgetések során.  \n \n \n  \n \n  \n \nBővülő program: ITBUSINESS Industry & Technology program \n\n  \n\nRegisztráció: ITBUSINESS INDUSTRY&Technology 2023 regisztráció  \n    \nIdőpont: 2023. november 14. \n\n \n     \n \n \nHelyszín: D50 Rendezvényközpont\, Budapest\, Damjanich u. 50\, 1071  Az eseményen való részvétel díjmentes\, de regisztrációhoz és a szerkesztőség jóváhagyásához kötött. 
URL:https://logisztika.hu/rendezveny/itbusiness-industrytechnology-2023/
CATEGORIES:Rendezvény
ATTACH;FMTTYPE=image/jpeg:https://logisztika.hu/wp-content/uploads/2023/10/Regisztaltal-mar.jpg
END:VEVENT
BEGIN:VEVENT
DTSTART;TZID=Europe/Helsinki:20231115T100000
DTEND;TZID=Europe/Helsinki:20231115T100000
DTSTAMP:20260421T111144
CREATED:20230621T093110Z
LAST-MODIFIED:20230623T103627Z
UID:85388-1700042400-1700042400@logisztika.hu
SUMMARY:LogConnect for Startups 2023
DESCRIPTION:A Magyar Logisztikai\, Beszerzési és Készletezési Társaság (MLBKT)\, mint a logisztikai szakterület egyik meghatározó\, 1200 szakembert tömörítő szervezete LogConnect for Start-ups 2023 elnevezéssel pályázatot hirdet azon start-upok részére\, akik a logisztika valamely területén innovatív megoldással szolgálnak.
URL:https://logisztika.hu/rendezveny/logconnect-for-startups-2023/
LOCATION:Helyszín: Flex Zalaegerszeg Automotive 8900 Zalaegerszeg\, Zrínyi Miklós utca 38.​\, Zrínyi Miklós\, Zalaegerszeg\, 8900\, Magyarország
ATTACH;FMTTYPE=image/png:https://logisztika.hu/wp-content/uploads/2023/06/www.logisztika.hu-1920x1080-masolata-1.png
ORGANIZER;CN="MLBKT":MAILTO:logisztika@logisztika.hu
END:VEVENT
BEGIN:VEVENT
DTSTART;TZID=Europe/Helsinki:20231121T170000
DTEND;TZID=Europe/Helsinki:20231121T181000
DTSTAMP:20260421T111144
CREATED:20231108T124933Z
LAST-MODIFIED:20231109T083326Z
UID:88507-1700586000-1700590200@logisztika.hu
SUMMARY:Lőrincz Péter Diplomamunka pályázat helyezettjeinek előadása
DESCRIPTION:Az MLBKT Ifjúsági Tagozata az alábbi programra szeretettel vár minden érdeklődőt: \n\n\n\nLőrincz Péter Diplomamunka pályázat helyezettjeinek előadása \n\n\n\nSzeretettel várunk minden kedves érdeklődőt a Lőrincz Péter Diplomamunka pályázat helyezettjeinek előadására! A program online formában kerül megrendezésre\, amely során a helyezettek bemutatják a saját munkájukat. A szakdolgozat és diplomamunka győztes témák nagyon aktuálisak\, számos hasznos információval szolgálhatnak. Az előadásokban a dolgozatok bemutatásán túl szó lesz arról is\, hogy mi a titka egy sikeres szakdolgozatnak\, milyen nehézségek léptek fel a munkák írása közben. \n\n\n\n17:00-17:05 \n\n\n\nKöszöntő: Partali Dávid\, MLBKT Ifjúsági Tagozat \n\n\n\n17:05-17:35 \n\n\n\nVarga Kristóf\, Budapesti Műszaki és Gazdaságtudományi Egyetem\, Közlekedésmérnöki- és Járműmérnöki Kar\, Anyagmozgatási- és Logisztikai Rendszerek Tanszék \n\n\n\nEgy autóipari vállalat alapanyag kiszállítási folyamatainak vizsgálata és fejlesztése \n\n\n\n17:35-18:05 \n\n\n\nRudolfné Matiscsák Eszter\, Budapesti Műszaki és Gazdaságtudományi Egyetem\, \n\n\n\nKözlekedésmérnöki- és Járműmérnöki Kar\, Anyagmozgatási- és Logisztikai Rendszerek Tanszék \n\n\n\nNagybani Piacon létesítendő konszolidációs központ megvalósításának vizsgálata és kialakításának lehetőségei \n\n\n\n18:05-18:10 \n\n\n\nZárszó
URL:https://logisztika.hu/rendezveny/lorincz-peter-diplomamunka-palyazat-helyezettjeinek-eloadasa-2023/
LOCATION:https://www.google.com/maps/place/Eisberg+Hungary+Kft./@47.3698441\,19.1871802\,14z/data=!4m6!3m5!1s0x4741ea4e8de8861d:0x1908f3549ab0aaf1!8m2!3d47.3698717!4d19.2050735!16s%2Fg%2F1ttq0x06?entry=ttu
CATEGORIES:Ifjúsági tagozat,Tagozati program,Webinar
ATTACH;FMTTYPE=image/png:https://logisztika.hu/wp-content/uploads/2023/11/Diplomamunka-tagozati-esemeny_november-21.png
ORGANIZER;CN="MLBKT":MAILTO:logisztika@logisztika.hu
END:VEVENT
BEGIN:VEVENT
DTSTART;TZID=Europe/Helsinki:20231123T133000
DTEND;TZID=Europe/Helsinki:20231123T170000
DTSTAMP:20260421T111144
CREATED:20231025T082747Z
LAST-MODIFIED:20231101T090405Z
UID:87928-1700746200-1700758800@logisztika.hu
SUMMARY:Lean & Green Program Workshop
DESCRIPTION:A közlekedés és áruszállítás mint a szén-dioxid-kibocsátások közel egyharmadáért felelős emberi tevékenység\, egyre kiemeltebb fókuszpontja a klímaváltozás elleni küzdelemnek. Ennek megfelelően az Európai Unió egyik legfontosabb célja\, hogy 2050-re – 1990-hez képest – 60%-ra csökkentse a közlekedésből származó szén-dioxid-kibocsátás mértékét. Az eseményen ismertetjük a Lean&Green Programot\, és konkrét gyakorlati tippeket is adunk arra\, hogyan csökkenthető hatékonyan egy vállalkozás logisztikai folyamatainak CO2 kibocsátása úgy\, hogy mindez előnyökkel is járjon a cég számára. \n  \n \nA hazai Lean & Green program bevezetésén a GS1 Magyarország Nonprofit Zrt. a Holland Királyság Nagykövetségével és a Magyar Logisztikai Beszerzési és Készletezési Társasággal (MLBKT) együttműködésben tevékenykedik.  \n  \n  \n \nKövetkező nyílt workshopunk\, melyen személyesen vehet részt\, a Körforgásos Gazdaság Summit 2023 esemény délutánján kerül megrendezésre: \n  \n  \n \nIDŐPONT: 2023. november 23. 13:30 – 17:00 \n  \n \nHELYSZÍN: ÖbölHáz Rendezvényközpont (1117\, Budapest\, Kopaszi-gát 2.) \n  \n \n  \nVárjuk azokat a hazai és nemzetközi cégeket\, szakembereket\, befektetés iránt érdeklődő üzletembereket\, civil és nonprofit szervezeteket\, pályakezdőket és karrierváltókat\, akik a zöldiparban élik a jelenüket vagy itt tervezik a jövőjüket. Ne feledje\, a logisztikai területen a környezetvédelemért tett fejlesztések költségei a működési költségek csökkentésével megtérülnek és egyúttal jelentős marketing értékkel is bírnak! Használja ki a Lean&Green tagságban rejlő lehetőségeket\, legyen részese a Lean&Green zártkörű Platformnak\, hogy további ötletekhez juthasson vállalata fejlesztéséhez!  \n  \n \n \nA workshop tervezett tematikája:\n \n13:30 – 14:00   Érkezés\, regisztráció \n \n14:00 – 14:10   Megnyitó köszöntő: Désirée Bonis\, Nagykövet\, Holland Királyság Nagykövetsége és Bodor Tibor\, Vezérigazgató\, ING Bank N.V. Magyarországi fióktelepe \n \n14:10 – 14:25   Logisztikában realizálható CO2 kibocsátás csökkentés Programja – Krázli Zoltán\, Szektormenedzsment igazgató\, GS1 Magyarország Nonprofit Zrt. \n \n14:25 – 14:40   A minőségi fenntarthatósági jelentésből származó előnyök –Ifj. Dr. Gremsperger Gábor\, Climate Action Kft. \n \n14:40 – 14:55   Logisztikai projektek tervezése és kivitelezése – központban a fenntarthatóság – Varga Balázs\, LEAN manager\, GHIBLI Kft. \n \n14:55 – 15:10   Fenntarthatósági törekvések a raktármenedzsment folyamatokban – Dr. Gondi Ferenc\, Ügyvezető igazgató\, CTP Management Hungary Kft. \n \n15:10 – 15:25    A logisztika környezetre gyakorolt káros hatásai – Dr. Botos Barbara\, Magyarország Klímaügyi Nagykövete\, Energiaügyi Minisztérium \n \n15:25 – 15:40 KÁVÉSZÜNET \n \n15:40 – 16:55 Lean & Green a gyakorlatban – esetpéldák és gyakorlati tapasztalatok megosztása \n \n16:55 – 17:00 Az esemény zárása \n  \n \n  \n \nA rendezvény ingyenes\, csupán regisztrációhoz kötött. \n  \n  \n 
URL:https://logisztika.hu/rendezveny/lean-green-program-workshop/
CATEGORIES:Worskhop
ATTACH;FMTTYPE=image/png:https://logisztika.hu/wp-content/uploads/2023/10/LeanGreen_honlapra.png
END:VEVENT
BEGIN:VEVENT
DTSTART;TZID=Europe/Helsinki:20231123T170000
DTEND;TZID=Europe/Helsinki:20231123T190000
DTSTAMP:20260421T111144
CREATED:20231107T134202Z
LAST-MODIFIED:20231107T135129Z
UID:88380-1700758800-1700766000@logisztika.hu
SUMMARY:B2VK Klubdélután - Mesterséges intelligencia napi használata konkrét példákon keresztül
DESCRIPTION:Sok szeretettel meghívunk az őszi MLBKT Kongresszus sikeres beszerzési szekcióját immár hagyomány teremtően követő Beszerzők és Beszerzési Vezetők klubdélutánjára\, ahol tovább boncolgatjuk az izgalmas témát. A mesterséges intelligencia napi használatát ismerhetjük meg konkrént példán keresztül és segítséget kapsz\, hogyan tedd meg az első lépésed az AI alkalmazásásra a mindennapjaidban. \n\n\n\nElőadó: Szabó Kitti\, Modern Work Solution Specialist\, Microsoft \n\n\n\nModerátor: Szabó Ákos\, tulajdonos\, ügyvezető\, Fluenta Europe
URL:https://logisztika.hu/rendezveny/b2vk-klubdelutan-mesterseges-intelligencia-napi-hasznalata-konkret-peldakon-keresztul/
LOCATION:https://www.google.com/maps/place/Eisberg+Hungary+Kft./@47.3698441\,19.1871802\,14z/data=!4m6!3m5!1s0x4741ea4e8de8861d:0x1908f3549ab0aaf1!8m2!3d47.3698717!4d19.2050735!16s%2Fg%2F1ttq0x06?entry=ttu
CATEGORIES:Fenntarthatósági Tagozat,Tagozati program,Webinar
ATTACH;FMTTYPE=image/png:https://logisztika.hu/wp-content/uploads/2023/11/B2VK-MI.png
ORGANIZER;CN="MLBKT":MAILTO:logisztika@logisztika.hu
END:VEVENT
BEGIN:VEVENT
DTSTART;TZID=Europe/Helsinki:20231124T100000
DTEND;TZID=Europe/Helsinki:20231124T130000
DTSTAMP:20260421T111144
CREATED:20231106T151240Z
LAST-MODIFIED:20231113T122051Z
UID:88342-1700820000-1700830800@logisztika.hu
SUMMARY:Látogatás az Eisberg Hungary Kft. gyáli telephelyén
DESCRIPTION:Az utóbbi időben mindenki a bőrén érezhette\, hogy ami „öröknek látszott „\, az sajnos pillanatok alatt változhat\, és a biztosnak látszó üzletmenet veszélybe kerülhet. Iparágunkban ezt mi már korábban megtanultuk: Az időjárás változik\, nem csak hétről hétre hanem évek alatt is új tendenciákra kell felkészülni. E mellett az emberi\, a gazdasági\, környezeti tényezők kihívásaival nekünk is szembe kell néznünk.
URL:https://logisztika.hu/rendezveny/latogatas-az-eisberg-hungary-kft-gyali-telephelyen/
LOCATION:https://www.google.com/maps/place/Eisberg+Hungary+Kft./@47.3698441\,19.1871802\,14z/data=!4m6!3m5!1s0x4741ea4e8de8861d:0x1908f3549ab0aaf1!8m2!3d47.3698717!4d19.2050735!16s%2Fg%2F1ttq0x06?entry=ttu
CATEGORIES:Fenntarthatósági Tagozat,Tagozati program,Webinar
ATTACH;FMTTYPE=image/png:https://logisztika.hu/wp-content/uploads/2023/05/Fenntarthatosagi-tagozat-honlap-hero.png
ORGANIZER;CN="MLBKT":MAILTO:logisztika@logisztika.hu
END:VEVENT
BEGIN:VEVENT
DTSTART;TZID=Europe/Helsinki:20231129T090000
DTEND;TZID=Europe/Helsinki:20231129T110000
DTSTAMP:20260421T111144
CREATED:20231026T070244Z
LAST-MODIFIED:20231107T093051Z
UID:88011-1701248400-1701255600@logisztika.hu
SUMMARY:LogConnect for Startups 2023
DESCRIPTION:Sikeresen lezárult az MLBKT idén útjára indított\, új\, Startupok bevonását célzó pályázata. A felhívásra több\, igen érdekes megoldást kínáló vállalkozás jelentkezett\, melyből az MLBKT szakmai zsűrije a legjobbakat ki is választotta. \n\nTovább az esemény oldalára
URL:https://logisztika.hu/rendezveny/logconnect-for-startups-2023-dijatado/
LOCATION:Részletek és jelentkezés\, MS Teams
CATEGORIES:Rendezvény
ATTACH;FMTTYPE=image/png:https://logisztika.hu/wp-content/uploads/2023/10/www.logisztika.hu-297-×-210-mm-dijatado1-3.png
ORGANIZER;CN="MLBKT":MAILTO:logisztika@logisztika.hu
END:VEVENT
END:VCALENDAR