BEGIN:VCALENDAR
VERSION:2.0
PRODID:-//Magyar Logisztikai, Beszerzési és Készletezési Társaság - ECPv6.15.16//NONSGML v1.0//EN
CALSCALE:GREGORIAN
METHOD:PUBLISH
X-ORIGINAL-URL:https://logisztika.hu
X-WR-CALDESC:Események Magyar Logisztikai, Beszerzési és Készletezési Társaság
REFRESH-INTERVAL;VALUE=DURATION:PT1H
X-Robots-Tag:noindex
X-PUBLISHED-TTL:PT1H
BEGIN:VTIMEZONE
TZID:Europe/Helsinki
BEGIN:DAYLIGHT
TZOFFSETFROM:+0200
TZOFFSETTO:+0300
TZNAME:EEST
DTSTART:20230326T010000
END:DAYLIGHT
BEGIN:STANDARD
TZOFFSETFROM:+0300
TZOFFSETTO:+0200
TZNAME:EET
DTSTART:20231029T010000
END:STANDARD
BEGIN:DAYLIGHT
TZOFFSETFROM:+0200
TZOFFSETTO:+0300
TZNAME:EEST
DTSTART:20240331T010000
END:DAYLIGHT
BEGIN:STANDARD
TZOFFSETFROM:+0300
TZOFFSETTO:+0200
TZNAME:EET
DTSTART:20241027T010000
END:STANDARD
BEGIN:DAYLIGHT
TZOFFSETFROM:+0200
TZOFFSETTO:+0300
TZNAME:EEST
DTSTART:20250330T010000
END:DAYLIGHT
BEGIN:STANDARD
TZOFFSETFROM:+0300
TZOFFSETTO:+0200
TZNAME:EET
DTSTART:20251026T010000
END:STANDARD
END:VTIMEZONE
BEGIN:VEVENT
DTSTART;TZID=Europe/Helsinki:20240305T150000
DTEND;TZID=Europe/Helsinki:20240305T160000
DTSTAMP:20260420T134202
CREATED:20240220T202455Z
LAST-MODIFIED:20240226T181743Z
UID:91338-1709650800-1709654400@logisztika.hu
SUMMARY:Spórolj az útdíjon\, állásdíjon és rakodási költségeken szoftver támogatással!
DESCRIPTION:A KÁSZ\, azaz a közúti árutovábbítási szerződésekről szóló 120/2016. (VI.7.) kormányrendelet 2024. január 29-es jogszabályváltozása révén\, valamint a folyamatos útdíj változások miatt jelentős többletteher keletkezhet a fuvarozó és raktározó cégeknél.  \n\n\n\nSzoftveres Megoldások Tagozatunk 2024. március 5-én online workshopot szervez\, mely során előadóink bemutatják ezen aktuális problémákra adott megoldásaikat.  \n\n\n\nHa kíváncsi vagy hogyan tudod optimalizálni útvonal tervezésed\, miként könnyítheti meg a mesterséges intelligencia a tervezési folyamatot\, hogyan tudod minimalizálni rakodási költséged és állásdíjad\, akkor ne hagyd ki a workshopot!
URL:https://logisztika.hu/rendezveny/szoftveres-megoldasok-a-kasz-t-es-utdijat-illeto-valtozasokrol/
LOCATION:Budapest\, Markó utca 29-31.\, Markó utca 29-31.\, Budapest\, Magyarország
CATEGORIES:Rendezvény,SZOFTVERES MEGOLDÁSOK TAGOZAT,Worskhop
ATTACH;FMTTYPE=image/png:https://logisztika.hu/wp-content/uploads/2024/02/Szoftveres-Megoldasok-Tagozat-esemeny-1.png
ORGANIZER;CN="MLBKT":MAILTO:logisztika@logisztika.hu
END:VEVENT
BEGIN:VEVENT
DTSTART;TZID=Europe/Helsinki:20240305T170000
DTEND;TZID=Europe/Helsinki:20240305T183000
DTSTAMP:20260420T134202
CREATED:20240220T141927Z
LAST-MODIFIED:20240325T184852Z
UID:91246-1709658000-1709663400@logisztika.hu
SUMMARY:Könyvbemutató – Aktualitások a logisztika és ellátási lánc területen
DESCRIPTION:Az MLBKT Oktatói Tagozata 2024. március 5-én könyvbemutatót szervez\, mely során a résztvevők szélesíthetik látókörüket\, új ismereteket szerezhetnek a bemutatott könyvek megismerése révén. 
URL:https://logisztika.hu/rendezveny/konyvbemutato-aktualitasok-a-logisztika-es-ellatasilanc-teruleten/
CATEGORIES:Oktatói tagozat,Tagozati program,Webinar
ATTACH;FMTTYPE=image/png:https://logisztika.hu/wp-content/uploads/2024/02/Konyvbemutato_20240305-1.png
ORGANIZER;CN="MLBKT":MAILTO:logisztika@logisztika.hu
END:VEVENT
BEGIN:VEVENT
DTSTART;TZID=Europe/Helsinki:20240306T120000
DTEND;TZID=Europe/Helsinki:20240308T080000
DTSTAMP:20260420T134202
CREATED:20240115T125922Z
LAST-MODIFIED:20240207T152121Z
UID:89490-1709726400-1709884800@logisztika.hu
SUMMARY:STUDY TOUR ISZTAMBUL
DESCRIPTION:Egyedülálló programújdonságot kínálunk az MLBKT tagjainak és partnereinek ezzel a külföldi\, 2 napos látogatással\, ami a logisztikai szolgáltatások világába vezeti el a részvevőket\, kulturális kitekintéssel megfűszerezve Európa és Ázsia találkozásánál. \n\n\n\nSzakmai vendéglátónk és a program támogatója az EKOL. A program során ellátogatunk az Ekol Lotus elnevezésű logisztikai komplexumába\, megtekintjük a Yalova kikötői terminált és egy délutáni program keretében gyönyörködhetünk a történelmi városrész látnivalóiban.
URL:https://logisztika.hu/rendezveny/study-tour-isztambul/
CATEGORIES:Rendezvény,Vállalatlátogatás
ATTACH;FMTTYPE=image/jpeg:https://logisztika.hu/wp-content/uploads/2024/01/nyitokep.jpg
ORGANIZER;CN="MLBKT":MAILTO:logisztika@logisztika.hu
END:VEVENT
BEGIN:VEVENT
DTSTART;TZID=Europe/Helsinki:20240307T170000
DTEND;TZID=Europe/Helsinki:20240307T183000
DTSTAMP:20260420T134202
CREATED:20240220T092433Z
LAST-MODIFIED:20240220T092435Z
UID:91213-1709830800-1709836200@logisztika.hu
SUMMARY:Virtuális vállalatlátogatás a Grundfosnál
DESCRIPTION:Az MLBKT Ifjúsági Tagozata 2024. március 7-én virtuális vállalatlátogatást szervez\, mely során bemutatásra kerül a Grundfos és annak komponens üzletága\, továbbá a motorgyár vállalati logisztikája. Ezt követően egy digitális gyárbejárásra kerül sor\, ahol a raktári anyagmozgató folyamatok\, támogató rendszerek és a tervezett fejlesztések bemutatása lesz a téma. A program egy nyitott beszélgetéssel zárul\, mely során a résztvevők feltehetik kérdéseiket.  
URL:https://logisztika.hu/rendezveny/virtualis-vallalatlatogatas-a-grundfosnal/
CATEGORIES:Ifjúsági tagozat,Tagozati program,Vállalatlátogatás
ATTACH;FMTTYPE=image/png:https://logisztika.hu/wp-content/uploads/2024/02/Grundfos-vallalatlatogatas.png
ORGANIZER;CN="MLBKT":MAILTO:logisztika@logisztika.hu
END:VEVENT
BEGIN:VEVENT
DTSTART;TZID=Europe/Helsinki:20240312T093000
DTEND;TZID=Europe/Helsinki:20240312T120000
DTSTAMP:20260420T134202
CREATED:20240220T091310Z
LAST-MODIFIED:20240226T151134Z
UID:91201-1710235800-1710244800@logisztika.hu
SUMMARY:Vállalatlátogatás a Vodafone biatorbágyi raktárába - II. csoport
DESCRIPTION:A raktárlátogatás lehetőséget nyújt betekinteni a Vodafone 3400 m2-es Technológia raktárának napi működésébe. \n\n\n\nItt nincsenek mobiltelefonok\, csak hálózatépítéshez szükséges alkatrészek\, de abból rengeteg. Elmondjuk\, mik a sajátosságai egy tárgyieszköz raktárnak egy készletraktárhoz képest. \n\n\n\nMegbeszéljük\, hogyan épül fel a napi operáció\, és milyen napi szintű kihívásoknak és nehézségeknek kell megfelelnünk. Megmutatjuk\, milyen alkatrészekből épül fel egy bázisállomás\, ami a mobil lefedettséget biztosítja. \n\n\n\nMegválaszoljuk a kérdéseket\, amiket mindig fel akartál tenni a mobiltelefonokkal kapcsolatban\, de sosem merted.Szakmai napunkon megismerheted a raktár működését és az anyagáramlás adminisztrációját segítő modern\, digitalizációs megoldásokat.
URL:https://logisztika.hu/rendezveny/vallalatlatogatas-a-vodafone-biatorbagyi-raktaraba-ii-csoport/
LOCATION:Béres Gyógyszergyár Zrt Szolnok\, Nagysándor József u. 39.\, Haiti
CATEGORIES:Vállalatlátogatás
ATTACH;FMTTYPE=image/jpeg:https://logisztika.hu/wp-content/uploads/2024/02/Vallalatlatogatas-honlap_Voda2.jpg
ORGANIZER;CN="MLBKT":MAILTO:logisztika@logisztika.hu
END:VEVENT
BEGIN:VEVENT
DTSTART;TZID=Europe/Helsinki:20240312T150000
DTEND;TZID=Europe/Helsinki:20240312T160000
DTSTAMP:20260420T134202
CREATED:20240304T141033Z
LAST-MODIFIED:20240304T143025Z
UID:91806-1710255600-1710259200@logisztika.hu
SUMMARY:VILÁGSZÍNVONALÚ SUPPLY CHAIN KÉPZÉSEK
DESCRIPTION:Növeld ellátási lánccal kapcsolatos tudásod az ASCM/ APICS világvezető ellátási lánc programokkal és szerezz nemzetközi minősítést.  \n\n\n\nAz ASCM/APICS és az MLBKT közös együttműködéseként Magyarországon is elérhető képzéssorozatot hoztunk el nektek.  \n\n\n\n \n\n\n\n\n\n\n\n\n\n \n\n\n\nHa szeretnéd tudni\, hogy miért is különleges ez a program\, akkor gyere el ingyenes webináriumunkra\, ahol részletesen bemutatjuk a képzési programot\, találkozhatsz instruktorunkkal és felteheted kérdéseidet.  \n\n\n\n\n\n\n\nHelyszín: Online  \n\n\n\nRészvétel: ingyenes 
URL:https://logisztika.hu/rendezveny/vilagszinvonalu-supply-chain-kepzesek/
ATTACH;FMTTYPE=image/jpeg:https://logisztika.hu/wp-content/uploads/2024/03/APICSASCM-2.jpg
END:VEVENT
BEGIN:VEVENT
DTSTART;TZID=Europe/Helsinki:20240319T100000
DTEND;TZID=Europe/Helsinki:20240319T130000
DTSTAMP:20260420T134202
CREATED:20240221T092819Z
LAST-MODIFIED:20240325T152617Z
UID:91349-1710842400-1710853200@logisztika.hu
SUMMARY:A fenntarthatóság egy japán gyártó cég szemével
DESCRIPTION:Az MLBKT Fenntarthatósági Tagozata 2024. március 19-én vállalatlátogatást szervez a Brother szlovákiai üzemébe\, melyre szeretettel várunk minden érdeklődőt! \n\n\n\nA Brother\, mint globális gyártó cég\, kiemelt figyelmet szentel a fenntartható üzletmenetnek és a körforgásos gyártástechnológiának. Jó példája ennek a szlovákiai Krupinában található újrahasznosító és gyártó üzeme. Ismerjük meg a gyár történetét a kezdetektől a napjainkig\, milyen lépéseket tett\, és milyen beruházásokat valósított meg a Brother a zéró karbonkibocsátás és hulladékkezelés területén. Hogyan lehet az elért célkitűzésekből üzlet előnyt kovácsolni a nemzetközi piacon? Lessünk be a kulisszák mögé\, és ismerjük meg a logisztika\, gyártás\, hulladékkezelés\, környezetbarát működés folyamatait. 
URL:https://logisztika.hu/rendezveny/a-fenntarthatosag-egy-japan-gyartoceg-szemevel/
LOCATION:Budapest\, Markó utca 29-31.\, Markó utca 29-31.\, Budapest\, Magyarország
ATTACH;FMTTYPE=image/png:https://logisztika.hu/wp-content/uploads/2024/02/Tagozati-esemenyek-5-1.png
ORGANIZER;CN="MLBKT":MAILTO:logisztika@logisztika.hu
END:VEVENT
BEGIN:VEVENT
DTSTART;TZID=Europe/Helsinki:20240320T090000
DTEND;TZID=Europe/Helsinki:20240320T160000
DTSTAMP:20260420T134202
CREATED:20240219T135831Z
LAST-MODIFIED:20240325T144229Z
UID:91159-1710925200-1710950400@logisztika.hu
SUMMARY:BESZÁLLÍTÓI KOCKÁZATMENEDZSMENT
DESCRIPTION:Hogyan lehet a potenciális kockázatokat azonosítani\, struktúrába helyezni\, mérni és kezelni? \n\n\n\n \n\n\n\nMik ennek a folyamatnak a buktatói és ezeket hogyan lehet elkerülni? \n\n\n\n \n\n\n\nEzekre a kérdésekre keresünk válaszokat a résztvevőkkel közösen\, e gyakorlatokkal tarkított egynapos kurzuson.
URL:https://logisztika.hu/rendezveny/beszallitoi-kockazatmenedzsment-4/
ATTACH;FMTTYPE=image/jpeg:https://logisztika.hu/wp-content/uploads/2024/02/Besz_kockazatmenedzsment-2_HONLAPRA_640_360.jpg
END:VEVENT
BEGIN:VEVENT
DTSTART;TZID=Europe/Helsinki:20240321T090000
DTEND;TZID=Europe/Helsinki:20240321T133000
DTSTAMP:20260420T134202
CREATED:20240220T161747Z
LAST-MODIFIED:20240220T182206Z
UID:91279-1711011600-1711027800@logisztika.hu
SUMMARY:BESPOKE és COMMITTED projektzáró rendezvény
DESCRIPTION:Az MLBKT partnerként működött közre a többéves COMMITTED – azaz COMpliance of acadeMIc acTiviTies with forEign trade – projektben a BGE partnereként. Szeretettel meghívunk a projektzáró eseményre\, ahol a COMITTTED mellett egy másik projekt\, a BESPOKE eredményeivel is megismerkedhetsz. 
URL:https://logisztika.hu/rendezveny/bespoke-es-committed-projektzaro-rendezveny/
LOCATION:Budapest\, Markó utca 29-31.\, Markó utca 29-31.\, Budapest\, Magyarország
CATEGORIES:Rendezvény
ATTACH;FMTTYPE=image/png:https://logisztika.hu/wp-content/uploads/2024/02/2.png
ORGANIZER;CN="MLBKT":MAILTO:logisztika@logisztika.hu
END:VEVENT
END:VCALENDAR