BEGIN:VCALENDAR
VERSION:2.0
PRODID:-//Magyar Logisztikai, Beszerzési és Készletezési Társaság - ECPv6.15.16//NONSGML v1.0//EN
CALSCALE:GREGORIAN
METHOD:PUBLISH
X-WR-CALNAME:Magyar Logisztikai, Beszerzési és Készletezési Társaság
X-ORIGINAL-URL:https://logisztika.hu
X-WR-CALDESC:Események Magyar Logisztikai, Beszerzési és Készletezési Társaság
REFRESH-INTERVAL;VALUE=DURATION:PT1H
X-Robots-Tag:noindex
X-PUBLISHED-TTL:PT1H
BEGIN:VTIMEZONE
TZID:Europe/Helsinki
BEGIN:DAYLIGHT
TZOFFSETFROM:+0200
TZOFFSETTO:+0300
TZNAME:EEST
DTSTART:20230326T010000
END:DAYLIGHT
BEGIN:STANDARD
TZOFFSETFROM:+0300
TZOFFSETTO:+0200
TZNAME:EET
DTSTART:20231029T010000
END:STANDARD
BEGIN:DAYLIGHT
TZOFFSETFROM:+0200
TZOFFSETTO:+0300
TZNAME:EEST
DTSTART:20240331T010000
END:DAYLIGHT
BEGIN:STANDARD
TZOFFSETFROM:+0300
TZOFFSETTO:+0200
TZNAME:EET
DTSTART:20241027T010000
END:STANDARD
BEGIN:DAYLIGHT
TZOFFSETFROM:+0200
TZOFFSETTO:+0300
TZNAME:EEST
DTSTART:20250330T010000
END:DAYLIGHT
BEGIN:STANDARD
TZOFFSETFROM:+0300
TZOFFSETTO:+0200
TZNAME:EET
DTSTART:20251026T010000
END:STANDARD
END:VTIMEZONE
BEGIN:VEVENT
DTSTART;TZID=Europe/Helsinki:20240408T100000
DTEND;TZID=Europe/Helsinki:20240408T153500
DTSTAMP:20260420T120829
CREATED:20240320T113400Z
LAST-MODIFIED:20240320T133946Z
UID:92163-1712570400-1712590500@logisztika.hu
SUMMARY:Látogatás az AUDI HUNGARIA Logisztikai tervezésének világába
DESCRIPTION:Várunk szeretettel következő látogatásunk alkalmával\, ahol egy nagyon izgalmas terület a logisztikai tervezés világába léphetünk be\, méghozzá az AUDI HUNGARIA Zrt. szuper csapata vezetésével\, ahol bemutatásra kerül a teljes logisztikai folyamat.  Megtudhatjuk\, hogy a hatékony működés érdekében milyen okos megoldásokat használnak a gyártási és logisztikai folyamataikban\, mint például a konszernben egyedülállóan a motorgyárban használt okoskereszteződések. \n\n\n\nAz AUDI HUNGARIA Zrt.-ről \n\n\n\nA világ legnagyobb motorgyára\, 9010 motor elkészítésére képes naponta\, több mint 5.1 millió négyzetméteren. 5500 munkatárssal 799 beszállító közreműködésével 35 vevőt szolgálnak ki.  1998-ban indult Győben az autógyártás és ma a Q3 modellek készülnek itt.  2005-ben alakult helyben Közép-Európa legnagyobb szerszámgyára is\, ahol szerszámok\, gyártóberendezések készülnek a Volkswagen Konszern egyes modelljeihez\, valamint az Audi telephelyek számára.A programról \n\n\n\nA nap programja a bemutatkozás és szakmai előadások után a bejárással folytatódik\, ahol az  áruátvételen kezdünk\, itt bemutatják\, hogy a napi közel 4000 paletta beérkezése hogyan történik az Audi Hungariához közúton (162 LKW/nap) valamint vasúton (13 vagon/nap). \n\n\n\nAz áruátvételi folyamatok után végig követhetjük az anyagáramlást egészen a raktárakig. 2 gyártósor logisztikai anyagellátását nézhetjük meg\, ezek közül az egyik a legújabb elektromos hajtások gyártósora lesz. A két gyártósor anyagellátását több mint 50 vezető nélküli szállítóeszközzel biztosítják\, a gépek közel 1000 km-t tesznek meg egy nap. A flottát folyamatosan bővítik az új gyártósorok bevezetésével. \n\n\n\nA bejárás legvégén az árukiszállítási csarnokot tekinthetjük meg\, ahonnan a vevőkiszolgálás folyamatát ismerhetjük\, meg\, ahol az autógyárak motorokkal való ellátása történik.  Itt naponta kb. 1200 paletta került kiszállításra közúton vagy vagonon. A logisztikai felület közel 160.000 m2
URL:https://logisztika.hu/rendezveny/latogatas-az-audi-hungaria-logisztikai-tervezesenek-vilagaba/
LOCATION:Béres Gyógyszergyár Zrt Szolnok\, Nagysándor József u. 39.\, Haiti
CATEGORIES:Vállalatlátogatás
ATTACH;FMTTYPE=image/jpeg:https://logisztika.hu/wp-content/uploads/2024/03/Vallalatlatogatas-honlap1.jpg
ORGANIZER;CN="MLBKT":MAILTO:logisztika@logisztika.hu
END:VEVENT
BEGIN:VEVENT
DTSTART;TZID=Europe/Helsinki:20240409T083000
DTEND;TZID=Europe/Helsinki:20240409T173000
DTSTAMP:20260420T120829
CREATED:20240227T103708Z
LAST-MODIFIED:20240227T103836Z
UID:91577-1712651400-1712683800@logisztika.hu
SUMMARY:Lean & Green Nyílt szekció a GS1 Bridge konferencián
DESCRIPTION:2024. április 9-én a GS1 Magyarország szervezésében megvalósuló Bridge konferencia keretében\, annak egyik délutáni szekciójaként\, 14.00-15.30 között kerül megrendezésre soron következő Lean & Green Nyílt ülés.  \n\n\n\nA szekció keretein belül bemutatásra kerül a Lean & Green Program\, továbbá az érdeklődők hasznos információkat kaphatnak az ESG szempontokról és érvényesítésük módjáról a logisztikában\, valamint a zöld finanszírozás témakörét is körbejárjuk. A programot egy kerekasztal-beszélgetés zárja „Fejlesztések a fenntarthatóság érdekében” címmel.  \n\n\n\nA GS1 Bridge konferencián Lean & Green tagok ingyenesen\, az MLBKT tagok és MLBKT tagvállalatok szakemberei pedig kedvezményes áron vehetnek részt. 
URL:https://logisztika.hu/rendezveny/lean-amp-green-nyilt-szekcio-a-gs1-bridge-konferencian/
LOCATION:Budapest\, Markó utca 29-31.\, Markó utca 29-31.\, Budapest\, Magyarország
CATEGORIES:Konferencia,Rendezvény
ATTACH;FMTTYPE=image/jpeg:https://logisztika.hu/wp-content/uploads/2024/02/Fo-banner-final-optimized_honlap.jpg
ORGANIZER;CN="MLBKT":MAILTO:logisztika@logisztika.hu
END:VEVENT
BEGIN:VEVENT
DTSTART;TZID=Europe/Helsinki:20240409T160000
DTEND;TZID=Europe/Helsinki:20240409T173000
DTSTAMP:20260420T120829
CREATED:20240320T082509Z
LAST-MODIFIED:20240320T082814Z
UID:92158-1712678400-1712683800@logisztika.hu
SUMMARY:Az ESG és vonzatai - hogyan tudunk a kötelezettségből előnyt kovácsolni
DESCRIPTION:Mindenki tisztában van a vállalatok kötelezettségeivel és fenyegetettségeivel a fenntartható fejlődéssel kapcsolatban. De mi van a lehetséges előnyökkel? Hogyan lehet anyagi\, vagy marketing/image előnyt kovácsolni átgondolt tevékenységekkel? Ha már úgyis foglalkozunk kötelező mivolta miatt a kérdéssel\, miként tudjuk összehangolni annak elemeit (energetikai beruházás\, hulladékkezelés\, CSR tevékenység stb.)\, hogy ne csak a kényszer\, hanem a benefit oldalt is kihasználjuk?
URL:https://logisztika.hu/rendezveny/az-esg-es-vonzatai-hogyan-tudunk-a-kotelezettsegbol-elonyt-kovacsolni/
LOCATION:Budapest\, Markó utca 29-31.\, Markó utca 29-31.\, Budapest\, Magyarország
CATEGORIES:Fenntarthatósági Tagozat,Rendezvény,Vállalatlátogatás
ATTACH;FMTTYPE=image/png:https://logisztika.hu/wp-content/uploads/2024/03/Tagozati-esemenyek-5.png
ORGANIZER;CN="MLBKT":MAILTO:logisztika@logisztika.hu
END:VEVENT
END:VCALENDAR