BEGIN:VCALENDAR
VERSION:2.0
PRODID:-//Magyar Logisztikai, Beszerzési és Készletezési Társaság - ECPv6.15.16//NONSGML v1.0//EN
CALSCALE:GREGORIAN
METHOD:PUBLISH
X-WR-CALNAME:Magyar Logisztikai, Beszerzési és Készletezési Társaság
X-ORIGINAL-URL:https://logisztika.hu
X-WR-CALDESC:Események Magyar Logisztikai, Beszerzési és Készletezési Társaság
REFRESH-INTERVAL;VALUE=DURATION:PT1H
X-Robots-Tag:noindex
X-PUBLISHED-TTL:PT1H
BEGIN:VTIMEZONE
TZID:Europe/Helsinki
BEGIN:DAYLIGHT
TZOFFSETFROM:+0200
TZOFFSETTO:+0300
TZNAME:EEST
DTSTART:20230326T010000
END:DAYLIGHT
BEGIN:STANDARD
TZOFFSETFROM:+0300
TZOFFSETTO:+0200
TZNAME:EET
DTSTART:20231029T010000
END:STANDARD
BEGIN:DAYLIGHT
TZOFFSETFROM:+0200
TZOFFSETTO:+0300
TZNAME:EEST
DTSTART:20240331T010000
END:DAYLIGHT
BEGIN:STANDARD
TZOFFSETFROM:+0300
TZOFFSETTO:+0200
TZNAME:EET
DTSTART:20241027T010000
END:STANDARD
BEGIN:DAYLIGHT
TZOFFSETFROM:+0200
TZOFFSETTO:+0300
TZNAME:EEST
DTSTART:20250330T010000
END:DAYLIGHT
BEGIN:STANDARD
TZOFFSETFROM:+0300
TZOFFSETTO:+0200
TZNAME:EET
DTSTART:20251026T010000
END:STANDARD
END:VTIMEZONE
BEGIN:VEVENT
DTSTART;TZID=Europe/Helsinki:20241016T084500
DTEND;TZID=Europe/Helsinki:20241016T110000
DTSTAMP:20260420T120901
CREATED:20240924T080939Z
LAST-MODIFIED:20240927T075902Z
UID:98448-1729068300-1729076400@logisztika.hu
SUMMARY:Trans-Sped vállalatlátogatás - Raktári automatizáció élesben
DESCRIPTION:A Trans-Sped nagytarcsai logisztikai központjának látogatása alkalmával betekintést nyerhetünk egy kiemelkedő technikai lehetőségekkel rendelkező raktár működésébe. A raktárban munka közben figyelhetjük meg a logisztikai központ robotizált részlegét\, valamint az ügyféligények szerint kialakított\, magas értékű áruk tárolására kialakított lokációt. Emellett a Trans-Sped ZERO csomagolásmentes szállítás gyakorlati működését is megismerhetjük. A házigazdák egy szakmai kerekasztal-beszélgetéssel is készülnek a raktári automatizáció témájában\, ahol megtudhatjuk: hogyan formálják át a robotok a raktárlogisztikát és miként tudunk túllépni az automatizáció rejtett akadályain.
URL:https://logisztika.hu/rendezveny/trans-sped-vallalatlatogatas-raktari-automatizacio-elesben/
CATEGORIES:Rendezvény,Vállalatlátogatás
ATTACH;FMTTYPE=image/png:https://logisztika.hu/wp-content/uploads/2024/09/Vallalatlatogatas-honlap3-1.png
END:VEVENT
BEGIN:VEVENT
DTSTART;TZID=Europe/Helsinki:20241017T090000
DTEND;TZID=Europe/Helsinki:20241017T170000
DTSTAMP:20260420T120901
CREATED:20240628T100834Z
LAST-MODIFIED:20240709T095559Z
UID:94431-1729155600-1729184400@logisztika.hu
SUMMARY:TECHTOGETHER+ belépőjegyek early bird kedvezménnyel
DESCRIPTION:Technology human touch background\, modern remake of The Creation of Adam\n\n\n\n \n\n\n\nOktóber 17-én ismét megszervezi az autopro.hu a Magyar Gépjárműipari Egyesülettel (MAGE) közös járműipari konferenciáját a TECHTOGETHER+ rendezvény keretében. Csapj le belépőjegyedre most early-bird kedvezménnyel! \n\n\n\nKöltségprés\, megrendelés-visszaesés\, fejlesztési kényszer – nehéz helyzetbe került vállalata? A TECHTOGETHER+ három az egyben rendezvénye – járműipari konferencia\, mérnökhallgatói verseny\, szakmai kiállítás – segíthet cégeden! Vegyél részt október 17-én az eseményen\, ahol jelen és jövő találkozik!
URL:https://logisztika.hu/rendezveny/techtogether-belepojegyek-early-bird-kedvezmennyel/
LOCATION:Budapest\, Markó utca 29-31.\, Markó utca 29-31.\, Budapest\, Magyarország
CATEGORIES:Rendezvény
ATTACH;FMTTYPE=image/png:https://logisztika.hu/wp-content/uploads/2024/06/TechTogether_early-bird_2_1.png
ORGANIZER;CN="MLBKT":MAILTO:logisztika@logisztika.hu
END:VEVENT
BEGIN:VEVENT
DTSTART;TZID=Europe/Helsinki:20241022T090000
DTEND;TZID=Europe/Helsinki:20241022T143500
DTSTAMP:20260420T120901
CREATED:20240919T163055Z
LAST-MODIFIED:20240919T163058Z
UID:98361-1729587600-1729607700@logisztika.hu
SUMMARY:Jövőálló Logisztikai Megoldások: Logisztika 4.0 és automatizálás kihívások
DESCRIPTION:A Bosch miskolci telephelyén megrendezésre kerülő logisztikai konferencia a legújabb ipari és logisztikai trendeket helyezi előtérbe\, különös tekintettel az Ipar vagy Logisztika 4.0 megoldásokra és az AI technológiák jövőbeni alkalmazására. \n\n\n\nA rendezvény során a résztvevők betekintést nyerhetnek egy 100.000 m²-es raktár tervezésének kihívásaiba és megvalósításába\, megismerhetik az európai elosztóközpontok működését\, valamint a postponement tevékenységek és egyéb innovatív logisztikai megoldásokat. A workshop lehetőséget biztosít a networkingre\, valamint a helyszíni üzemlátogatásokon keresztül gyakorlati tapasztalatcserére. \n\n\n\nA program célja\, hogy elősegítse a résztvevők felkészülését a jövő kihívásaira\, miközben megalapozza a jövőbeni hatékony és fenntartható logisztikai rendszerek kialakítását.
URL:https://logisztika.hu/rendezveny/jovoallo-logisztikai-megoldasok-logisztika-4-0-es-automatizalas-kihivasok/
CATEGORIES:Logisztikai Szolgáltatói tagozat,Rendezvény,Tagozati program
ATTACH;FMTTYPE=image/png:https://logisztika.hu/wp-content/uploads/2024/09/Tagozati-esemenyek-10.png
ORGANIZER;CN="MLBKT":MAILTO:logisztika@logisztika.hu
END:VEVENT
END:VCALENDAR