BEGIN:VCALENDAR
VERSION:2.0
PRODID:-//Magyar Logisztikai, Beszerzési és Készletezési Társaság - ECPv6.15.16//NONSGML v1.0//EN
CALSCALE:GREGORIAN
METHOD:PUBLISH
X-ORIGINAL-URL:https://logisztika.hu
X-WR-CALDESC:Események Magyar Logisztikai, Beszerzési és Készletezési Társaság
REFRESH-INTERVAL;VALUE=DURATION:PT1H
X-Robots-Tag:noindex
X-PUBLISHED-TTL:PT1H
BEGIN:VTIMEZONE
TZID:Europe/Helsinki
BEGIN:DAYLIGHT
TZOFFSETFROM:+0200
TZOFFSETTO:+0300
TZNAME:EEST
DTSTART:20230326T010000
END:DAYLIGHT
BEGIN:STANDARD
TZOFFSETFROM:+0300
TZOFFSETTO:+0200
TZNAME:EET
DTSTART:20231029T010000
END:STANDARD
BEGIN:DAYLIGHT
TZOFFSETFROM:+0200
TZOFFSETTO:+0300
TZNAME:EEST
DTSTART:20240331T010000
END:DAYLIGHT
BEGIN:STANDARD
TZOFFSETFROM:+0300
TZOFFSETTO:+0200
TZNAME:EET
DTSTART:20241027T010000
END:STANDARD
BEGIN:DAYLIGHT
TZOFFSETFROM:+0200
TZOFFSETTO:+0300
TZNAME:EEST
DTSTART:20250330T010000
END:DAYLIGHT
BEGIN:STANDARD
TZOFFSETFROM:+0300
TZOFFSETTO:+0200
TZNAME:EET
DTSTART:20251026T010000
END:STANDARD
END:VTIMEZONE
BEGIN:VEVENT
DTSTART;TZID=Europe/Helsinki:20241203T090000
DTEND;TZID=Europe/Helsinki:20241203T120000
DTSTAMP:20260420T151338
CREATED:20241029T133948Z
LAST-MODIFIED:20241113T081655Z
UID:99894-1733216400-1733227200@logisztika.hu
SUMMARY:Mesterséges intelligencia a logisztikában: Gyakorlatorientált workshop a BGE Hatvani Smart Shop Floor Logisztikai Laborjában
DESCRIPTION:A Budapesti Gazdasági Egyetem (BGE) egy interaktív workshopra várja a legújabb technológiák iránt érdeklődő logisztikai szakembereket és vállalati vezetőket\, melynek fókuszában a mesterséges intelligencia gyakorlati alkalmazása áll.  \n\n\n\nA workshop célja\, hogy a résztvevők megismerkedjenek olyan hatékonyságnövelő és korszerű ipari megoldásokkal\, melyek a modern Ipar 4.0 technológiákra épülnek és megoldásokat nyújtanak a vállalatok számára saját smart factory koncepciójuk megvalósításában. A workshopon résztvevők aktív részesei lesznek a laborban zajló szimulációs gyakorlatoknak\, bemutatjuk számukra mit jelent az adatvezéreltség\, AI (Artificial Intelligence)\, genAI (Generativ AI) vagy például a quantum computing. Lehetőség lesz kipróbálni napjaink legfejlettebb technológiáit gyakorlatban\, miközben végigkísérjük az adat keletkezésének-\, tárolásának-\, majd felhasználásának útját a logisztika területén.  \n\n\n\nA programnak a BGE hatvani okoslaborja (Smart Shop Floor Labor\, SSFL) ad otthont\, mely a Robert Bosch Elektronika Kft. és a Hatvani Önkormányzat közös pályázatával elnyerte a Kulturális és Innovációs Minisztérium (KIM) által alapított Ipar 4.0 szakmai díjat 2023-ban.
URL:https://logisztika.hu/rendezveny/mesterseges-intelligencia-a-logisztikaban-gyakorlatorientalt-workshop-a-bge-hatvani-smart-shop-floor-logisztikai-laborjaban/
CATEGORIES:Oktatói tagozat,Rendezvény,Tagozati program
ATTACH;FMTTYPE=image/png:https://logisztika.hu/wp-content/uploads/2024/10/Tagozati-esemenyek-8.png
ORGANIZER;CN="MLBKT":MAILTO:logisztika@logisztika.hu
END:VEVENT
END:VCALENDAR