BEGIN:VCALENDAR
VERSION:2.0
PRODID:-//Magyar Logisztikai, Beszerzési és Készletezési Társaság - ECPv6.15.16//NONSGML v1.0//EN
CALSCALE:GREGORIAN
METHOD:PUBLISH
X-ORIGINAL-URL:https://logisztika.hu
X-WR-CALDESC:Események Magyar Logisztikai, Beszerzési és Készletezési Társaság
REFRESH-INTERVAL;VALUE=DURATION:PT1H
X-Robots-Tag:noindex
X-PUBLISHED-TTL:PT1H
BEGIN:VTIMEZONE
TZID:Europe/Helsinki
BEGIN:DAYLIGHT
TZOFFSETFROM:+0200
TZOFFSETTO:+0300
TZNAME:EEST
DTSTART:20240331T010000
END:DAYLIGHT
BEGIN:STANDARD
TZOFFSETFROM:+0300
TZOFFSETTO:+0200
TZNAME:EET
DTSTART:20241027T010000
END:STANDARD
BEGIN:DAYLIGHT
TZOFFSETFROM:+0200
TZOFFSETTO:+0300
TZNAME:EEST
DTSTART:20250330T010000
END:DAYLIGHT
BEGIN:STANDARD
TZOFFSETFROM:+0300
TZOFFSETTO:+0200
TZNAME:EET
DTSTART:20251026T010000
END:STANDARD
BEGIN:DAYLIGHT
TZOFFSETFROM:+0200
TZOFFSETTO:+0300
TZNAME:EEST
DTSTART:20260329T010000
END:DAYLIGHT
BEGIN:STANDARD
TZOFFSETFROM:+0300
TZOFFSETTO:+0200
TZNAME:EET
DTSTART:20261025T010000
END:STANDARD
END:VTIMEZONE
BEGIN:VEVENT
DTSTART;TZID=Europe/Helsinki:20250403T180000
DTEND;TZID=Europe/Helsinki:20250403T190000
DTSTAMP:20260421T072446
CREATED:20250305T135300Z
LAST-MODIFIED:20250306T074909Z
UID:103221-1743703200-1743706800@logisztika.hu
SUMMARY:Menni vagy maradni?
DESCRIPTION:A „Merre induljak? Mi legyek?” égető kérdések\, amelyekről azt hittük\, hogy az iskola- és pályaválasztásnál már letudtuk és többet nem kell ezzel a kérdéskörrel foglalkozni. Azonban egy alapdiploma megszerzésekor újra előkerülnek ezek a kérdések. \n\n\n\nHa szeretnél segítséget kapni\, szívesen meghallgatnád ki miért döntött a mester diploma mellett vagy ellen\, tarts velünk!
URL:https://logisztika.hu/rendezveny/menni-vagy-maradni/
CATEGORIES:Ifjúsági tagozat,Rendezvény,Tagozati program,Vállalatlátogatás
ATTACH;FMTTYPE=image/jpeg:https://logisztika.hu/wp-content/uploads/2025/03/Tagozati-esemenyek-3.jpg
ORGANIZER;CN="MLBKT":MAILTO:logisztika@logisztika.hu
END:VEVENT
BEGIN:VEVENT
DTSTART;TZID=Europe/Helsinki:20250409T150000
DTEND;TZID=Europe/Helsinki:20250409T210000
DTSTAMP:20260421T072446
CREATED:20250303T095121Z
LAST-MODIFIED:20250303T095124Z
UID:103156-1744210800-1744232400@logisztika.hu
SUMMARY:MLBKT Kiválóságok Díjátadó Est
DESCRIPTION:Ünnepeljünk együtt! \n\n\n\nA Logisztika Napja előestéjén\, 2025. április 9-én délután a szakma kiválóságait ünnepeljük. A nagy hagyományokkal rendelkező elismeréseinket méltó körülmények között adjuk át az Öbölház Rendezvényközpontban.
URL:https://logisztika.hu/rendezveny/mlbkt-kivalosagok-dijatado-est/
CATEGORIES:Konferencia,Rendezvény
ATTACH;FMTTYPE=image/png:https://logisztika.hu/wp-content/uploads/2025/03/Szakmai-dijatado-2025-2.png
ORGANIZER;CN="MLBKT":MAILTO:logisztika@logisztika.hu
END:VEVENT
BEGIN:VEVENT
DTSTART;TZID=Europe/Helsinki:20250410T090000
DTEND;TZID=Europe/Helsinki:20250410T170000
DTSTAMP:20260421T072446
CREATED:20250307T084047Z
LAST-MODIFIED:20250307T094734Z
UID:103266-1744275600-1744304400@logisztika.hu
SUMMARY:Logisztika Napja 2025
DESCRIPTION:2025. április 10-én ismét megnyílnak a hazai logisztikai vállalkozások kapui! Az MLBKT koordinálásával megvalósuló országos eseménysorozat ingyenes programokat kínál mindazok számára\, akik szeretnének bepillantani a szakma kulisszatitkaiba. \n\n\n\n🔷 Látogass el logisztikai központokba\, raktárakba és ipari létesítményekbe! \n\n\n\n🔷 Vegyél részt izgalmas előadásokon és interaktív bemutatókon! \n\n\n\n🔷 Ismerd meg a legújabb trendeket és technológiai fejlesztéseket! \n\n\n\nHa érdekel\, hogyan működik a logisztika a mindennapokban\, szeretnéd testközelből látni\, mi zajlik a színfalak mögött\, válogass a számos online és offline esemény közül\, és foglald le helyed a programokon!
URL:https://logisztika.hu/rendezveny/logisztika-napja-2025/
CATEGORIES:Rendezvény
ATTACH;FMTTYPE=image/jpeg:https://logisztika.hu/wp-content/uploads/2025/03/Logisztika-Napja-2025-Prezentacio.jpg
ORGANIZER;CN="MLBKT":MAILTO:logisztika@logisztika.hu
END:VEVENT
BEGIN:VEVENT
DTSTART;TZID=Europe/Helsinki:20250414T140000
DTEND;TZID=Europe/Helsinki:20250414T184000
DTSTAMP:20260421T072446
CREATED:20250320T092736Z
LAST-MODIFIED:20250320T092739Z
UID:102894-1744639200-1744656000@logisztika.hu
SUMMARY:Logisztikai Szakmai Napok 2025 – Innováció és Jövőkép a Logisztikában
DESCRIPTION:A Miskolci Egyetem Logisztikai Intézete\, az MLBKT Logisztika 4.0 és Forecasting Tagozatának társzervezésével 2025. április 14-én megrendezésre kerül a Logisztikai Szakmai Nap – Innováció és Jövőkép a Logisztikában c. rendezvény\, amelynek helyszíne a Miskolci Egyetem XXXVII. előadója. \n\n\n\nA rendezvény keretében a szakma elismert vállalati képviselői osztják meg tapasztalataikat\, bemutatva az automatizálás\, digitalizáció és modern logisztikai megoldások legújabb fejleményeit. \n\n\n\nAz esemény lehetőséget biztosít szakmai kapcsolatépítésre\, valamint az iparági szereplők és hallgatók közötti eszmecserére.
URL:https://logisztika.hu/rendezveny/logisztikai-szakmai-napok-2025-innovacio-es-jovokep-a-logisztikaban/
CATEGORIES:Logisztikai Szolgáltatói tagozat,Rendezvény,Tagozati program
ATTACH;FMTTYPE=image/jpeg:https://logisztika.hu/wp-content/uploads/2025/03/Tagozati-esemenyek-4.jpg
ORGANIZER;CN="MLBKT":MAILTO:logisztika@logisztika.hu
END:VEVENT
BEGIN:VEVENT
DTSTART;TZID=Europe/Helsinki:20250416T100000
DTEND;TZID=Europe/Helsinki:20250416T143000
DTSTAMP:20260421T072446
CREATED:20250313T130355Z
LAST-MODIFIED:20250313T131511Z
UID:103353-1744797600-1744813800@logisztika.hu
SUMMARY:JABIL vállalatlátogatás
DESCRIPTION:Látogass el a JABIL tiszaújvárosi gyárába! \n\n\n\nÚjabb izgalmas vállalatlátogatásra invitálunk benneteket\, ezúttal a JABIL tiszaújvárosi telephelyére\, amely a hazai elektronikai gyártóipar egyik meghatározó szereplője. A látogatás során a résztvevők betekintést nyerhetnek a nemrég kibővített raktárépületbe\, valamint megismerkedhetnek a 2024-ben lezárt épületbővítési projekt Jelentkezési határidő 2024.04.07. Az esemény MLBKT tagok számára ingyenes\, nem tagok 25 000 Ft + áfa térítés ellenében vehetnek részt rajta.
URL:https://logisztika.hu/rendezveny/jabil-vallalatlatogatas/
CATEGORIES:Vállalatlátogatás
ATTACH;FMTTYPE=image/jpeg:https://logisztika.hu/wp-content/uploads/2025/03/JABIL-vallalatlatogatas.jpg
END:VEVENT
END:VCALENDAR