BEGIN:VCALENDAR
VERSION:2.0
PRODID:-//Magyar Logisztikai, Beszerzési és Készletezési Társaság - ECPv6.15.16//NONSGML v1.0//EN
CALSCALE:GREGORIAN
METHOD:PUBLISH
X-ORIGINAL-URL:https://logisztika.hu
X-WR-CALDESC:Események Magyar Logisztikai, Beszerzési és Készletezési Társaság
REFRESH-INTERVAL;VALUE=DURATION:PT1H
X-Robots-Tag:noindex
X-PUBLISHED-TTL:PT1H
BEGIN:VTIMEZONE
TZID:Europe/Helsinki
BEGIN:DAYLIGHT
TZOFFSETFROM:+0200
TZOFFSETTO:+0300
TZNAME:EEST
DTSTART:20240331T010000
END:DAYLIGHT
BEGIN:STANDARD
TZOFFSETFROM:+0300
TZOFFSETTO:+0200
TZNAME:EET
DTSTART:20241027T010000
END:STANDARD
BEGIN:DAYLIGHT
TZOFFSETFROM:+0200
TZOFFSETTO:+0300
TZNAME:EEST
DTSTART:20250330T010000
END:DAYLIGHT
BEGIN:STANDARD
TZOFFSETFROM:+0300
TZOFFSETTO:+0200
TZNAME:EET
DTSTART:20251026T010000
END:STANDARD
BEGIN:DAYLIGHT
TZOFFSETFROM:+0200
TZOFFSETTO:+0300
TZNAME:EEST
DTSTART:20260329T010000
END:DAYLIGHT
BEGIN:STANDARD
TZOFFSETFROM:+0300
TZOFFSETTO:+0200
TZNAME:EET
DTSTART:20261025T010000
END:STANDARD
END:VTIMEZONE
BEGIN:VEVENT
DTSTART;TZID=Europe/Helsinki:20250514T100000
DTEND;TZID=Europe/Helsinki:20250514T170000
DTSTAMP:20260421T085643
CREATED:20250204T094445Z
LAST-MODIFIED:20250422T093153Z
UID:102707-1747216800-1747242000@logisztika.hu
SUMMARY:Beszerzési Konferencia 2025
DESCRIPTION:Kapcsolódj a szakma jövőjéről szóló eszmecserékbe! \n\n\n\n \n\n\n\nAz MLBKT\, a magyar ellátási lánc szakemberek\, logisztikusok és beszerzők legnagyobb szakmai szervezete tagozatával\, a Beszerzők és Beszerzési Vezetők Klubjával közösen\, 13. alkalommal szervezi meg egész napos\, izgalmas\, interaktív konferenciáját. Ha fontos\, hogy benne legyen a szakmai körforgásban és lépést tartson a turbulens változásokra adott legfrissebb irányokkal\, ne hagyja ki ezt az eseményt!
URL:https://logisztika.hu/rendezveny/beszerzesi-konferencia-2025/
CATEGORIES:Konferencia,Rendezvény
ATTACH;FMTTYPE=image/png:https://logisztika.hu/wp-content/uploads/2025/02/Beszerzesi-Konferencia-2025.png
ORGANIZER;CN="MLBKT":MAILTO:logisztika@logisztika.hu
END:VEVENT
BEGIN:VEVENT
DTSTART;TZID=Europe/Helsinki:20250528T100000
DTEND;TZID=Europe/Helsinki:20250528T150000
DTSTAMP:20260421T085643
CREATED:20250408T104529Z
LAST-MODIFIED:20250408T104532Z
UID:103721-1748426400-1748444400@logisztika.hu
SUMMARY:Gyárlátogatás a Contitech Fluid Automotive Hungaria Kft. váci telephelyén
DESCRIPTION:Rövid gyártörténeti prezentációt követően lehetőség nyílik a telephely logisztikájának jobb megismerésére\, illetve egyéb kapcsolódó társterületek működésének\, jó megoldásainak megtekintésére.A látogatást követően alkalom nyílik további\, kötetlen szakmai beszélgetésekre a gyár managereivel. \n\n\n\nA résztvevők megismerhetik\, hogy a gyár életében felmerült belső és külső kihívásokra milyen válaszokat adott a szervezet. \n\n\n\nA gyárlátogatás hasznos minden logisztikai és gyártási környezetben dolgozó szakembernek\, akik számára fontosa folyamatos fejlődés.
URL:https://logisztika.hu/rendezveny/gyarlatogatas-a-contitech-fluid-automotive-hungaria-kft-vaci-telephelyen/
CATEGORIES:Logisztikai Szolgáltatói tagozat,Rendezvény,Tagozati program,Vállalatlátogatás
ATTACH;FMTTYPE=image/png:https://logisztika.hu/wp-content/uploads/2025/04/contitech-latogatas.png
ORGANIZER;CN="MLBKT":MAILTO:logisztika@logisztika.hu
END:VEVENT
END:VCALENDAR