BEGIN:VCALENDAR
VERSION:2.0
PRODID:-//Magyar Logisztikai, Beszerzési és Készletezési Társaság - ECPv6.15.16//NONSGML v1.0//EN
CALSCALE:GREGORIAN
METHOD:PUBLISH
X-WR-CALNAME:Magyar Logisztikai, Beszerzési és Készletezési Társaság
X-ORIGINAL-URL:https://logisztika.hu
X-WR-CALDESC:Események Magyar Logisztikai, Beszerzési és Készletezési Társaság
REFRESH-INTERVAL;VALUE=DURATION:PT1H
X-Robots-Tag:noindex
X-PUBLISHED-TTL:PT1H
BEGIN:VTIMEZONE
TZID:Europe/Helsinki
BEGIN:DAYLIGHT
TZOFFSETFROM:+0200
TZOFFSETTO:+0300
TZNAME:EEST
DTSTART:20240331T010000
END:DAYLIGHT
BEGIN:STANDARD
TZOFFSETFROM:+0300
TZOFFSETTO:+0200
TZNAME:EET
DTSTART:20241027T010000
END:STANDARD
BEGIN:DAYLIGHT
TZOFFSETFROM:+0200
TZOFFSETTO:+0300
TZNAME:EEST
DTSTART:20250330T010000
END:DAYLIGHT
BEGIN:STANDARD
TZOFFSETFROM:+0300
TZOFFSETTO:+0200
TZNAME:EET
DTSTART:20251026T010000
END:STANDARD
BEGIN:DAYLIGHT
TZOFFSETFROM:+0200
TZOFFSETTO:+0300
TZNAME:EEST
DTSTART:20260329T010000
END:DAYLIGHT
BEGIN:STANDARD
TZOFFSETFROM:+0300
TZOFFSETTO:+0200
TZNAME:EET
DTSTART:20261025T010000
END:STANDARD
END:VTIMEZONE
BEGIN:VEVENT
DTSTART;TZID=Europe/Helsinki:20250612T120000
DTEND;TZID=Europe/Helsinki:20250612T170000
DTSTAMP:20260421T103855
CREATED:20250515T091904Z
LAST-MODIFIED:20250515T092209Z
UID:104047-1749729600-1749747600@logisztika.hu
SUMMARY:MLBKT MEET-UP a Business Festen
DESCRIPTION:Idén júniusban ismét berobban a Business Fest – az ország legnagyobb üzleti eseménye\, ahol egyetlen nap alatt 15 színpad\, több mint 6000 résztvevő és a hazai üzleti világ krémje gyűlik össze. Az MLBKT három színpadon is képviselteti magát\, ahol izgalmas\, szakmai előadásokkal készülünk. \n\n\n\nSzeretnél ott lenni velünk? Akkor írj nekünk\, és megnézzük\, hogyan kapcsolódhatunk!
URL:https://logisztika.hu/rendezveny/mlbkt-meet-up-a-business-festen/
CATEGORIES:Rendezvény
ATTACH;FMTTYPE=image/jpeg:https://logisztika.hu/wp-content/uploads/2025/05/BusinessFest-2024-1080-x-706-px-Prezentacio.jpg
ORGANIZER;CN="MLBKT":MAILTO:logisztika@logisztika.hu
END:VEVENT
END:VCALENDAR