BEGIN:VCALENDAR
VERSION:2.0
PRODID:-//Magyar Logisztikai, Beszerzési és Készletezési Társaság - ECPv6.15.16//NONSGML v1.0//EN
CALSCALE:GREGORIAN
METHOD:PUBLISH
X-WR-CALNAME:Magyar Logisztikai, Beszerzési és Készletezési Társaság
X-ORIGINAL-URL:https://logisztika.hu
X-WR-CALDESC:Események Magyar Logisztikai, Beszerzési és Készletezési Társaság
REFRESH-INTERVAL;VALUE=DURATION:PT1H
X-Robots-Tag:noindex
X-PUBLISHED-TTL:PT1H
BEGIN:VTIMEZONE
TZID:Europe/Helsinki
BEGIN:DAYLIGHT
TZOFFSETFROM:+0200
TZOFFSETTO:+0300
TZNAME:EEST
DTSTART:20240331T010000
END:DAYLIGHT
BEGIN:STANDARD
TZOFFSETFROM:+0300
TZOFFSETTO:+0200
TZNAME:EET
DTSTART:20241027T010000
END:STANDARD
BEGIN:DAYLIGHT
TZOFFSETFROM:+0200
TZOFFSETTO:+0300
TZNAME:EEST
DTSTART:20250330T010000
END:DAYLIGHT
BEGIN:STANDARD
TZOFFSETFROM:+0300
TZOFFSETTO:+0200
TZNAME:EET
DTSTART:20251026T010000
END:STANDARD
BEGIN:DAYLIGHT
TZOFFSETFROM:+0200
TZOFFSETTO:+0300
TZNAME:EEST
DTSTART:20260329T010000
END:DAYLIGHT
BEGIN:STANDARD
TZOFFSETFROM:+0300
TZOFFSETTO:+0200
TZNAME:EET
DTSTART:20261025T010000
END:STANDARD
END:VTIMEZONE
BEGIN:VEVENT
DTSTART;TZID=Europe/Helsinki:20250925T100000
DTEND;TZID=Europe/Helsinki:20250925T100000
DTSTAMP:20260421T083604
CREATED:20250903T090714Z
LAST-MODIFIED:20250930T131418Z
UID:105736-1758794400-1758794400@logisztika.hu
SUMMARY:Vámháborús logisztikai körkép – mi jöhet még?
DESCRIPTION:Szakértői kerekasztal-beszélgetés a 2025 őszi logisztikai trendekről és piaci helyzetről \n\n\n\n\n\n\n\n \n\n\n\nTrump vámháborúja alapvetően befolyásolja a piacokat\, különösen a gyorsan változó feltételrendszerével. A kereskedelmi feltételek változásaira reagálnak az ellátási láncok is. Ezeknek a változásoknak már érezzük a hatását? \, már láthatóak? \, és ha igen azok hogyan hatnak a logisztikai szolgáltatói szektorra\, mit jelent ez a forgalomra a volumenekre\, a díjakra? Mit tehetnek a szolgáltatók és mit a megbízók\, mire számítunk rövid távon? \n\n\n\n\n\n\n\nTapasztalt szakemberek osztják meg gondolataikat egy izgalmas\, őszinte beszélgetésben. 
URL:https://logisztika.hu/rendezveny/vamhaborus-logisztikai-korkep-mi-johet-meg/
ATTACH;FMTTYPE=image/jpeg:https://logisztika.hu/wp-content/uploads/2025/09/Tagozati-esemenyek-3.jpg
ORGANIZER;CN="MLBKT":MAILTO:logisztika@logisztika.hu
END:VEVENT
END:VCALENDAR