BEGIN:VCALENDAR
VERSION:2.0
PRODID:-//Magyar Logisztikai, Beszerzési és Készletezési Társaság - ECPv6.15.16//NONSGML v1.0//EN
CALSCALE:GREGORIAN
METHOD:PUBLISH
X-ORIGINAL-URL:https://logisztika.hu
X-WR-CALDESC:Események Magyar Logisztikai, Beszerzési és Készletezési Társaság
REFRESH-INTERVAL;VALUE=DURATION:PT1H
X-Robots-Tag:noindex
X-PUBLISHED-TTL:PT1H
BEGIN:VTIMEZONE
TZID:Europe/Helsinki
BEGIN:DAYLIGHT
TZOFFSETFROM:+0200
TZOFFSETTO:+0300
TZNAME:EEST
DTSTART:20250330T010000
END:DAYLIGHT
BEGIN:STANDARD
TZOFFSETFROM:+0300
TZOFFSETTO:+0200
TZNAME:EET
DTSTART:20251026T010000
END:STANDARD
BEGIN:DAYLIGHT
TZOFFSETFROM:+0200
TZOFFSETTO:+0300
TZNAME:EEST
DTSTART:20260329T010000
END:DAYLIGHT
BEGIN:STANDARD
TZOFFSETFROM:+0300
TZOFFSETTO:+0200
TZNAME:EET
DTSTART:20261025T010000
END:STANDARD
BEGIN:DAYLIGHT
TZOFFSETFROM:+0200
TZOFFSETTO:+0300
TZNAME:EEST
DTSTART:20270328T010000
END:DAYLIGHT
BEGIN:STANDARD
TZOFFSETFROM:+0300
TZOFFSETTO:+0200
TZNAME:EET
DTSTART:20271031T010000
END:STANDARD
END:VTIMEZONE
BEGIN:VEVENT
DTSTART;TZID=Europe/Helsinki:20260218T103000
DTEND;TZID=Europe/Helsinki:20260218T113000
DTSTAMP:20260421T124330
CREATED:20260130T075039Z
LAST-MODIFIED:20260205T113414Z
UID:107842-1771410600-1771414200@logisztika.hu
SUMMARY:Évindító logisztikai piaci körkép 2026
DESCRIPTION:HOGYAN FORMÁLJA AZ ÚTDÍJAK EMELKEDÉSE A SZÁLLÍTMÁNYOZÁS JÖVŐJÉT? \n\n\n\nMi várható 2026-ban a logisztikában? \n\n\n\nAz útdíjak folyamatos emelkedése alapjaiban rajzolja át a szállítási piacot – függetlenül attól\, hogy közúton\, vasúton\, tengeren vagy légi úton dolgozol. A kérdés már nem az\, hogy hatással van-e a költségekre és kapacitásokra\, hanem az\, hogyan lehet rá felkészülni. \n\n\n\nAz MLBKT Logisztikai Szolgáltatói Tagozata hagyományos évindító kerekasztal-beszélgetésén vezető iparági szakemberek osztják meg: \n\n\n\n\nmit mutat a piac most\,\n\n\n\nmilyen tanulságokat hozott az elmúlt fél év\,\n\n\n\nés mire érdemes készülni a következő időszakban.\n\n\n\n\nEz nem előadás – hanem egy őszinte\, gyakorlatias beszélgetés a valós piaci helyzetről.
URL:https://logisztika.hu/rendezveny/evindito-logisztikai-piaci-korkep-2026/
ATTACH;FMTTYPE=image/png:https://logisztika.hu/wp-content/uploads/2026/02/EVINDITO20260205.png
END:VEVENT
END:VCALENDAR