BEGIN:VCALENDAR
VERSION:2.0
PRODID:-//Magyar Logisztikai, Beszerzési és Készletezési Társaság - ECPv6.15.16//NONSGML v1.0//EN
CALSCALE:GREGORIAN
METHOD:PUBLISH
X-ORIGINAL-URL:https://logisztika.hu
X-WR-CALDESC:Események Magyar Logisztikai, Beszerzési és Készletezési Társaság
REFRESH-INTERVAL;VALUE=DURATION:PT1H
X-Robots-Tag:noindex
X-PUBLISHED-TTL:PT1H
BEGIN:VTIMEZONE
TZID:Europe/Helsinki
BEGIN:DAYLIGHT
TZOFFSETFROM:+0200
TZOFFSETTO:+0300
TZNAME:EEST
DTSTART:20250330T010000
END:DAYLIGHT
BEGIN:STANDARD
TZOFFSETFROM:+0300
TZOFFSETTO:+0200
TZNAME:EET
DTSTART:20251026T010000
END:STANDARD
BEGIN:DAYLIGHT
TZOFFSETFROM:+0200
TZOFFSETTO:+0300
TZNAME:EEST
DTSTART:20260329T010000
END:DAYLIGHT
BEGIN:STANDARD
TZOFFSETFROM:+0300
TZOFFSETTO:+0200
TZNAME:EET
DTSTART:20261025T010000
END:STANDARD
BEGIN:DAYLIGHT
TZOFFSETFROM:+0200
TZOFFSETTO:+0300
TZNAME:EEST
DTSTART:20270328T010000
END:DAYLIGHT
BEGIN:STANDARD
TZOFFSETFROM:+0300
TZOFFSETTO:+0200
TZNAME:EET
DTSTART:20271031T010000
END:STANDARD
END:VTIMEZONE
BEGIN:VEVENT
DTSTART;TZID=Europe/Helsinki:20260415T170000
DTEND;TZID=Europe/Helsinki:20260415T183000
DTSTAMP:20260421T020431
CREATED:20260318T105100Z
LAST-MODIFIED:20260318T105628Z
UID:105969-1776272400-1776277800@logisztika.hu
SUMMARY:Könyvbemutató – friss kiadványok a logisztika és ellátásilánc menedzsment területén
DESCRIPTION:  \n\n\n\nAz MLBKT Oktatói Tagozata 2026. április 15-én online könyvbemutatót szervez\, mely során a szerzők új könyveket mutatnak be. Így a résztvevők azokat megismerhetik\, potenciálisan kedvet kaphatnak az elolvasáshoz\, szélesítik látókörüket. Az Oktatói Tagozat célja\, hogy új ismeretekre hívja fel a figyelmet a logisztika és ellátási láncok területén. \n\n\n\n\n\n\n\n  \n\n\n\n\n\n\n\n  \n\n\n\n\n\n\n\n\n\n\n\n\n\n\n\n 
URL:https://logisztika.hu/rendezveny/konyvbemutato-friss-kiadvanyok-a-logisztika-es-ellatasilanc-menedzsment-teruleten-2/
CATEGORIES:Oktatói tagozat,Rendezvény,Tagozati program
ATTACH;FMTTYPE=image/png:https://logisztika.hu/wp-content/uploads/2025/09/Tagozati-esemenyek.png
ORGANIZER;CN="MLBKT":MAILTO:logisztika@logisztika.hu
END:VEVENT
BEGIN:VEVENT
DTSTART;TZID=Europe/Helsinki:20260416T090000
DTEND;TZID=Europe/Helsinki:20260416T170000
DTSTAMP:20260421T020431
CREATED:20260121T111321Z
LAST-MODIFIED:20260122T110454Z
UID:107561-1776330000-1776358800@logisztika.hu
SUMMARY:Logisztika Napja 2026
DESCRIPTION:2026. április 16-án újra megrendezésre kerül a Logisztika Napja. Immár 14 éve segítjük\, hogy megnyíljanak a magyarországi logisztikával foglalkozó helyszínek kapui és az ingyenes programjaik híre eljusson a logisztika iránt érdeklődőkhöz. \n\n\n\nNagy örömmel támogatjuk az események szervezését és hírt adunk róla minden csatornánkon. \n\n\n\nBiztatjuk eseményszervezőinket\, hogy szervezzenek fizikai\, esetleg online eseményeket\, gyárlátogatásokat\, workshopokat\, minikonferenciákat\, mutassák meg magukat az érdeklődő szakmai közönségnek.
URL:https://logisztika.hu/rendezveny/logisztika-napja-2026/
CATEGORIES:Rendezvény
ATTACH;FMTTYPE=image/png:https://logisztika.hu/wp-content/uploads/2026/01/Logisztika-Napja-2026-1-2.png
ORGANIZER;CN="MLBKT":MAILTO:logisztika@logisztika.hu
END:VEVENT
BEGIN:VEVENT
DTSTART;TZID=Europe/Helsinki:20260416T180000
DTEND;TZID=Europe/Helsinki:20260416T230000
DTSTAMP:20260421T020431
CREATED:20260130T074513Z
LAST-MODIFIED:20260210T075510Z
UID:107839-1776362400-1776380400@logisztika.hu
SUMMARY:MLBKT 35 GÁLA ÉS DÍJÁTADÓ EST
DESCRIPTION:35 ÉV SZAKMAISÁG. \n\n\n\nEmberek\, döntések\, közös utak. \n\n\n\nAz MLBKT 35 éve a szakmáról szól – de mindenekelőtt azokról az emberekről\, akik tudásukkal\, kíváncsiságukkal és együttműködésükkel formálták és formálják a magyar logisztika\, beszerzés és supply chain világát. \n\n\n\nEzen az ünnepi napon – a Logisztika Napján – megállunk egy pillanatra\, hogy elismerjük a kiemelkedő eredményeket\, átadjuk a kiválóság díjakat\, valamint találkozzunk\, együtt ünnepeljünk\, megéljük és megmutassuk\, mit jelent az MLBKT közösségéhez tartozni.
URL:https://logisztika.hu/rendezveny/mlbkt-35-gala-es-dijatado-est/
CATEGORIES:Konferencia,Rendezvény
ATTACH;FMTTYPE=image/png:https://logisztika.hu/wp-content/uploads/2025/02/Szakmai-dij-2026-Presentation.png
ORGANIZER;CN="MLBKT":MAILTO:logisztika@logisztika.hu
END:VEVENT
BEGIN:VEVENT
DTSTART;TZID=Europe/Helsinki:20260422T170000
DTEND;TZID=Europe/Helsinki:20260422T183000
DTSTAMP:20260421T020431
CREATED:20260330T083121Z
LAST-MODIFIED:20260407T091144Z
UID:107490-1776877200-1776882600@logisztika.hu
SUMMARY:Női vezetők a logisztikában
DESCRIPTION:Milyen út vezet egy vezetői pozícióig? Milyen kihívásokkal és előnyökkel jár nőként vezetőnek lenni egy alapvetően férfiak által dominált iparágban? Ki alkalmas vezetőnek\, és milyen készségek szükségesek a sikerhez? \n\n\n\nElőadásunk során őszintén és gyakorlatias szemlélettel beszélünk a női vezetői létről\, karrierépítésről\, döntési helyzetekről\, valamint a szakmai és magánélet egyensúlyáról a logisztika világában. \n\n\n\nAz esemény interaktív: bátran készüljetek kérdésekkel! Lehetőség lesz konkrét válaszokat kapni azokra a témákra\, amelyek valóban foglalkoztatnak benneteket. \n\n\n\nHa érdekel a vezetői lét\, inspirációt keresel\, vagy fejlődni szeretnél – itt a helyed!
URL:https://logisztika.hu/rendezveny/noi-vezetok-a-logisztikaban/
CATEGORIES:Ifjúsági tagozat,Rendezvény,Tagozati program
ATTACH;FMTTYPE=image/png:https://logisztika.hu/wp-content/uploads/2026/03/Noi-vezetok-a-logisztikaban-2.png
END:VEVENT
BEGIN:VEVENT
DTSTART;TZID=Europe/Helsinki:20260429T180000
DTEND;TZID=Europe/Helsinki:20260429T190000
DTSTAMP:20260421T020431
CREATED:20260325T094106Z
LAST-MODIFIED:20260325T094109Z
UID:109090-1777485600-1777489200@logisztika.hu
SUMMARY:VESZTESÉGEK FELTÁRÁSA ÉS A LEAN SZEMLÉLET EGY MÉHÉSZETI MIKROVÁLLALKOZÁSBAN
DESCRIPTION:Fedezd fel velünk\, hogyan válik a lean szemlélet valós gyakorlattá egy méhészeti mikrovállalkozásban! \n\n\n\nAz esemény egy szakdolgozati kutatáson alapul és élő példán keresztül mutatja be\, hogyan lehet felmérni egy szezonális\, manuális\, családi működésű rendszert\, feltárni a klasszikus veszteségeket\, valamint megfogalmazni gyakorlati fejlesztési javaslatokat beruházás nélkül.A lean nem a vállalkozás méretétől függ\, hanem egy gondolkodásmód: lehetővé teszi az értékteremtés maximalizálását\, a veszteségek csökkentését és a folyamatok fenntartható fejlesztését. Különösen a kis- és mikrovállalkozások számára fontos\, hogy egyszerű\, logikus és gyorsan alkalmazható módszerekkel növeljék működésük hatékonyságát és tudatosságát.
URL:https://logisztika.hu/rendezveny/vesztesegek-feltarasa-es-a-lean-szemlelet-egy-meheszeti-mikrovallalkozasban/
CATEGORIES:Lean tagozat,Rendezvény,Tagozati program
ATTACH;FMTTYPE=image/png:https://logisztika.hu/wp-content/uploads/2026/03/Tagozati-esemenyek.png
ORGANIZER;CN="MLBKT":MAILTO:logisztika@logisztika.hu
END:VEVENT
BEGIN:VEVENT
DTSTART;TZID=Europe/Helsinki:20260508T100000
DTEND;TZID=Europe/Helsinki:20260508T153000
DTSTAMP:20260421T020431
CREATED:20260407T090842Z
LAST-MODIFIED:20260407T091020Z
UID:109370-1778234400-1778254200@logisztika.hu
SUMMARY:Hell vállalatlátogatás
DESCRIPTION:Ha érdekel hogyan működik egy hazai élelmiszergyártó\, szívesen betekintenél a gyártási és logisztikai folyamataiba\, akkor mindenképpen itt a helyed. \n\n\n\nLegújabb\, az Ifjúsági Tagozat által szervezett program betekintést ad egy hazai élelmiszeripari nagyvállalat életébe\, ahol a csúcstechnológia és a hatékonyság találkozik.
URL:https://logisztika.hu/rendezveny/hell-vallalatlatogatas/
CATEGORIES:Ifjúsági tagozat,Rendezvény,Tagozati program
ATTACH;FMTTYPE=image/png:https://logisztika.hu/wp-content/uploads/2026/04/Hell-nyitokep.png
END:VEVENT
BEGIN:VEVENT
DTSTART;TZID=Europe/Helsinki:20260512T100000
DTEND;TZID=Europe/Helsinki:20260512T170000
DTSTAMP:20260421T020431
CREATED:20260121T105643Z
LAST-MODIFIED:20260122T110433Z
UID:107544-1778580000-1778605200@logisztika.hu
SUMMARY:Beszerzési Konferencia 2026
DESCRIPTION:Kapcsolódj a szakma jövőjéről szóló eszmecserékbe! \n\n\n\n \n\n\n\nAz MLBKT\, a magyar ellátási lánc szakemberek\, logisztikusok és beszerzők legnagyobb szakmai szervezete tagozatával\, a Beszerzők és Beszerzési Vezetők Klubjával közösen\, 14. alkalommal szervezi meg egész napos\, izgalmas\, interaktív konferenciáját.  \n\n\n\n \n\n\n\nHa fontos\, hogy benne legyél a szakmai körforgásban és lépést tarts a turbulens változásokra adott legfrissebb irányokkal\, ne hagyd ki ezt az eseményt!
URL:https://logisztika.hu/rendezveny/beszerzesi-konferencia-2026/
CATEGORIES:Konferencia,Rendezvény
ATTACH;FMTTYPE=image/png:https://logisztika.hu/wp-content/uploads/2026/01/Beszerzesi-Konferencia-2026-2-scaled.png
ORGANIZER;CN="MLBKT":MAILTO:logisztika@logisztika.hu
END:VEVENT
END:VCALENDAR